Workbook

Sheet งบดุลบัญชี
A1: รายการ | E1: ยกมา 1 ต.ค.58 | G1: รับจ่าย | I1: ปรับปรุง | K1: งบ ต.ค.2558 | M1: รับจ่าย พ.ย.2558 | O1: ปรับปรุง | Q1: งบ พ.ย.2558 | S1: รับจ่าย ธ.ค.2558 | U1: ปรับปรุง | W1: งบ ธ.ค.2558 | Y1: รับจ่าย ม.ค.2559 | AA1: ปรับปรุง | AC1: งบเดือน มกราคม 2559 | AE1: รับจ่าย ก.พ.2559 | AG1: ปรับปรุง | AI1: งบ ก.พ.2559 | AK1: รับ-จ่าย มี.ค.2559 | AM1: ปรับปรุง | AO1: งบ มี.ค.2559 | AQ1: รับจ่าย เม.ย.2559 | AS1: ปรับปรุง | AU1: งบ เม.ย.2559 | AW1: รับจ่าย พ.ค.2559 | AY1: ปรับปรุง | BA1: งบ พ.ค.2559 | BC1: รับจ่าย มิ.ย.2559 | BE1: ปรับปรุง | BG1: งบ มิ.ย.2559 | BI1: รับจ่าย ก.ค.2559 | BK1: ปรับปรุง | BM1: งบทดลอง ก.ค.2559 | BO1: รับจ่าย ส.ค.2559 | BQ1: ปรับปรุง | BS1: งบเดือน ส.ค.2559 | BU1: รับจ่าย ก.ย.2559 | BW1: ปรับปรุง | BY1: งบทดลองก่อนปิดบัญชี ก.ย.2559 | CA1: ปิดบัญชี | CC1: งบทดลองหลังปิดบัญชี ก.ย.2559
E2: Dr | F2: Cr | G2: Dr | H2: Cr | I2: Dr | J2: Cr | K2: Dr | L2: Cr | M2: Dr | N2: Cr | O2: Dr | P2: Cr | Q2: Dr | R2: Cr | S2: Dr | T2: Cr | U2: Dr | V2: Cr | W2: Dr | X2: Cr | Y2: Dr | Z2: Cr | AA2: Dr | AB2: Cr | AC2: Dr | AD2: Cr | AE2: Dr | AF2: Cr | AG2: Dr | AH2: Cr | AI2: Dr | AJ2: Cr | AK2: Dr | AL2: Cr | AM2: Dr | AN2: Cr | AO2: Dr | AP2: Cr | AQ2: Dr | AR2: Cr | AS2: Dr | AT2: Cr | AU2: Dr | AV2: Cr | AW2: Dr | AX2: Cr | AY2: Dr | AZ2: Cr | BA2: Dr | BB2: Cr | BC2: Dr | BD2: Cr | BE2: Dr | BF2: Cr | BG2: Dr | BH2: Cr | BI2: Dr | BJ2: Cr | BK2: Dr | BL2: Cr | BM2: Dr | BN2: Cr | BO2: Dr | BP2: Cr | BQ2: Dr | BR2: Cr | BS2: Dr | BT2: Cr | BU2: Dr | BV2: Cr | BW2: Dr | BX2: Cr | BY2: Dr | BZ2: Cr | CA2: Dr | CB2: Cr | CC2: Dr | CD2: Cr
A3: สินทรัพย์
A4: บัญชีเงินสด | E4: 0 | F4: 0 | G4: 0 | Q4: =SUM(K4+M4-N4+O4-P4) -> 0 | W4: =SUM(Q4+S4-T4+U4-V4) -> 0 | Y4: 65.95 | AC4: =SUM(W4+Y4-Z4+AA4-AB4) -> 65.95 | AE4: 5432 | AF4: 65.95 | AI4: =SUM(AC4+AE4-AF4+AG4-AH4) -> 5432 | AO4: =SUM(AI4+AK4-AL4+AM4-AN4) -> 5432 | AU4: =SUM(AO4+AQ4-AR4+AS4-AT4) -> 5432 | BA4: =SUM(AU4+AW4-AX4+AY4-AZ4) -> 5432 | BG4: =SUM(BA4+BC4-BD4+BE4-BF4) -> 5432 | BM4: =SUM(BG4+BI4-BJ4+BK4-BL4) -> 5432 | BS4: =SUM(BM4+BO4-BP4+BQ4-BR4) -> 5432 | BY4: =SUM(BS4+BU4-BV4+BW4-BX4) -> 5432 | CC4: =SUM(BW4+BY4-BZ4+CA4-CB4) -> 5432
A5: บัญชีเงินฝากธนาคาร | E5: =SUM(E6:E16) -> 30620913 | F5: =SUM(F6:F16) -> 0 | G5: =SUM(G6:G16) -> 1464017.6 | H5: =SUM(H6:H16) -> 3701715.4 | I5: =SUM(I6:I16) -> 3701715.4 | J5: =SUM(J6:J16) -> 3701715.4 | K5: =SUM(K6:K16) -> 28383216 | L5: =SUM(L6:L16) -> 0 | ... CD5: =SUM(CD6:CD16) -> 0
B6: กรุงไทย กระแสรายวัน
C7: สาขาจันดี 835-6-00451-9 | E7: 0 | H7: 1994108.6 | I7: 1994108.6 | K7: =SUM(E7+G7-H7+I7-J7) -> 0 | N7: 2098011.4 | O7: 2098011.4 | Q7: =SUM(K7+M7-N7+O7-P7) -> 0 | T7: 2240559.2 | U7: 2240559.2 | W7: =SUM(Q7+S7-T7+U7-V7) -> 0 | Z7: 1597443.6 | AA7: 1597443.6 | AC7: =SUM(W7+Y7-Z7+AA7-AB7) -> 0 | AF7: 2296794.4 | AG7: =+AF7 -> 2296794.4 | AI7: =SUM(AC7+AE7-AF7+AG7-AH7) -> 0 | AM7: =+AL7 -> 0 | AO7: =SUM(AI7+AK7-AL7+AM7-AN7) -> 0 | AU7: =SUM(AO7+AQ7-AR7+AS7-AT7) -> 0 | BA7: =SUM(AU7+AW7-AX7+AY7-AZ7) -> 0 | BG7: =SUM(BA7+BC7-BD7+BE7-BF7) -> 0 | BM7: =SUM(BG7+BI7-BJ7+BK7-BL7) -> 0 | BS7: =SUM(BM7+BO7-BP7+BQ7-BR7) -> 0 | BY7: =SUM(BS7+BU7-BV7+BW7-BX7) -> 0 | CC7: =+BY7+CA7-BZ7-CB7 -> 0
B8: ธกส. กระแสรายวัน
C9: สาขาพิปูน 815-5-00022-3 | E9: 0 | H9: 1707606.8 | I9: 1707606.8 | K9: =SUM(E9+G9-H9+I9-J9) -> 0 | N9: 3064223.6 | O9: 3064223.6 | Q9: =SUM(K9+M9-N9+O9-P9) -> 0 | T9: 2689707.5 | U9: 2689707.5 | W9: =SUM(Q9+S9-T9+U9-V9) -> 0 | Z9: 2749284.8 | AA9: =+Z9 -> 2749284.8 | AC9: =SUM(W9+Y9-Z9+AA9-AB9) -> 0 | AF9: 2285162.5 | AG9: =+AF9 -> 2285162.5 | AI9: =SUM(AC9+AE9-AF9+AG9-AH9) -> 0 | AO9: =SUM(AI9+AK9-AL9+AM9-AN9) -> 0 | AU9: =SUM(AO9+AQ9-AR9+AS9-AT9) -> 0 | BA9: =SUM(AU9+AW9-AX9+AY9-AZ9) -> 0 | BG9: =SUM(BA9+BC9-BD9+BE9-BF9) -> 0 | BM9: =SUM(BG9+BI9-BJ9+BK9-BL9) -> 0 | BS9: =SUM(BM9+BO9-BP9+BQ9-BR9) -> 0 | BY9: =SUM(BS9+BU9-BV9+BW9-BX9) -> 0 | CC9: =+BY9+CA9-BZ9-CB9 -> 0
B10: กรุงไทย ออมทรัพย์
C11: สาขาจันดี 835-0-18075-7 | E11: 22662399 | G11: 1324384.9 | J11: =+I7 -> 1994108.6 | K11: =+E11+G11-H11+I11-J11 -> 21992676 | L11: =+K11-21992675.79 -> 0 | M11: 10949308 | P11: =2207683.77+3000000 -> 5207683.8 | Q11: =SUM(K11+M11-N11+O11-P11) -> 27734300 | S11: 3451700.8 | V11: =2240559.16+8000000 -> 10240559 | W11: =SUM(Q11+S11-T11+U11-V11) -> 20945442 | Y11: 7181020.4 | AB11: 1597443.6 | AC11: =SUM(W11+Y11-Z11+AA11-AB11) -> 26529018 | AE11: 1750320.2 | AH11: 2296794.4 | AI11: =SUM(AC11+AE11-AF11+AG11-AH11) -> 25982544 | AO11: =SUM(AI11+AK11-AL11+AM11-AN11) -> 25982544 | AU11: =SUM(AO11+AQ11-AR11+AS11-AT11) -> 25982544 | BA11: =SUM(AU11+AW11-AX11+AY11-AZ11) -> 25982544 | BG11: =SUM(BA11+BC11-BD11+BE11-BF11) -> 25982544 | BM11: =SUM(BG11+BI11-BJ11+BK11-BL11) -> 25982544 | BS11: =SUM(BM11+BO11-BP11+BQ11-BR11) -> 25982544 | BY11: =SUM(BS11+BU11-BV11+BW11-BX11) -> 25982544 | CC11: =+BY11+CA11-BZ11-CB11 -> 25982544 | CE11: 24774498 | CF11: =+CE11-BS11 -> -1208045.8
B12: ธกส. ออมทรัพย์
C13: สาขาพิปูน 815-2-37037-4 | E13: 7919306.9 | G13: =139632.71-7549.96 -> 132082.75 | J13: =+I9 -> 1707606.8 | K13: =SUM(E13+G13-H13+I13-J13) -> 6343782.9 | L13: =+K13-6343782.91 -> 0 | M13: 78649.4 | O13: 3000000 | P13: 2954551.3 | Q13: =SUM(K13+M13-N13+O13-P13) -> 6467881 | S13: 95609.35 | U13: 8000000 | V13: 2689707.5 | W13: =SUM(Q13+S13-T13+U13-V13) -> 11873783 | Y13: 173383.11 | AB13: 2749284.8 | AC13: =SUM(W13+Y13-Z13+AA13-AB13) -> 9297881.2 | AE13: 202371.9 | AH13: =+AG9 -> 2285162.5 | AI13: =SUM(AC13+AE13-AF13+AG13-AH13) -> 7215090.7 | AO13: =SUM(AI13+AK13-AL13+AM13-AN13) -> 7215090.7 | AU13: =SUM(AO13+AQ13-AR13+AS13-AT13) -> 7215090.7 | BA13: =SUM(AU13+AW13-AX13+AY13-AZ13) -> 7215090.7 | BG13: =SUM(BA13+BC13-BD13+BE13-BF13) -> 7215090.7 | BM13: =SUM(BG13+BI13-BJ13+BK13-BL13) -> 7215090.7 | BS13: =SUM(BM13+BO13-BP13+BQ13-BR13) -> 7215090.7 | BY13: =SUM(BS13+BU13-BV13+BW13-BX13) -> 7215090.7 | CC13: =+BY13+CA13-BZ13-CB13 -> 7215090.7
C14: สาขาพิปูน 815-2-50915-1 | E14: 39206.98 | G14: 7549.96 | K14: =SUM(E14+G14-H14+I14-J14) -> 46756.94 | Q14: =SUM(K14+M14-N14+O14-P14) -> 46756.94 | W14: =SUM(Q14+S14-T14+U14-V14) -> 46756.94 | AC14: =SUM(W14+Y14-Z14+AA14-AB14) -> 46756.94 | AI14: =SUM(AC14+AE14-AF14+AG14-AH14) -> 46756.94 | AO14: =SUM(AI14+AK14-AL14+AM14-AN14) -> 46756.94 | AU14: =SUM(AO14+AQ14-AR14+AS14-AT14) -> 46756.94 | BA14: =SUM(AU14+AW14-AX14+AY14-AZ14) -> 46756.94 | BG14: =SUM(BA14+BC14-BD14+BE14-BF14) -> 46756.94 | BM14: =SUM(BG14+BI14-BJ14+BK14-BL14) -> 46756.94 | BS14: =SUM(BM14+BO14-BP14+BQ14-BR14) -> 46756.94 | BY14: =SUM(BS14+BU14-BV14+BW14-BX14) -> 46756.94 | CC14: =+BY14+CA14-BZ14-CB14 -> 46756.94
B15: ออมสิน ประจำ | Q15: =SUM(K15+M15-N15+O15-P15) -> 0 | W15: =SUM(Q15+S15-T15+U15-V15) -> 0 | AC15: =SUM(W15+Y15-Z15+AA15-AB15) -> 0 | AI15: =SUM(AC15+AE15-AF15+AG15-AH15) -> 0 | AO15: =SUM(AI15+AK15-AL15+AM15-AN15) -> 0 | AU15: =SUM(AO15+AQ15-AR15+AS15-AT15) -> 0 | BA15: =SUM(AU15+AW15-AX15+AY15-AZ15) -> 0 | BG15: =SUM(BA15+BC15-BD15+BE15-BF15) -> 0 | BM15: =SUM(BG15+BI15-BJ15+BK15-BL15) -> 0 | BS15: =SUM(BM15+BO15-BP15+BQ15-BR15) -> 0 | BY15: =SUM(BS15+BU15-BV15+BW15-BX15) -> 0 | CC15: =SUM(BW15+BY15-BZ15+CA15-CB15) -> 0
C16: สาขาจันดี 300003690629 | E16: 0 | Q16: =SUM(K16+M16-N16+O16-P16) -> 0 | W16: =SUM(Q16+S16-T16+U16-V16) -> 0 | AC16: =SUM(W16+Y16-Z16+AA16-AB16) -> 0 | AI16: =SUM(AC16+AE16-AF16+AG16-AH16) -> 0 | AO16: =SUM(AI16+AK16-AL16+AM16-AN16) -> 0 | AU16: =SUM(AO16+AQ16-AR16+AS16-AT16) -> 0 | BA16: =SUM(AU16+AW16-AX16+AY16-AZ16) -> 0 | BG16: =SUM(BA16+BC16-BD16+BE16-BF16) -> 0 | BM16: =SUM(BG16+BI16-BJ16+BK16-BL16) -> 0 | BS16: =SUM(BM16+BO16-BP16+BQ16-BR16) -> 0 | BY16: =SUM(BS16+BU16-BV16+BW16-BX16) -> 0 | CC16: =SUM(BW16+BY16-BZ16+CA16-CB16) -> 0
A17: เงินฝากเงินทุนส่งเสริมกิจการเทศบาล | E17: 2628811.4 | K17: =SUM(E17+G17-H17+I17-J17) -> 2628811.4 | Q17: =SUM(K17+M17-N17+O17-P17) -> 2628811.4 | S17: 433845.1 | W17: =SUM(Q17+S17-T17+U17-V17) -> 3062656.5 | AC17: =SUM(W17+Y17-Z17+AA17-AB17) -> 3062656.5 | AI17: =SUM(AC17+AE17-AF17+AG17-AH17) -> 3062656.5 | AO17: =SUM(AI17+AK17-AL17+AM17-AN17) -> 3062656.5 | AU17: =SUM(AO17+AQ17-AR17+AS17-AT17) -> 3062656.5 | BA17: =SUM(AU17+AW17-AX17+AY17-AZ17) -> 3062656.5 | BG17: =SUM(BA17+BC17-BD17+BE17-BF17) -> 3062656.5 | BM17: =SUM(BG17+BI17-BJ17+BK17-BL17) -> 3062656.5 | BS17: =SUM(BM17+BO17-BP17+BQ17-BR17) -> 3062656.5 | BY17: =SUM(BS17+BU17-BV17+BW17-BX17) -> 3062656.5 | CC17: =SUM(BW17+BY17-BZ17+CA17-CB17) -> 3062656.5
A18: ลูกหนี้เงินยืม | E18: 0 | G18: 28586 | J18: =3500+6362+1362+1362+6200 -> 18786 | K18: =SUM(E18+G18-H18+I18-J18) -> 9800 | M18: 6300 | P18: =4900+4900 -> 9800 | Q18: =SUM(K18+M18-N18+O18-P18) -> 6300 | S18: 810900 | V18: =2400+3900+807000+3900 -> 817200 | W18: =SUM(Q18+S18-T18+U18-V18) -> 0 | Y18: 918600 | Z18: 10000 | AB18: 803200 | AC18: =SUM(W18+Y18-Z18+AA18-AB18) -> 105400 | AE18: 820900 | AH18: =4800+4800+3900+35000+797200 -> 845700 | AI18: =SUM(AC18+AE18-AF18+AG18-AH18) -> 80600 | AO18: =SUM(AI18+AK18-AL18+AM18-AN18) -> 80600 | AU18: =SUM(AO18+AQ18-AR18+AS18-AT18) -> 80600 | BA18: =SUM(AU18+AW18-AX18+AY18-AZ18) -> 80600 | BG18: =SUM(BA18+BC18-BD18+BE18-BF18) -> 80600 | BM18: =SUM(BG18+BI18-BJ18+BK18-BL18) -> 80600 | BS18: =SUM(BM18+BO18-BP18+BQ18-BR18) -> 80600 | BY18: =SUM(BS18+BU18-BV18+BW18-BX18) -> 80600 | CC18: =SUM(BW18+BY18-BZ18+CA18-CB18) -> 80600
A19: รายได้จากรัฐบาลค้างรับ | H19: 32340 | I19: 32340 | K19: =SUM(E19+G19-H19+I19-J19) -> 0 | Q19: =SUM(K19+M19-N19+O19-P19) -> 0 | W19: =SUM(Q19+S19-T19+U19-V19) -> 0 | AC19: =SUM(W19+Y19-Z19+AA19-AB19) -> 0 | AI19: =SUM(AC19+AE19-AF19+AG19-AH19) -> 0 | AO19: =SUM(AI19+AK19-AL19+AM19-AN19) -> 0 | AU19: =SUM(AO19+AQ19-AR19+AS19-AT19) -> 0 | BA19: =SUM(AU19+AW19-AX19+AY19-AZ19) -> 0 | BG19: =SUM(BA19+BC19-BD19+BE19-BF19) -> 0 | BM19: =SUM(BG19+BI19-BJ19+BK19-BL19) -> 0 | BS19: =SUM(BM19+BO19-BP19+BQ19-BR19) -> 0 | BY19: =SUM(BS19+BU19-BV19+BW19-BX19) -> 0 | CC19: =SUM(BW19+BY19-BZ19+CA19-CB19) -> 0
A20: ลูกหนี้ภาษีบำรุงท้องที่ | E20: 11053.24 | K20: =SUM(E20+G20-H20+I20-J20) -> 11053.24 | Q20: =SUM(K20+M20-N20+O20-P20) -> 11053.24 | W20: =SUM(Q20+S20-T20+U20-V20) -> 11053.24 | Z20: 238.97 | AC20: =SUM(W20+Y20-Z20+AA20-AB20) -> 10814.27 | AF20: 2027.74 | AI20: =SUM(AC20+AE20-AF20+AG20-AH20) -> 8786.53 | AO20: =SUM(AI20+AK20-AL20+AM20-AN20) -> 8786.53 | AU20: =SUM(AO20+AQ20-AR20+AS20-AT20) -> 8786.53 | BA20: =SUM(AU20+AW20-AX20+AY20-AZ20) -> 8786.53 | BG20: =SUM(BA20+BC20-BD20+BE20-BF20) -> 8786.53 | BM20: =SUM(BG20+BI20-BJ20+BK20-BL20) -> 8786.53 | BS20: =SUM(BM20+BO20-BP20+BQ20-BR20) -> 8786.53 | BY20: =SUM(BS20+BU20-BV20+BW20-BX20) -> 8786.53 | CC20: =SUM(BW20+BY20-BZ20+CA20-CB20) -> 8786.53
A21: ลูกหนี้รายได้อื่นๆ | E21: 191626.86 | K21: =SUM(E21+G21-H21+I21-J21) -> 191626.86 | Q21: =SUM(K21+M21-N21+O21-P21) -> 191626.86 | W21: =SUM(Q21+S21-T21+U21-V21) -> 191626.86 | AC21: =SUM(W21+Y21-Z21+AA21-AB21) -> 191626.86 | AI21: =SUM(AC21+AE21-AF21+AG21-AH21) -> 191626.86 | AO21: =SUM(AI21+AK21-AL21+AM21-AN21) -> 191626.86 | AU21: =SUM(AO21+AQ21-AR21+AS21-AT21) -> 191626.86 | BA21: =SUM(AU21+AW21-AX21+AY21-AZ21) -> 191626.86 | BG21: =SUM(BA21+BC21-BD21+BE21-BF21) -> 191626.86 | BM21: =SUM(BG21+BI21-BJ21+BK21-BL21) -> 191626.86 | BS21: =SUM(BM21+BO21-BP21+BQ21-BR21) -> 191626.86 | BY21: =SUM(BS21+BU21-BV21+BW21-BX21) -> 191626.86 | CC21: =SUM(BW21+BY21-BZ21+CA21-CB21) -> 191626.86
A22: ลูกหนี้เงินทุนโครงการเศรษฐกิจชุมชน | E22: 231294.61 | K22: =SUM(E22+G22-H22+I22-J22) -> 231294.61 | Q22: =SUM(K22+M22-N22+O22-P22) -> 231294.61 | W22: =SUM(Q22+S22-T22+U22-V22) -> 231294.61 | AC22: =SUM(W22+Y22-Z22+AA22-AB22) -> 231294.61 | AH22: =56403.61+8500+7500 -> 72403.61 | AI22: =SUM(AC22+AE22-AF22+AG22-AH22) -> 158891 | AO22: =SUM(AI22+AK22-AL22+AM22-AN22) -> 158891 | AU22: =SUM(AO22+AQ22-AR22+AS22-AT22) -> 158891 | BA22: =SUM(AU22+AW22-AX22+AY22-AZ22) -> 158891 | BG22: =SUM(BA22+BC22-BD22+BE22-BF22) -> 158891 | BM22: =SUM(BG22+BI22-BJ22+BK22-BL22) -> 158891 | BS22: =SUM(BM22+BO22-BP22+BQ22-BR22) -> 158891 | BY22: =SUM(BS22+BU22-BV22+BW22-BX22) -> 158891 | CC22: =SUM(BW22+BY22-BZ22+CA22-CB22) -> 158891
A23: ลูกหนี้เงินยืมเงินสะสม | E23: 32340 | G23: 1088380 | J23: 32340 | K23: =SUM(E23+G23-H23+I23-J23) -> 1088380 | M23: 971200 | P23: =825600+147200+115580+147200+824000 -> 2059580 | Q23: =SUM(K23+M23-N23+O23-P23) -> 0 | S23: 1600 | V23: 1600 | W23: =SUM(Q23+S23-T23+U23-V23) -> 0 | AC23: =SUM(W23+Y23-Z23+AA23-AB23) -> 0 | AI23: =SUM(AC23+AE23-AF23+AG23-AH23) -> 0 | AO23: =SUM(AI23+AK23-AL23+AM23-AN23) -> 0 | AU23: =SUM(AO23+AQ23-AR23+AS23-AT23) -> 0 | BA23: =SUM(AU23+AW23-AX23+AY23-AZ23) -> 0 | BG23: =SUM(BA23+BC23-BD23+BE23-BF23) -> 0 | BM23: =SUM(BG23+BI23-BJ23+BK23-BL23) -> 0 | BS23: =SUM(BM23+BO23-BP23+BQ23-BR23) -> 0 | BY23: =SUM(BS23+BU23-BV23+BW23-BX23) -> 0 | CC23: =SUM(BW23+BY23-BZ23+CA23-CB23) -> 0
A24: ทรัพย์สินเกิดจากเงินกู้ | E24: 21339050 | K24: =SUM(E24+G24-H24+I24-J24) -> 21339050 | Q24: =SUM(K24+M24-N24+O24-P24) -> 21339050 | W24: =SUM(Q24+S24-T24+U24-V24) -> 21339050 | AC24: =SUM(W24+Y24-Z24+AA24-AB24) -> 21339050 | AI24: =SUM(AC24+AE24-AF24+AG24-AH24) -> 21339050 | AO24: =SUM(AI24+AK24-AL24+AM24-AN24) -> 21339050 | AU24: =SUM(AO24+AQ24-AR24+AS24-AT24) -> 21339050 | BA24: =SUM(AU24+AW24-AX24+AY24-AZ24) -> 21339050 | BG24: =SUM(BA24+BC24-BD24+BE24-BF24) -> 21339050 | BM24: =SUM(BG24+BI24-BJ24+BK24-BL24) -> 21339050 | BS24: =SUM(BM24+BO24-BP24+BQ24-BR24) -> 21339050 | BY24: =SUM(BS24+BU24-BV24+BW24-BX24) -> 21339050 | CC24: =SUM(BW24+BY24-BZ24+CA24-CB24) -> 21339050
A25: รวมสินทรัพย์ | E25: =SUM(E4:E5,E17:E24) -> 55055090 | F25: =SUM(F4:F5,F17:F24) -> 0 | G25: =SUM(G4:G5,G17:G24) -> 2580983.6 | H25: =SUM(H4:H5,H17:H24) -> 3734055.4 | I25: =SUM(I4:I5,I17:I24) -> 3734055.4 | J25: =SUM(J4:J5,J17:J24) -> 3752841.4 | K25: =SUM(K4:K5,K17:K24) -> 53883232 | L25: =SUM(L4:L5,L17:L24) -> 0 | ... CD25: =SUM(CD4:CD5,CD17:CD24) -> 0
A26: หนี้สินและเงินสะสม
A27: รายจ่ายค้างจ่าย | F27: 5354762 | G27: 1023004 | L27: =SUM(F27-G27+H27-I27+J27) -> 4331758 | M27: 1247443 | R27: =SUM(L27-M27+N27-O27+P27) -> 3084315 | S27: 1313113 | X27: =SUM(R27-S27+T27-U27+V27) -> 1771202 | Y27: 518423 | AD27: =SUM(X27-Y27+Z27-AA27+AB27) -> 1252779 | AE27: 98000 | AJ27: =SUM(AD27-AE27+AF27-AG27+AH27) -> 1154779 | AP27: =SUM(AJ27-AK27+AL27-AM27+AN27) -> 1154779 | AV27: =SUM(AP27-AQ27+AR27-AS27+AT27) -> 1154779 | BB27: =SUM(AV27-AW27+AX27-AY27+AZ27) -> 1154779 | BH27: =SUM(BB27-BC27+BD27-BE27+BF27) -> 1154779 | BN27: =SUM(BH27-BI27+BJ27-BK27+BL27) -> 1154779 | BT27: =SUM(BN27-BO27+BP27-BQ27+BR27) -> 1154779 | BZ27: =SUM(BT27-BU27+BV27-BW27+BX27) -> 1154779 | CD27: =+BZ27+CB27-BY27-CA27 -> 1154779
A28: รายจ่ายรอจ่าย | F28: 0 | L28: =SUM(F28-G28+H28-I28+J28) -> 0 | R28: =SUM(L28-M28+N28-O28+P28) -> 0 | X28: =SUM(R28-S28+T28-U28+V28) -> 0 | AD28: =SUM(X28-Y28+Z28-AA28+AB28) -> 0 | AJ28: =SUM(AD28-AE28+AF28-AG28+AH28) -> 0 | AP28: =SUM(AJ28-AK28+AL28-AM28+AN28) -> 0 | AV28: =SUM(AP28-AQ28+AR28-AS28+AT28) -> 0 | BB28: =SUM(AV28-AW28+AX28-AY28+AZ28) -> 0 | BH28: =SUM(BB28-BC28+BD28-BE28+BF28) -> 0 | BN28: =SUM(BH28-BI28+BJ28-BK28+BL28) -> 0 | BT28: =SUM(BN28-BO28+BP28-BQ28+BR28) -> 0 | BX28: 0 | BZ28: =SUM(BT28-BU28+BV28-BW28+BX28) -> 0 | CD28: =+CA28-BZ28 -> 0
F29: 0 | L29: =SUM(F29-G29+H29-I29+J29) -> 0 | R29: =SUM(L29-M29+N29-O29+P29) -> 0 | X29: =SUM(R29-S29+T29-U29+V29) -> 0 | AD29: =SUM(X29-Y29+Z29-AA29+AB29) -> 0 | AJ29: =SUM(AD29-AE29+AF29-AG29+AH29) -> 0 | AP29: =SUM(AJ29-AK29+AL29-AM29+AN29) -> 0 | AV29: =SUM(AP29-AQ29+AR29-AS29+AT29) -> 0 | BB29: =SUM(AV29-AW29+AX29-AY29+AZ29) -> 0 | BH29: =SUM(BB29-BC29+BD29-BE29+BF29) -> 0 | BN29: =SUM(BH29-BI29+BJ29-BK29+BL29) -> 0 | BT29: =SUM(BN29-BO29+BP29-BQ29+BR29) -> 0 | BZ29: =SUM(BT29-BU29+BV29-BW29+BX29) -> 0 | CD29: =+BZ29+CB29-BY29-CA29 -> 0
L30: =SUM(F30-G30+H30-I30+J30) -> 0 | R30: =SUM(L30-M30+N30-O30+P30) -> 0 | X30: =SUM(R30-S30+T30-U30+V30) -> 0 | AD30: =SUM(X30-Y30+Z30-AA30+AB30) -> 0 | AJ30: =SUM(AD30-AE30+AF30-AG30+AH30) -> 0 | AP30: =SUM(AJ30-AK30+AL30-AM30+AN30) -> 0 | AV30: =SUM(AP30-AQ30+AR30-AS30+AT30) -> 0 | BB30: =SUM(AV30-AW30+AX30-AY30+AZ30) -> 0 | BH30: =SUM(BB30-BC30+BD30-BE30+BF30) -> 0 | BN30: =SUM(BH30-BI30+BJ30-BK30+BL30) -> 0 | BT30: =SUM(BN30-BO30+BP30-BQ30+BR30) -> 0 | BZ30: =SUM(BT30-BU30+BV30-BW30+BX30) -> 0 | CD30: =SUM(BX30-BY30+BZ30-CA30+CB30) -> 0
L31: =SUM(F31-G31+H31-I31+J31) -> 0 | R31: =SUM(L31-M31+N31-O31+P31) -> 0 | X31: =SUM(R31-S31+T31-U31+V31) -> 0 | AD31: =SUM(X31-Y31+Z31-AA31+AB31) -> 0 | AJ31: =SUM(AD31-AE31+AF31-AG31+AH31) -> 0 | AP31: =SUM(AJ31-AK31+AL31-AM31+AN31) -> 0 | AV31: =SUM(AP31-AQ31+AR31-AS31+AT31) -> 0 | BB31: =SUM(AV31-AW31+AX31-AY31+AZ31) -> 0 | BH31: =SUM(BB31-BC31+BD31-BE31+BF31) -> 0 | BN31: =SUM(BH31-BI31+BJ31-BK31+BL31) -> 0 | BT31: =SUM(BN31-BO31+BP31-BQ31+BR31) -> 0 | BZ31: =SUM(BT31-BU31+BV31-BW31+BX31) -> 0 | CD31: =SUM(BX31-BY31+BZ31-CA31+CB31) -> 0
A32: บัญชีเงินรับฝาก | E32: =SUM(E33:E40) -> 0 | F32: =SUM(F33:F45) -> 1306886.4 | G32: =SUM(G33:G45) -> 297485.61 | H32: =SUM(H33:H45) -> 107120.15 | I32: =SUM(I33:I45) -> 0 | J32: =SUM(J33:J45) -> 0 | K32: =SUM(K33:K45) -> 0 | L32: =SUM(L33:L45) -> 1116520.9 | M32: =SUM(M33:M45) -> 16747.19 | ... CD32: =SUM(CD33:CD45) -> 1242539.8
B33: ภาษีหัก ณ ที่จ่าย | F33: 9023.61 | G33: 9023.61 | H33: 11632.19 | L33: =+F33+H33-G33+J33-I33 -> 11632.19 | M33: 11632.19 | N33: 16064.85 | R33: =SUM(L33-M33+N33-O33+P33) -> 16064.85 | S33: 16064.85 | T33: 12441.01 | X33: =SUM(R33-S33+T33-U33+V33) -> 12441.01 | Y33: 12441.01 | Z33: 6415.87 | AD33: =SUM(X33-Y33+Z33-AA33+AB33) -> 6415.87 | AE33: 6415.87 | AF33: 16622.33 | AJ33: =SUM(AD33-AE33+AF33-AG33+AH33) -> 16622.33 | AP33: =SUM(AJ33-AK33+AL33-AM33+AN33) -> 16622.33 | AV33: =SUM(AP33-AQ33+AR33-AS33+AT33) -> 16622.33 | BB33: =SUM(AV33-AW33+AX33-AY33+AZ33) -> 16622.33 | BH33: =SUM(BB33-BC33+BD33-BE33+BF33) -> 16622.33 | BN33: =SUM(BH33-BI33+BJ33-BK33+BL33) -> 16622.33 | BT33: =SUM(BN33-BO33+BP33-BQ33+BR33) -> 16622.33 | BZ33: =SUM(BT33-BU33+BV33-BW33+BX33) -> 16622.33 | CD33: =+BZ33+CA33-CB33 -> 16622.33
B34: ค่าใช้จ่ายในการจัดเก็บภาษีบำรุงท้องที่ | F34: 5755.16 | L34: =+F34+H34-G34+J34-I34 -> 5755.16 | M34: 0 | R34: =SUM(L34-M34+N34-O34+P34) -> 5755.16 | X34: =SUM(R34-S34+T34-U34+V34) -> 5755.16 | Z34: 66.1 | AB34: 0.02 | AD34: =SUM(X34-Y34+Z34-AA34+AB34) -> 5821.28 | AF34: 376.22 | AJ34: =SUM(AD34-AE34+AF34-AG34+AH34) -> 6197.5 | AP34: =SUM(AJ34-AK34+AL34-AM34+AN34) -> 6197.5 | AV34: =SUM(AP34-AQ34+AR34-AS34+AT34) -> 6197.5 | BB34: =SUM(AV34-AW34+AX34-AY34+AZ34) -> 6197.5 | BH34: =SUM(BB34-BC34+BD34-BE34+BF34) -> 6197.5 | BN34: =SUM(BH34-BI34+BJ34-BK34+BL34) -> 6197.5 | BT34: =SUM(BN34-BO34+BP34-BQ34+BR34) -> 6197.5 | BZ34: =SUM(BT34-BU34+BV34-BW34+BX34) -> 6197.5 | CD34: =+BZ34+CA34-CB34 -> 6197.5
B35: เงินประกันซอง | F35: 0 | L35: =+F35+H35-G35+J35-I35 -> 0 | M35: 0 | R35: =SUM(L35-M35+N35-O35+P35) -> 0 | X35: =SUM(R35-S35+T35-U35+V35) -> 0 | AD35: =SUM(X35-Y35+Z35-AA35+AB35) -> 0 | AJ35: =SUM(AD35-AE35+AF35-AG35+AH35) -> 0 | AP35: =SUM(AJ35-AK35+AL35-AM35+AN35) -> 0 | BH35: =SUM(BB35-BC35+BD35-BE35+BF35) -> 0 | BN35: =SUM(BH35-BI35+BJ35-BK35+BL35) -> 0 | BT35: =SUM(BN35-BO35+BP35-BQ35+BR35) -> 0 | BZ35: =SUM(BT35-BU35+BV35-BW35+BX35) -> 0 | CD35: =+BZ35+CA35-CB35 -> 0
B36: เงินประกันสัญญา | F36: 743904 | G36: 66910 | H36: 87938 | L36: =+F36+H36-G36+J36-I36 -> 764932 | M36: 1583 | R36: =SUM(L36-M36+N36-O36+P36) -> 763349 | S36: 6460 | T36: 26672 | X36: =SUM(R36-S36+T36-U36+V36) -> 783561 | Y36: 48290 | Z36: 101499 | AD36: =SUM(X36-Y36+Z36-AA36+AB36) -> 836770 | AE36: 9978 | AF36: 92175 | AJ36: =SUM(AD36-AE36+AF36-AG36+AH36) -> 918967 | AP36: =SUM(AJ36-AK36+AL36-AM36+AN36) -> 918967 | AV36: =SUM(AP36-AQ36+AR36-AS36+AT36) -> 918967 | BB36: =SUM(AV36-AW36+AX36-AY36+AZ36) -> 918967 | BH36: =SUM(BB36-BC36+BD36-BE36+BF36) -> 918967 | BN36: =SUM(BH36-BI36+BJ36-BK36+BL36) -> 918967 | BT36: =SUM(BN36-BO36+BP36-BQ36+BR36) -> 918967 | BZ36: =SUM(BT36-BU36+BV36-BW36+BX36) -> 918967 | CD36: =+BZ36+CA36-CB36 -> 918967
B37: ค่าตอบแทนแพทย์ระบบฉุกเฉิน (EMS) | F37: 56100 | L37: =+F37+H37-G37+J37-I37 -> 56100 | M37: 0 | R37: =SUM(L37-M37+N37-O37+P37) -> 56100 | T37: 21000 | X37: =SUM(R37-S37+T37-U37+V37) -> 77100 | AD37: =SUM(X37-Y37+Z37-AA37+AB37) -> 77100 | AJ37: =SUM(AD37-AE37+AF37-AG37+AH37) -> 77100 | AP37: =SUM(AJ37-AK37+AL37-AM37+AN37) -> 77100 | AV37: =SUM(AP37-AQ37+AR37-AS37+AT37) -> 77100 | AW37: 0 | BB37: =SUM(AV37-AW37+AX37-AY37+AZ37) -> 77100 | BH37: =SUM(BB37-BC37+BD37-BE37+BF37) -> 77100 | BN37: =SUM(BH37-BI37+BJ37-BK37+BL37) -> 77100 | BT37: =SUM(BN37-BO37+BP37-BQ37+BR37) -> 77100 | BZ37: =SUM(BT37-BU37+BV37-BW37+BX37) -> 77100 | CD37: =+BZ37+CA37-CB37 -> 77100
B38: เงินทุนโครงการเศรษฐกิจชุมชน | F38: 270501.59 | H38: 7549.96 | L38: =+F38+H38-G38+J38-I38 -> 278051.55 | M38: 0 | R38: =SUM(L38-M38+N38-O38+P38) -> 278051.55 | X38: =SUM(R38-S38+T38-U38+V38) -> 278051.55 | AD38: =SUM(X38-Y38+Z38-AA38+AB38) -> 278051.55 | AG38: =56403.61+8500+7500 -> 72403.61 | AJ38: =SUM(AD38-AE38+AF38-AG38+AH38) -> 205647.94 | AP38: =SUM(AJ38-AK38+AL38-AM38+AN38) -> 205647.94 | AV38: =SUM(AP38-AQ38+AR38-AS38+AT38) -> 205647.94 | AW38: 0 | BB38: =SUM(AV38-AW38+AX38-AY38+AZ38) -> 205647.94 | BH38: =SUM(BB38-BC38+BD38-BE38+BF38) -> 205647.94 | BL38: 0 | BN38: =SUM(BH38-BI38+BJ38-BK38+BL38) -> 205647.94 | BT38: =SUM(BN38-BO38+BP38-BQ38+BR38) -> 205647.94 | BZ38: =SUM(BT38-BU38+BV38-BW38+BX38) -> 205647.94 | CD38: =+BZ38+CA38-CB38 -> 205647.94
B39: เงินปันผล/ค่าตอบแทน จนท.สหกรณ์ | F39: 0 | L39: =+F39+H39-G39+J39-I39 -> 0 | M39: 0 | R39: =SUM(L39-M39+N39-O39+P39) -> 0 | X39: =SUM(R39-S39+T39-U39+V39) -> 0 | AD39: =SUM(X39-Y39+Z39-AA39+AB39) -> 0 | AE39: 31285.5 | AF39: 31285.5 | AJ39: =SUM(AD39-AE39+AF39-AG39+AH39) -> 0 | AP39: =SUM(AJ39-AK39+AL39-AM39+AN39) -> 0 | AV39: =SUM(AP39-AQ39+AR39-AS39+AT39) -> 0 | AW39: 0 | BB39: =SUM(AV39-AW39+AX39-AY39+AZ39) -> 0 | BH39: =SUM(BB39-BC39+BD39-BE39+BF39) -> 0 | BN39: =SUM(BH39-BI39+BJ39-BK39+BL39) -> 0 | BT39: =SUM(BN39-BO39+BP39-BQ39+BR39) -> 0 | BZ39: =SUM(BT39-BU39+BV39-BW39+BX39) -> 0 | CD39: =+BZ39+CA39-CB39 -> 0
B40: ค่ารักษาพยาบาล | F40: 50 | L40: =+F40+H40-G40+J40-I40 -> 50 | M40: 3532 | N40: 3532 | R40: =SUM(L40-M40+N40-O40+P40) -> 50 | S40: 3552 | T40: 3552 | X40: =SUM(R40-S40+T40-U40+V40) -> 50 | Z40: 582 | AD40: =SUM(X40-Y40+Z40-AA40+AB40) -> 632 | AE40: 582 | AJ40: =SUM(AD40-AE40+AF40-AG40+AH40) -> 50 | AP40: =SUM(AJ40-AK40+AL40-AM40+AN40) -> 50 | AV40: =SUM(AP40-AQ40+AR40-AS40+AT40) -> 50 | BB40: =SUM(AV40-AW40+AX40-AY40+AZ40) -> 50 | BH40: =SUM(BB40-BC40+BD40-BE40+BF40) -> 50 | BN40: =SUM(BH40-BI40+BJ40-BK40+BL40) -> 50 | BT40: =SUM(BN40-BO40+BP40-BQ40+BR40) -> 50 | BZ40: =SUM(BT40-BU40+BV40-BW40+BX40) -> 50 | CD40: =+BZ40+CB40 -> 50
B41: อื่นๆ(เงินเพิ่ม ผดด.) | Z41: 17955 | AD41: =SUM(X41-Y41+Z41-AA41+AB41) -> 17955 | AJ41: =SUM(AD41-AE41+AF41-AG41+AH41) -> 17955 | AP41: =SUM(AJ41-AK41+AL41-AM41+AN41) -> 17955 | AV41: =SUM(AP41-AQ41+AR41-AS41+AT41) -> 17955 | BB41: =SUM(AV41-AW41+AX41-AY41+AZ41) -> 17955 | BH41: =SUM(BB41-BC41+BD41-BE41+BF41) -> 17955 | BN41: =SUM(BH41-BI41+BJ41-BK41+BL41) -> 17955 | BT41: =SUM(BN41-BO41+BP41-BQ41+BR41) -> 17955 | BZ41: =SUM(BT41-BU41+BV41-BW41+BX41) -> 17955 | CD41: =+BZ41+CB41 -> 17955
B42: เงินรับฝากเงินรอคืนจังหวัด (ยาเสพติด) | F42: 50000 | G42: 50000 | L42: =+F42+H42-G42+J42-I42 -> 0 | R42: =SUM(L42-M42+N42-O42+P42) -> 0 | X42: =SUM(R42-S42+T42-U42+V42) -> 0 | AD42: =SUM(X42-Y42+Z42-AA42+AB42) -> 0 | AJ42: =SUM(AD42-AE42+AF42-AG42+AH42) -> 0 | AP42: =SUM(AJ42-AK42+AL42-AM42+AN42) -> 0 | AV42: =SUM(AP42-AQ42+AR42-AS42+AT42) -> 0 | BB42: =SUM(AV42-AW42+AX42-AY42+AZ42) -> 0 | BD42: 0 | BH42: =SUM(BB42-BC42+BD42-BE42+BF42) -> 0 | BN42: =SUM(BH42-BI42+BJ42-BK42+BL42) -> 0 | BT42: =SUM(BN42-BO42+BP42-BQ42+BR42) -> 0 | BZ42: =SUM(BT42-BU42+BV42-BW42+BX42) -> 0 | CD42: =+BZ42+CB42 -> 0
B43: เงินรับฝากเงินรอคืนจังหวัด (เบี้ยยังชีพผู้สูงอายุ) | F43: 145700 | G43: 145700 | L43: =+F43+H43-G43+J43-I43 -> 0 | R43: =SUM(L43-M43+N43-O43+P43) -> 0 | X43: =SUM(R43-S43+T43-U43+V43) -> 0 | AD43: =SUM(X43-Y43+Z43-AA43+AB43) -> 0 | AJ43: =SUM(AD43-AE43+AF43-AG43+AH43) -> 0 | AP43: =SUM(AJ43-AK43+AL43-AM43+AN43) -> 0 | AV43: =SUM(AP43-AQ43+AR43-AS43+AT43) -> 0 | BB43: =SUM(AV43-AW43+AX43-AY43+AZ43) -> 0 | BH43: =SUM(BB43-BC43+BD43-BE43+BF43) -> 0 | BN43: =SUM(BH43-BI43+BJ43-BK43+BL43) -> 0 | BT43: =SUM(BN43-BO43+BP43-BQ43+BR43) -> 0 | BZ43: =SUM(BT43-BU43+BV43-BW43+BX43) -> 0 | CD43: =+BZ43+CB43 -> 0
B44: เงินรับฝากเงินรอคืนจังหวัด (เบี้ยยังชีพคนพิการ) | F44: 15200 | G44: 15200 | L44: =+F44+H44-G44+J44-I44 -> 0 | R44: =SUM(L44-M44+N44-O44+P44) -> 0 | X44: =SUM(R44-S44+T44-U44+V44) -> 0 | AD44: =SUM(X44-Y44+Z44-AA44+AB44) -> 0 | AJ44: =SUM(AD44-AE44+AF44-AG44+AH44) -> 0 | AP44: =SUM(AJ44-AK44+AL44-AM44+AN44) -> 0 | AV44: =SUM(AP44-AQ44+AR44-AS44+AT44) -> 0 | BB44: =SUM(AV44-AW44+AX44-AY44+AZ44) -> 0 | BH44: =SUM(BB44-BC44+BD44-BE44+BF44) -> 0 | BN44: =SUM(BH44-BI44+BJ44-BK44+BL44) -> 0 | BT44: =SUM(BN44-BO44+BP44-BQ44+BR44) -> 0 | BZ44: =SUM(BT44-BU44+BV44-BW44+BX44) -> 0 | CD44: =+BZ44+CB44 -> 0
B45: เงินรับฝากเงินรอคืนจังหวัด(เงินสวัสดิการเกี่ยวกับการศึกษาบุตร) | F45: 10652 | G45: 10652 | L45: =+F45+H45-G45+J45-I45 -> 0 | R45: =SUM(L45-M45+N45-O45+P45) -> 0 | X45: =SUM(R45-S45+T45-U45+V45) -> 0 | AD45: =SUM(X45-Y45+Z45-AA45+AB45) -> 0 | AJ45: =SUM(AD45-AE45+AF45-AG45+AH45) -> 0 | AP45: =SUM(AJ45-AK45+AL45-AM45+AN45) -> 0 | AV45: =SUM(AP45-AQ45+AR45-AS45+AT45) -> 0 | BB45: =SUM(AV45-AW45+AX45-AY45+AZ45) -> 0 | BH45: =SUM(BB45-BC45+BD45-BE45+BF45) -> 0 | BN45: =SUM(BH45-BI45+BJ45-BK45+BL45) -> 0 | BO45: 0 | BT45: =SUM(BN45-BO45+BP45-BQ45+BR45) -> 0 | BZ45: =SUM(BT45-BU45+BV45-BW45+BX45) -> 0 | CD45: =+BZ45+CB45 -> 0
A46: เงินเกินบัญชี | F46: 0 | H46: 3 | I46: 3 | L46: =+F46+H46-G46+J46-I46 -> 0 | R46: =SUM(L46-M46+N46-O46+P46) -> 0 | X46: =SUM(R46-S46+T46-U46+V46) -> 0 | AD46: =SUM(X46-Y46+Z46-AA46+AB46) -> 0 | AF46: 0.51 | AG46: 0.51 | AJ46: =SUM(AD46-AE46+AF46-AG46+AH46) -> 0 | AP46: =SUM(AJ46-AK46+AL46-AM46+AN46) -> 0 | AV46: =SUM(AP46-AQ46+AR46-AS46+AT46) -> 0 | BB46: =SUM(AV46-AW46+AX46-AY46+AZ46) -> 0 | BH46: =SUM(BB46-BC46+BD46-BE46+BF46) -> 0 | BN46: =SUM(BH46-BI46+BJ46-BK46+BL46) -> 0 | BT46: =SUM(BN46-BO46+BP46-BQ46+BR46) -> 0 | BZ46: =SUM(BT46-BU46+BV46-BW46+BX46) -> 0
A47: เจ้าหนี้เงินกู้เงินทุนส่งเสริมกิจการเทศบาล | F47: 21332406 | L47: =SUM(F47-G47+H47-I47+J47) -> 21332406 | R47: =SUM(L47-M47+N47-O47+P47) -> 21332406 | X47: =SUM(R47-S47+T47-U47+V47) -> 21332406 | AD47: =SUM(X47-Y47+Z47-AA47+AB47) -> 21332406 | AJ47: =SUM(AD47-AE47+AF47-AG47+AH47) -> 21332406 | AP47: =SUM(AJ47-AK47+AL47-AM47+AN47) -> 21332406 | AV47: =SUM(AP47-AQ47+AR47-AS47+AT47) -> 21332406 | BB47: =SUM(AV47-AW47+AX47-AY47+AZ47) -> 21332406 | BH47: =SUM(BB47-BC47+BD47-BE47+BF47) -> 21332406 | BN47: =SUM(BH47-BI47+BJ47-BK47+BL47) -> 21332406 | BT47: =SUM(BN47-BO47+BP47-BQ47+BR47) -> 21332406 | BZ47: =SUM(BT47-BU47+BV47-BW47+BX47) -> 21332406 | CD47: =+BZ47+CB47-BY47-CA47 -> 21332406
A48: บัญชีเงินสะสม | F48: 12840276 | G48: 110707 | L48: =+F48+H48-G48+J48-I48 -> 12729569 | M48: 269414 | R48: =SUM(L48-M48+N48-O48+P48) -> 12460155 | S48: 246700 | T48: 23560 | X48: =SUM(R48-S48+T48-U48+V48) -> 12237015 | AD48: =SUM(X48-Y48+Z48-AA48+AB48) -> 12237015 | AE48: 1249500 | AH48: 4000 | AJ48: =SUM(AD48-AE48+AF48-AG48+AH48) -> 10991515 | AP48: =SUM(AJ48-AK48+AL48-AM48+AN48) -> 10991515 | AV48: =SUM(AP48-AQ48+AR48-AS48+AT48) -> 10991515 | BB48: =SUM(AV48-AW48+AX48-AY48+AZ48) -> 10991515 | BH48: =SUM(BB48-BC48+BD48-BE48+BF48) -> 10991515 | BN48: =SUM(BH48-BI48+BJ48-BK48+BL48) -> 10991515 | BT48: =SUM(BN48-BO48+BP48-BQ48+BR48) -> 10991515 | BZ48: =SUM(BT48-BU48+BV48-BW48+BX48) -> 10991515 | CD48: =+BZ48+CB48-CA48-CC48 -> 10991515
A49: บัญชีเงินทุนสำรองสะสม | F49: 14220760 | L49: =+F49+H49-G49+J49-I49 -> 14220760 | R49: =SUM(L49-M49+N49-O49+P49) -> 14220760 | X49: =SUM(R49-S49+T49-U49+V49) -> 14220760 | AD49: =SUM(X49-Y49+Z49-AA49+AB49) -> 14220760 | AJ49: =SUM(AD49-AE49+AF49-AG49+AH49) -> 14220760 | AP49: =SUM(AJ49-AK49+AL49-AM49+AN49) -> 14220760 | AV49: =SUM(AP49-AQ49+AR49-AS49+AT49) -> 14220760 | BB49: =SUM(AV49-AW49+AX49-AY49+AZ49) -> 14220760 | BH49: =SUM(BB49-BC49+BD49-BE49+BF49) -> 14220760 | BN49: =SUM(BH49-BI49+BJ49-BK49+BL49) -> 14220760 | BT49: =SUM(BN49-BO49+BP49-BQ49+BR49) -> 14220760 | BZ49: =SUM(BT49-BU49+BV49-BW49+BX49) -> 14220760 | CD49: =+BZ49+CB49-CA49-CC49 -> 14220760
A52: รวมหนี้สินและเงินสะสม | E52: =SUM(E27:E31,E32,E48:E51) -> 0 | F52: =SUM(F27:F31,F32,F46:F51) -> 55055090 | G52: =SUM(G27:G31,G32,G46:G51) -> 1431196.6 | H52: =SUM(H27:H31,H32,H46:H51) -> 107123.15 | I52: =SUM(I27:I31,I32,I46:I51) -> 3 | J52: =SUM(J27:J31,J32,J46:J51) -> 0 | K52: =SUM(K27:K31,K32,K46:K51) -> 0 | L52: =SUM(L27:L31,L32,L46:L51) -> 53731013 | M52: =SUM(M27:M31,M32,M46:M51) -> 1533604.2 | ... CD52: =SUM(CD27:CD31,CD32,CD46:CD51) -> 48941999 | CE52: =+CD52-CC25 -> -9149435.8
A53: รายรับ
A54: รายได้จัดเก็บเอง | E54: =SUM(E55,E59,E73,E77,E79,E83) -> 0 | F54: =SUM(F55,F59,F73,F77,F79,F83) -> 0 | G54: =SUM(G55,G59,G73,G77,G79,G83) -> 0 | H54: =SUM(H55,H59,H73,H77,H79,H83) -> 44141.75 | I54: =SUM(I55,I59,I73,I77,I79,I83) -> 0 | J54: =SUM(J55,J59,J73,J77,J79,J83) -> 3 | K54: =SUM(K55,K59,K73,K77,K79,K83) -> 0 | L54: =SUM(L55,L59,L73,L77,L79,L83) -> 44144.75 | ... CD54: =SUM(CD55,CD59,CD73,CD77,CD79,CD83) -> 644804.58
B55: หมวดภาษีอากร | E55: =SUM(E56:E58) -> 0 | F55: =SUM(F56:F58) -> 0 | G55: =SUM(G56:G58) -> 0 | H55: =SUM(H56:H58) -> 0 | I55: =SUM(I56:I58) -> 0 | J55: =SUM(J56:J58) -> 0 | K55: =SUM(K56:K58) -> 0 | L55: =SUM(L56:L58) -> 0 | ... CD55: =SUM(CD56:CD58) -> 91758.73
C56: ภาษีโรงเรือนและที่ดิน | L56: =SUM(F56-G56+H56-I56+J56) -> 0 | R56: =SUM(L56-M56+N56-O56+P56) -> 0 | X56: =SUM(R56-S56+T56-U56+V56) -> 0 | Z56: =13011.42-100.42 -> 12911 | AD56: =SUM(X56-Y56+Z56-AA56+AB56) -> 12911 | AF56: 68995.5 | AJ56: =SUM(AD56-AE56+AF56-AG56+AH56) -> 81906.5 | AP56: =SUM(AJ56-AK56+AL56-AM56+AN56) -> 81906.5 | AV56: =SUM(AP56-AQ56+AR56-AS56+AT56) -> 81906.5 | AX56: 0 | BB56: =SUM(AV56-AW56+AX56-AY56+AZ56) -> 81906.5 | BH56: =SUM(BB56-BC56+BD56-BE56+BF56) -> 81906.5 | BN56: =SUM(BH56-BI56+BJ56-BK56+BL56) -> 81906.5 | BT56: =SUM(BN56-BO56+BP56-BQ56+BR56) -> 81906.5 | BZ56: =SUM(BT56-BU56+BV56-BW56+BX56) -> 81906.5 | CD56: =+BZ56-CA56 -> 81906.5
C57: ภาษีบำรุงท้องที่ | L57: =SUM(F57-G57+H57-I57+J57) -> 0 | R57: =SUM(L57-M57+N57-O57+P57) -> 0 | X57: =SUM(R57-S57+T57-U57+V57) -> 0 | Z57: 1016.99 | AA57: 0.02 | AD57: =SUM(X57-Y57+Z57-AA57+AB57) -> 1016.97 | AF57: 5119.26 | AJ57: =SUM(AD57-AE57+AF57-AG57+AH57) -> 6136.23 | AP57: =SUM(AJ57-AK57+AL57-AM57+AN57) -> 6136.23 | AV57: =SUM(AP57-AQ57+AR57-AS57+AT57) -> 6136.23 | BB57: =SUM(AV57-AW57+AX57-AY57+AZ57) -> 6136.23 | BH57: =SUM(BB57-BC57+BD57-BE57+BF57) -> 6136.23 | BN57: =SUM(BH57-BI57+BJ57-BK57+BL57) -> 6136.23 | BT57: =SUM(BN57-BO57+BP57-BQ57+BR57) -> 6136.23 | BZ57: =SUM(BT57-BU57+BV57-BW57+BX57) -> 6136.23 | CD57: =+BZ57+CB57-CA57 -> 6136.23
C58: ภาษีป้าย | L58: =SUM(F58-G58+H58-I58+J58) -> 0 | R58: =SUM(L58-M58+N58-O58+P58) -> 0 | X58: =SUM(R58-S58+T58-U58+V58) -> 0 | Z58: 288 | AD58: =SUM(X58-Y58+Z58-AA58+AB58) -> 288 | AF58: 3428 | AJ58: =SUM(AD58-AE58+AF58-AG58+AH58) -> 3716 | AP58: =SUM(AJ58-AK58+AL58-AM58+AN58) -> 3716 | AV58: =SUM(AP58-AQ58+AR58-AS58+AT58) -> 3716 | AX58: 0 | BB58: =SUM(AV58-AW58+AX58-AY58+AZ58) -> 3716 | BH58: =SUM(BB58-BC58+BD58-BE58+BF58) -> 3716 | BJ58: 0 | BN58: =SUM(BH58-BI58+BJ58-BK58+BL58) -> 3716 | BT58: =SUM(BN58-BO58+BP58-BQ58+BR58) -> 3716 | BZ58: =SUM(BT58-BU58+BV58-BW58+BX58) -> 3716 | CD58: =SUM(BX58-BY58+BZ58-CA58+CB58) -> 3716
B59: หมวดค่าธรรมเนียม ค่าปรับและใบอนุญาต | E59: =SUM(E60:E71) -> 0 | F59: =SUM(F60:F71) -> 0 | G59: =SUM(G60:G71) -> 0 | H59: =SUM(H60:H72) -> 22491.75 | I59: =SUM(I60:I72) -> 0 | J59: =SUM(J60:J72) -> 0 | K59: =SUM(K60:K72) -> 0 | L59: =SUM(L60:L72) -> 22491.75 | M59: =SUM(M60:M72) -> 0 | N59: =SUM(N60:N72) -> 18929.4 | O59: =SUM(O60:O72) -> 0 | ... CD59: =SUM(CD60:CD72) -> 94028.82
C60: ค่าธรรมเนียมใบอนุญาตขายสุรา | L60: =SUM(F60-G60+H60-I60+J60) -> 0 | N60: 0 | R60: =SUM(L60-M60+N60-O60+P60) -> 0 | X60: =SUM(R60-S60+T60-U60+V60) -> 0 | Z60: 19.4 | AD60: =SUM(X60-Y60+Z60-AA60+AB60) -> 19.4 | AF60: 737.2 | AJ60: =SUM(AD60-AE60+AF60-AG60+AH60) -> 756.6 | AL60: 0 | AP60: =SUM(AJ60-AK60+AL60-AM60+AN60) -> 756.6 | AV60: =SUM(AP60-AQ60+AR60-AS60+AT60) -> 756.6 | AX60: 0 | BB60: =SUM(AV60-AW60+AX60-AY60+AZ60) -> 756.6 | BD60: 0 | BH60: =SUM(BB60-BC60+BD60-BE60+BF60) -> 756.6 | BN60: =SUM(BH60-BI60+BJ60-BK60+BL60) -> 756.6 | BT60: =SUM(BN60-BO60+BP60-BQ60+BR60) -> 756.6 | BZ60: =SUM(BT60-BU60+BV60-BW60+BX60) -> 756.6 | CD60: =+BZ60+CB60-CA60 -> 756.6
C61: ค่าธรรมเนียมเก็บและขนขยะมูลฝอย | H61: 20600 | L61: =SUM(F61-G61+H61-I61+J61) -> 20600 | N61: 15920 | R61: =SUM(L61-M61+N61-O61+P61) -> 36520 | T61: 20020 | X61: =SUM(R61-S61+T61-U61+V61) -> 56540 | Z61: 14480 | AD61: =SUM(X61-Y61+Z61-AA61+AB61) -> 71020 | AF61: 12260 | AJ61: =SUM(AD61-AE61+AF61-AG61+AH61) -> 83280 | AP61: =SUM(AJ61-AK61+AL61-AM61+AN61) -> 83280 | AV61: =SUM(AP61-AQ61+AR61-AS61+AT61) -> 83280 | BB61: =SUM(AV61-AW61+AX61-AY61+AZ61) -> 83280 | BH61: =SUM(BB61-BC61+BD61-BE61+BF61) -> 83280 | BN61: =SUM(BH61-BI61+BJ61-BK61+BL61) -> 83280 | BT61: =SUM(BN61-BO61+BP61-BQ61+BR61) -> 83280 | BZ61: =SUM(BT61-BU61+BV61-BW61+BX61) -> 83280 | CD61: =+BZ61+CB61-CA61 -> 83280
C62: ค่าธรรมเนียมออกหนังสือรับรองการแจ้งสถานที่จำหน่ายอาหาร | L62: =SUM(F62-G62+H62-I62+J62) -> 0 | R62: =SUM(L62-M62+N62-O62+P62) -> 0 | X62: =SUM(R62-S62+T62-U62+V62) -> 0 | Z62: 0 | AD62: =SUM(X62-Y62+Z62-AA62+AB62) -> 0 | AF62: 150 | AJ62: =SUM(AD62-AE62+AF62-AG62+AH62) -> 150 | AP62: =SUM(AJ62-AK62+AL62-AM62+AN62) -> 150 | AV62: =SUM(AP62-AQ62+AR62-AS62+AT62) -> 150 | AX62: 0 | BB62: =SUM(AV62-AW62+AX62-AY62+AZ62) -> 150 | BH62: =SUM(BB62-BC62+BD62-BE62+BF62) -> 150 | BN62: =SUM(BH62-BI62+BJ62-BK62+BL62) -> 150 | BT62: =SUM(BN62-BO62+BP62-BQ62+BR62) -> 150 | BZ62: =SUM(BT62-BU62+BV62-BW62+BX62) -> 150 | CD62: =+BZ62+CB62-CA62 -> 150
C63: ค่าธรรมเนียมเกี่ยวกับทะเบียนราษฎร | H63: 180 | L63: =SUM(F63-G63+H63-I63+J63) -> 180 | N63: 420 | R63: =SUM(L63-M63+N63-O63+P63) -> 600 | T63: 300 | X63: =SUM(R63-S63+T63-U63+V63) -> 900 | Z63: 310 | AD63: =SUM(X63-Y63+Z63-AA63+AB63) -> 1210 | AF63: 220 | AJ63: =SUM(AD63-AE63+AF63-AG63+AH63) -> 1430 | AP63: =SUM(AJ63-AK63+AL63-AM63+AN63) -> 1430 | AV63: =SUM(AP63-AQ63+AR63-AS63+AT63) -> 1430 | BB63: =SUM(AV63-AW63+AX63-AY63+AZ63) -> 1430 | BH63: =SUM(BB63-BC63+BD63-BE63+BF63) -> 1430 | BN63: =SUM(BH63-BI63+BJ63-BK63+BL63) -> 1430 | BT63: =SUM(BN63-BO63+BP63-BQ63+BR63) -> 1430 | BZ63: =SUM(BT63-BU63+BV63-BW63+BX63) -> 1430 | CD63: =+BZ63+CB63-CA63 -> 1430
C64: ค่าธรรมเนียมจดทะเบียนพาณิชย์ | H64: 100 | L64: =SUM(F64-G64+H64-I64+J64) -> 100 | N64: 70 | R64: =SUM(L64-M64+N64-O64+P64) -> 170 | X64: =SUM(R64-S64+T64-U64+V64) -> 170 | Z64: 0 | AD64: =SUM(X64-Y64+Z64-AA64+AB64) -> 170 | AF64: 0 | AJ64: =SUM(AD64-AE64+AF64-AG64+AH64) -> 170 | AP64: =SUM(AJ64-AK64+AL64-AM64+AN64) -> 170 | AV64: =SUM(AP64-AQ64+AR64-AS64+AT64) -> 170 | AX64: 0 | BB64: =SUM(AV64-AW64+AX64-AY64+AZ64) -> 170 | BH64: =SUM(BB64-BC64+BD64-BE64+BF64) -> 170 | BN64: =SUM(BH64-BI64+BJ64-BK64+BL64) -> 170 | BT64: =SUM(BN64-BO64+BP64-BQ64+BR64) -> 170 | BZ64: =SUM(BT64-BU64+BV64-BW64+BX64) -> 170 | CD64: =+BZ64+CB64-CA64 -> 170
C65: ค่าธรรมเนียมอื่นๆ (ขอใช้น้ำประปา) | H65: 40 | L65: =SUM(F65-G65+H65-I65+J65) -> 40 | N65: 60 | R65: =SUM(L65-M65+N65-O65+P65) -> 100 | T65: 80 | X65: =SUM(R65-S65+T65-U65+V65) -> 180 | Z65: 20 | AD65: =SUM(X65-Y65+Z65-AA65+AB65) -> 200 | AF65: 100 | AJ65: =SUM(AD65-AE65+AF65-AG65+AH65) -> 300 | AP65: =SUM(AJ65-AK65+AL65-AM65+AN65) -> 300 | AV65: =SUM(AP65-AQ65+AR65-AS65+AT65) -> 300 | AX65: 0 | BB65: =SUM(AV65-AW65+AX65-AY65+AZ65) -> 300 | BH65: =SUM(BB65-BC65+BD65-BE65+BF65) -> 300 | BN65: =SUM(BH65-BI65+BJ65-BK65+BL65) -> 300 | BT65: =SUM(BN65-BO65+BP65-BQ65+BR65) -> 300 | BZ65: =SUM(BT65-BU65+BV65-BW65+BX65) -> 300 | CD65: =+BZ65+CB65-CA65 -> 300
C66: ค่าปรับผู้กระทำผิดกฎหมายจราจรทางบก | L66: =SUM(F66-G66+H66-I66+J66) -> 0 | R66: =SUM(L66-M66+N66-O66+P66) -> 0 | X66: =SUM(R66-S66+T66-U66+V66) -> 0 | Z66: 0 | AD66: =SUM(X66-Y66+Z66-AA66+AB66) -> 0 | AF66: 0 | AJ66: =SUM(AD66-AE66+AF66-AG66+AH66) -> 0 | AP66: =SUM(AJ66-AK66+AL66-AM66+AN66) -> 0 | AV66: =SUM(AP66-AQ66+AR66-AS66+AT66) -> 0 | AX66: 0 | BB66: =SUM(AV66-AW66+AX66-AY66+AZ66) -> 0 | BH66: =SUM(BB66-BC66+BD66-BE66+BF66) -> 0 | BJ66: 0 | BN66: =SUM(BH66-BI66+BJ66-BK66+BL66) -> 0 | BT66: =SUM(BN66-BO66+BP66-BQ66+BR66) -> 0 | BV66: 0 | BZ66: =SUM(BT66-BU66+BV66-BW66+BX66) -> 0 | CD66: =+BZ66+CB66-CA66 -> 0
C67: ค่าปรับผิดสัญญา | L67: =SUM(F67-G67+H67-I67+J67) -> 0 | N67: 2355 | R67: =SUM(L67-M67+N67-O67+P67) -> 2355 | T67: 1800 | X67: =SUM(R67-S67+T67-U67+V67) -> 4155 | Z67: 0 | AD67: =SUM(X67-Y67+Z67-AA67+AB67) -> 4155 | AF67: 0 | AJ67: =SUM(AD67-AE67+AF67-AG67+AH67) -> 4155 | AP67: =SUM(AJ67-AK67+AL67-AM67+AN67) -> 4155 | AV67: =SUM(AP67-AQ67+AR67-AS67+AT67) -> 4155 | AX67: 0 | BB67: =SUM(AV67-AW67+AX67-AY67+AZ67) -> 4155 | BH67: =SUM(BB67-BC67+BD67-BE67+BF67) -> 4155 | BJ67: 0 | BN67: =SUM(BH67-BI67+BJ67-BK67+BL67) -> 4155 | BT67: =SUM(BN67-BO67+BP67-BQ67+BR67) -> 4155 | BV67: 0 | BZ67: =SUM(BT67-BU67+BV67-BW67+BX67) -> 4155 | CD67: =+BZ67+CB67-CA67 -> 4155
C68: ค่าใบอนุญาตกิจการค้าสำหรับกิจการที่เป็นอันตรายต่อสุขภาพ | H68: 1500 | L68: =SUM(F68-G68+H68-I68+J68) -> 1500 | R68: =SUM(L68-M68+N68-O68+P68) -> 1500 | T68: 1000 | X68: =SUM(R68-S68+T68-U68+V68) -> 2500 | Z68: 400 | AD68: =SUM(X68-Y68+Z68-AA68+AB68) -> 2900 | AF68: 200 | AJ68: =SUM(AD68-AE68+AF68-AG68+AH68) -> 3100 | AP68: =SUM(AJ68-AK68+AL68-AM68+AN68) -> 3100 | AV68: =SUM(AP68-AQ68+AR68-AS68+AT68) -> 3100 | AX68: 0 | BB68: =SUM(AV68-AW68+AX68-AY68+AZ68) -> 3100 | BH68: =SUM(BB68-BC68+BD68-BE68+BF68) -> 3100 | BN68: =SUM(BH68-BI68+BJ68-BK68+BL68) -> 3100 | BT68: =SUM(BN68-BO68+BP68-BQ68+BR68) -> 3100 | BZ68: =SUM(BT68-BU68+BV68-BW68+BX68) -> 3100 | CD68: =+BZ68+CB68-CA68 -> 3100
C69: ค่าใบอนุญาตจัดตั้งสถานที่จำหน่ายอาหารซึ่งมีพื่นที่เกิน 200 ตร.ม. | L69: =SUM(F69-G69+H69-I69+J69) -> 0 | R69: =SUM(L69-M69+N69-O69+P69) -> 0 | X69: =SUM(R69-S69+T69-U69+V69) -> 0 | Z69: 0 | AD69: =SUM(X69-Y69+Z69-AA69+AB69) -> 0 | AF69: 0 | AJ69: =SUM(AD69-AE69+AF69-AG69+AH69) -> 0 | AP69: =SUM(AJ69-AK69+AL69-AM69+AN69) -> 0 | AV69: =SUM(AP69-AQ69+AR69-AS69+AT69) -> 0 | AX69: 0 | BB69: =SUM(AV69-AW69+AX69-AY69+AZ69) -> 0 | BH69: =SUM(BB69-BC69+BD69-BE69+BF69) -> 0 | BN69: =SUM(BH69-BI69+BJ69-BK69+BL69) -> 0 | BT69: =SUM(BN69-BO69+BP69-BQ69+BR69) -> 0 | BZ69: =SUM(BT69-BU69+BV69-BW69+BX69) -> 0 | CD69: =+BZ69+CB69-CA69 -> 0
C70: ค่าใบอนุญาตจัดตั้งตลาดเอกชน | L70: =SUM(F70-G70+H70-I70+J70) -> 0 | R70: =SUM(L70-M70+N70-O70+P70) -> 0 | X70: =SUM(R70-S70+T70-U70+V70) -> 0 | Z70: 0 | AD70: =SUM(X70-Y70+Z70-AA70+AB70) -> 0 | AF70: 0 | AJ70: =SUM(AD70-AE70+AF70-AG70+AH70) -> 0 | AP70: =SUM(AJ70-AK70+AL70-AM70+AN70) -> 0 | AV70: =SUM(AP70-AQ70+AR70-AS70+AT70) -> 0 | BB70: =SUM(AV70-AW70+AX70-AY70+AZ70) -> 0 | BH70: =SUM(BB70-BC70+BD70-BE70+BF70) -> 0 | BJ70: 0 | BN70: =SUM(BH70-BI70+BJ70-BK70+BL70) -> 0 | BT70: =SUM(BN70-BO70+BP70-BQ70+BR70) -> 0 | BZ70: =SUM(BT70-BU70+BV70-BW70+BX70) -> 0 | CD70: =+BZ70+CB70-CA70 -> 0
C71: ค่าธรรมเนียมโฆษณาใช้เครื่องขยายเสียง | H71: 0 | L71: =SUM(F71-G71+H71-I71+J71) -> 0 | R71: =SUM(L71-M71+N71-O71+P71) -> 0 | X71: =SUM(R71-S71+T71-U71+V71) -> 0 | Z71: 0 | AD71: =SUM(X71-Y71+Z71-AA71+AB71) -> 0 | AF71: 0 | AJ71: =SUM(AD71-AE71+AF71-AG71+AH71) -> 0 | AP71: =SUM(AJ71-AK71+AL71-AM71+AN71) -> 0 | AV71: =SUM(AP71-AQ71+AR71-AS71+AT71) -> 0 | BB71: =SUM(AV71-AW71+AX71-AY71+AZ71) -> 0 | BH71: =SUM(BB71-BC71+BD71-BE71+BF71) -> 0 | BN71: =SUM(BH71-BI71+BJ71-BK71+BL71) -> 0 | BT71: =SUM(BN71-BO71+BP71-BQ71+BR71) -> 0 | BZ71: =SUM(BT71-BU71+BV71-BW71+BX71) -> 0 | CD71: =+BZ71+CB71-CA71 -> 0
C72: ค่าใบอนุญาตเกี่ยวกับการควบคุมอาคาร | H72: 71.75 | L72: =SUM(F72-G72+H72-I72+J72) -> 71.75 | N72: 104.4 | R72: =SUM(L72-M72+N72-O72+P72) -> 176.15 | T72: 342.35 | X72: =SUM(R72-S72+T72-U72+V72) -> 518.5 | Z72: 89 | AD72: =SUM(X72-Y72+Z72-AA72+AB72) -> 607.5 | AF72: 79.72 | AJ72: =SUM(AD72-AE72+AF72-AG72+AH72) -> 687.22 | AP72: =SUM(AJ72-AK72+AL72-AM72+AN72) -> 687.22 | AV72: =SUM(AP72-AQ72+AR72-AS72+AT72) -> 687.22 | BB72: =SUM(AV72-AW72+AX72-AY72+AZ72) -> 687.22 | BH72: =SUM(BB72-BC72+BD72-BE72+BF72) -> 687.22 | BN72: =SUM(BH72-BI72+BJ72-BK72+BL72) -> 687.22 | BT72: =SUM(BN72-BO72+BP72-BQ72+BR72) -> 687.22 | BZ72: =SUM(BT72-BU72+BV72-BW72+BX72) -> 687.22 | CD72: =+BZ72+CB72-CA72 -> 687.22
B73: หมวดรายได้จากทรัพย์สิน | E73: =SUM(E74:E76) -> 0 | F73: =SUM(F74:F76) -> 0 | G73: =SUM(G74:G76) -> 0 | H73: =SUM(H74:H76) -> 0 | I73: =SUM(I74:I76) -> 0 | J73: =SUM(J74:J76) -> 0 | K73: =SUM(K74:K76) -> 0 | L73: =SUM(L74:L76) -> 0 | ... N73: =SUM(N74:N76) -> 0 | Q73: =SUM(Q74:Q76) -> 0 | R73: =SUM(R74:R76) -> 0 | S73: =SUM(S74:S76) -> 0 | T73: =SUM(T74:T76) -> 0 | W73: =SUM(W74:W76) -> 0 | X73: =SUM(X74:X76) -> 0 | Y73: =SUM(Y74:Y76) -> 0 | Z73: =SUM(Z74:Z76) -> 100021.11 | AC73: =SUM(AC74:AC76) -> 0 | AD73: =SUM(AD74:AD76) -> 100021.11 | AE73: =SUM(AE74:AE76) -> 0 | AF73: =SUM(AF74:AF76) -> 0 | AI73: =SUM(AI74:AI76) -> 0 | AJ73: =SUM(AJ74:AJ76) -> 100021.11 | AK73: =SUM(AK74:AK76) -> 0 | AL73: =SUM(AL74:AL76) -> 0 | AO73: =SUM(AO74:AO76) -> 0 | AP73: =SUM(AP74:AP76) -> 100021.11 | AQ73: =SUM(AQ74:AQ76) -> 0 | AR73: =SUM(AR74:AR76) -> 0 | AU73: =SUM(AU74:AU76) -> 0 | AV73: =SUM(AV74:AV76) -> 100021.11 | AW73: =SUM(AW74:AW76) -> 0 | AX73: =SUM(AX74:AX76) -> 0 | AY73: =SUM(AY74:AY76) -> 0 | AZ73: =SUM(AZ74:AZ76) -> 0 | BA73: =SUM(BA74:BA76) -> 0 | BB73: =SUM(BB74:BB76) -> 100021.11 | ... BD73: =SUM(BD74:BD76) -> 0 | BG73: =SUM(BG74:BG76) -> 0 | BH73: =SUM(BH74:BH76) -> 100021.11 | BI73: =SUM(BI74:BI76) -> 0 | BJ73: =SUM(BJ74:BJ76) -> 0 | BM73: =SUM(BM74:BM76) -> 0 | BN73: =SUM(BN74:BN76) -> 100021.11 | BO73: =SUM(BO74:BO76) -> 0 | BP73: =SUM(BP74:BP76) -> 0 | BS73: =SUM(BS74:BS76) -> 0 | BT73: =SUM(BT74:BT76) -> 100021.11 | BU73: =SUM(BU74:BU76) -> 0 | BV73: =SUM(BV74:BV76) -> 0 | BY73: =SUM(BY74:BY76) -> 0 | BZ73: =SUM(BZ74:BZ76) -> 100021.11 | CA73: =SUM(CA74:CA76) -> 0 | CB73: =SUM(CB74:CB76) -> 0 | CC73: =SUM(CC74:CC76) -> 0 | CD73: =SUM(CD74:CD76) -> 100021.11
C74: ค่าเช่าหรือบริการสถานที่ | L74: =SUM(F74-G74+H74-I74+J74) -> 0 | R74: =SUM(L74-M74+N74-O74+P74) -> 0 | X74: =SUM(R74-S74+T74-U74+V74) -> 0 | Z74: 0 | AD74: =SUM(X74-Y74+Z74-AA74+AB74) -> 0 | AE74: 0 | AJ74: =SUM(AD74-AE74+AF74-AG74+AH74) -> 0 | AP74: =SUM(AJ74-AK74+AL74-AM74+AN74) -> 0 | AV74: =SUM(AP74-AQ74+AR74-AS74+AT74) -> 0 | AX74: 0 | BB74: =SUM(AV74-AW74+AX74-AY74+AZ74) -> 0 | BH74: =SUM(BB74-BC74+BD74-BE74+BF74) -> 0 | BJ74: 0 | BN74: =SUM(BH74-BI74+BJ74-BK74+BL74) -> 0 | BT74: =SUM(BN74-BO74+BP74-BQ74+BR74) -> 0 | BZ74: =SUM(BT74-BU74+BV74-BW74+BX74) -> 0 | CD74: =+BZ74+CB74-CA74 -> 0
C75: ดอกเบี้ยเงินฝากธนาคาร | L75: =SUM(F75-G75+H75-I75+J75) -> 0 | R75: =SUM(L75-M75+N75-O75+P75) -> 0 | X75: =SUM(R75-S75+T75-U75+V75) -> 0 | Z75: 100021.11 | AD75: =SUM(X75-Y75+Z75-AA75+AB75) -> 100021.11 | AE75: 0 | AJ75: =SUM(AD75-AE75+AF75-AG75+AH75) -> 100021.11 | AP75: =SUM(AJ75-AK75+AL75-AM75+AN75) -> 100021.11 | AV75: =SUM(AP75-AQ75+AR75-AS75+AT75) -> 100021.11 | AX75: 0 | BB75: =SUM(AV75-AW75+AX75-AY75+AZ75) -> 100021.11 | BH75: =SUM(BB75-BC75+BD75-BE75+BF75) -> 100021.11 | BJ75: 0 | BN75: =SUM(BH75-BI75+BJ75-BK75+BL75) -> 100021.11 | BT75: =SUM(BN75-BO75+BP75-BQ75+BR75) -> 100021.11 | BZ75: =SUM(BT75-BU75+BV75-BW75+BX75) -> 100021.11 | CD75: =+BZ75+CB75-CA75 -> 100021.11
C76: ดอกเบี้ยเงินฝาก กสท. | L76: =SUM(F76-G76+H76-I76+J76) -> 0 | R76: =SUM(L76-M76+N76-O76+P76) -> 0 | X76: =SUM(R76-S76+T76-U76+V76) -> 0 | Z76: 0 | AD76: =SUM(X76-Y76+Z76-AA76+AB76) -> 0 | AE76: 0 | AJ76: =SUM(AD76-AE76+AF76-AG76+AH76) -> 0 | AP76: =SUM(AJ76-AK76+AL76-AM76+AN76) -> 0 | AR76: 0 | AV76: =SUM(AP76-AQ76+AR76-AS76+AT76) -> 0 | AX76: 0 | BB76: =SUM(AV76-AW76+AX76-AY76+AZ76) -> 0 | BH76: =SUM(BB76-BC76+BD76-BE76+BF76) -> 0 | BJ76: 0 | BN76: =SUM(BH76-BI76+BJ76-BK76+BL76) -> 0 | BT76: =SUM(BN76-BO76+BP76-BQ76+BR76) -> 0 | BZ76: =SUM(BT76-BU76+BV76-BW76+BX76) -> 0 | CD76: =+BZ76+CB76-CA76 -> 0
B77: หมวดรายได้จากสาธารณูปโภคและการพาณิชย์ | E77: =SUM(E78) -> 0 | F77: =SUM(F78) -> 0 | G77: =SUM(G78) -> 0 | H77: =SUM(H78) -> 21545 | I77: =SUM(I78) -> 0 | J77: =SUM(J78) -> 0 | K77: =SUM(K78) -> 0 | L77: =SUM(L78) -> 21545 | ... N77: =SUM(N78) -> 31535 | Q77: =SUM(Q78) -> 0 | R77: =SUM(R78) -> 53080 | S77: =SUM(S78) -> 0 | T77: =SUM(T78) -> 19635 | W77: =SUM(W78) -> 0 | X77: =SUM(X78) -> 72715 | Y77: =SUM(Y78) -> 0 | Z77: =SUM(Z78) -> 29920 | AC77: =SUM(AC78) -> 0 | AD77: =SUM(AD78) -> 102635 | AE77: =SUM(AE78) -> 0 | AF77: =SUM(AF78) -> 18510 | AI77: =SUM(AI78) -> 0 | AJ77: =SUM(AJ78) -> 121145 | AK77: =SUM(AK78) -> 0 | AL77: =SUM(AL78) -> 0 | AO77: =SUM(AO78) -> 0 | AP77: =SUM(AP78) -> 121145 | AQ77: =SUM(AQ78) -> 0 | AR77: =SUM(AR78) -> 0 | AU77: =SUM(AU78) -> 0 | AV77: =SUM(AV78) -> 121145 | AW77: =SUM(AW78) -> 0 | AX77: =SUM(AX78) -> 0 | AY77: =SUM(AY78) -> 0 | AZ77: =SUM(AZ78) -> 0 | BA77: =SUM(BA78) -> 0 | BB77: =SUM(BB78) -> 121145 | ... BD77: =SUM(BD78) -> 0 | BG77: =SUM(BG78) -> 0 | BH77: =SUM(BH78) -> 121145 | BI77: =SUM(BI78) -> 0 | BJ77: =SUM(BJ78) -> 0 | BM77: =SUM(BM78) -> 0 | BN77: =SUM(BN78) -> 121145 | BO77: =SUM(BO78) -> 0 | BP77: =SUM(BP78) -> 0 | BS77: =SUM(BS78) -> 0 | BT77: =SUM(BT78) -> 121145 | BU77: =SUM(BU78) -> 0 | BV77: =SUM(BV78) -> 0 | BW77: =SUM(BW78) -> 0 | BX77: =SUM(BX78) -> 0 | BY77: =SUM(BY78) -> 0 | BZ77: =SUM(BZ78) -> 121145 | ... CD77: =SUM(CD78) -> 121145
C78: รายได้จากสาธารณูปโภคและการพาณิชย์ | H78: 21545 | L78: =SUM(F78-G78+H78-I78+J78) -> 21545 | N78: 31535 | R78: =SUM(L78-M78+N78-O78+P78) -> 53080 | T78: 19635 | X78: =SUM(R78-S78+T78-U78+V78) -> 72715 | Z78: 29920 | AD78: =SUM(X78-Y78+Z78-AA78+AB78) -> 102635 | AF78: 18510 | AJ78: =SUM(AD78-AE78+AF78-AG78+AH78) -> 121145 | AP78: =SUM(AJ78-AK78+AL78-AM78+AN78) -> 121145 | AV78: =SUM(AP78-AQ78+AR78-AS78+AT78) -> 121145 | BB78: =SUM(AV78-AW78+AX78-AY78+AZ78) -> 121145 | BH78: =SUM(BB78-BC78+BD78-BE78+BF78) -> 121145 | BN78: =SUM(BH78-BI78+BJ78-BK78+BL78) -> 121145 | BT78: =SUM(BN78-BO78+BP78-BQ78+BR78) -> 121145 | BZ78: =SUM(BT78-BU78+BV78-BW78+BX78) -> 121145 | CD78: =+BZ78-CA78 -> 121145
B79: หมวดรายได้เบ็ดเตล็ด | E79: =SUM(E80:E82) -> 0 | F79: =SUM(F80:F82) -> 0 | G79: =SUM(G80:G82) -> 0 | H79: =SUM(H80:H82) -> 105 | I79: =SUM(I80:I82) -> 0 | J79: =SUM(J80:J82) -> 3 | K79: =SUM(K80:K82) -> 0 | L79: =SUM(L80:L82) -> 108 | ... N79: =SUM(N80:N82) -> 30540 | Q79: =SUM(Q80:Q82) -> 0 | R79: =SUM(R80:R82) -> 30648 | S79: =SUM(S80:S82) -> 0 | T79: =SUM(T80:T82) -> 6560 | W79: =SUM(W80:W82) -> 0 | X79: =SUM(X80:X82) -> 37208 | Y79: =SUM(Y80:Y82) -> 0 | Z79: =SUM(Z80:Z82) -> 2210 | AC79: =SUM(AC80:AC82) -> 0 | AD79: =SUM(AD80:AD82) -> 39418 | AE79: =SUM(AE80:AE82) -> 0 | AF79: =SUM(AF80:AF82) -> 198432.41 | AI79: =SUM(AI80:AI82) -> 0 | AJ79: =SUM(AJ80:AJ82) -> 237850.92 | AK79: =SUM(AK80:AK82) -> 0 | AL79: =SUM(AL80:AL82) -> 0 | AN79: =SUM(AN80:AN82) -> 0 | AO79: =SUM(AO80:AO82) -> 0 | AP79: =SUM(AP80:AP82) -> 237850.92 | AQ79: =SUM(AQ80:AQ82) -> 0 | AR79: =SUM(AR80:AR82) -> 0 | AS79: =SUM(AS80:AS82) -> 0 | AT79: =SUM(AT80:AT82) -> 0 | AU79: =SUM(AU80:AU82) -> 0 | ... BD79: =SUM(BD80:BD82) -> 0 | BG79: =SUM(BG80:BG82) -> 0 | BH79: =SUM(BH80:BH82) -> 237850.92 | BI79: =SUM(BI80:BI82) -> 0 | BJ79: =SUM(BJ80:BJ82) -> 0 | BM79: =SUM(BM80:BM82) -> 0 | BN79: =SUM(BN80:BN82) -> 237850.92 | BO79: =SUM(BO80:BO82) -> 0 | BP79: =SUM(BP80:BP82) -> 0 | BS79: =SUM(BS80:BS82) -> 0 | BT79: =SUM(BT80:BT82) -> 237850.92 | BU79: =SUM(BU80:BU82) -> 0 | BV79: =SUM(BV80:BV82) -> 0 | BW79: =SUM(BW80:BW82) -> 0 | BX79: =SUM(BX80:BX82) -> 0 | BY79: =SUM(BY80:BY82) -> 0 | BZ79: =SUM(BZ80:BZ82) -> 237850.92 | ... CD79: =SUM(CD80:CD82) -> 237850.92
C80: ค่าขายแบบแปลน | L80: =SUM(F80-G80+H80-I80+J80) -> 0 | N80: 29500 | R80: =SUM(L80-M80+N80-O80+P80) -> 29500 | T80: 5000 | X80: =SUM(R80-S80+T80-U80+V80) -> 34500 | Z80: 0 | AD80: =SUM(X80-Y80+Z80-AA80+AB80) -> 34500 | AF80: 0 | AJ80: =SUM(AD80-AE80+AF80-AG80+AH80) -> 34500 | AP80: =SUM(AJ80-AK80+AL80-AM80+AN80) -> 34500 | AV80: =SUM(AP80-AQ80+AR80-AS80+AT80) -> 34500 | AX80: 0 | BB80: =SUM(AV80-AW80+AX80-AY80+AZ80) -> 34500 | BH80: =SUM(BB80-BC80+BD80-BE80+BF80) -> 34500 | BJ80: 0 | BN80: =SUM(BH80-BI80+BJ80-BK80+BL80) -> 34500 | BT80: =SUM(BN80-BO80+BP80-BQ80+BR80) -> 34500 | BZ80: =SUM(BT80-BU80+BV80-BW80+BX80) -> 34500 | CD80: =SUM(BX80-BY80+BZ80-CA80+CB80) -> 34500
C81: ค่ารับรองสำเนาและถ่ายเอกสาร | L81: =SUM(F81-G81+H81-I81+J81) -> 0 | R81: =SUM(L81-M81+N81-O81+P81) -> 0 | X81: =SUM(R81-S81+T81-U81+V81) -> 0 | Z81: 0 | AD81: =SUM(X81-Y81+Z81-AA81+AB81) -> 0 | AF81: 0 | AJ81: =SUM(AD81-AE81+AF81-AG81+AH81) -> 0 | AP81: =SUM(AJ81-AK81+AL81-AM81+AN81) -> 0 | AV81: =SUM(AP81-AQ81+AR81-AS81+AT81) -> 0 | AX81: 0 | BB81: =SUM(AV81-AW81+AX81-AY81+AZ81) -> 0 | BH81: =SUM(BB81-BC81+BD81-BE81+BF81) -> 0 | BJ81: 0 | BN81: =SUM(BH81-BI81+BJ81-BK81+BL81) -> 0 | BT81: =SUM(BN81-BO81+BP81-BQ81+BR81) -> 0 | BZ81: =SUM(BT81-BU81+BV81-BW81+BX81) -> 0 | CD81: =SUM(BX81-BY81+BZ81-CA81+CB81) -> 0
C82: รายได้เบ็ดเตล็ดอื่น | H82: 105 | J82: 3 | L82: =SUM(F82-G82+H82-I82+J82) -> 108 | N82: 1040 | R82: =SUM(L82-M82+N82-O82+P82) -> 1148 | T82: 1560 | X82: =SUM(R82-S82+T82-U82+V82) -> 2708 | Z82: 2210 | AD82: =SUM(X82-Y82+Z82-AA82+AB82) -> 4918 | AF82: 198432.41 | AH82: 0.51 | AJ82: =SUM(AD82-AE82+AF82-AG82+AH82) -> 203350.92 | AP82: =SUM(AJ82-AK82+AL82-AM82+AN82) -> 203350.92 | AV82: =SUM(AP82-AQ82+AR82-AS82+AT82) -> 203350.92 | AX82: 0 | BB82: =SUM(AV82-AW82+AX82-AY82+AZ82) -> 203350.92 | BH82: =SUM(BB82-BC82+BD82-BE82+BF82) -> 203350.92 | BN82: =SUM(BH82-BI82+BJ82-BK82+BL82) -> 203350.92 | BT82: =SUM(BN82-BO82+BP82-BQ82+BR82) -> 203350.92 | BZ82: =SUM(BT82-BU82+BV82-BW82+BX82) -> 203350.92 | CD82: =+BZ82-CA82 -> 203350.92
B83: หมวดรายได้จากทุน | E83: =SUM(E84) -> 0 | F83: =SUM(F84) -> 0 | G83: =SUM(G84) -> 0 | H83: =SUM(H84) -> 0 | I83: =SUM(I84) -> 0 | J83: =SUM(J84) -> 0 | K83: =SUM(K84) -> 0 | L83: =SUM(L84) -> 0 | ... N83: =SUM(N84) -> 0 | Q83: =SUM(Q84) -> 0 | R83: =SUM(R84) -> 0 | S83: =SUM(S84) -> 0 | T83: =SUM(T84) -> 0 | W83: =SUM(W84) -> 0 | X83: =SUM(X84) -> 0 | Y83: =SUM(Y84) -> 0 | Z83: =SUM(Z84) -> 0 | AC83: =SUM(AC84) -> 0 | AD83: =SUM(AD84) -> 0 | AE83: =SUM(AE84) -> 0 | AF83: =SUM(AF84) -> 0 | AI83: =SUM(AI84) -> 0 | AJ83: =SUM(AJ84) -> 0 | AK83: =SUM(AK84) -> 0 | AL83: =SUM(AL84) -> 0 | AO83: =SUM(AO84) -> 0 | AP83: =SUM(AP84) -> 0 | AQ83: =SUM(AQ84) -> 0 | AR83: =SUM(AR84) -> 0 | AU83: =SUM(AU84) -> 0 | AV83: =SUM(AV84) -> 0 | AW83: =SUM(AW84) -> 0 | AX83: =SUM(AX84) -> 0 | AY83: =SUM(AY84) -> 0 | AZ83: =SUM(AZ84) -> 0 | BA83: =SUM(BA84) -> 0 | BB83: =SUM(BB84) -> 0 | ... BD83: =SUM(BD84) -> 0 | BG83: =SUM(BG84) -> 0 | BH83: =SUM(BH84) -> 0 | BI83: =SUM(BI84) -> 0 | BJ83: =SUM(BJ84) -> 0 | BM83: =SUM(BM84) -> 0 | BN83: =SUM(BN84) -> 0 | BO83: =SUM(BO84) -> 0 | BP83: =SUM(BP84) -> 0 | BS83: =SUM(BS84) -> 0 | BT83: =SUM(BT84) -> 0 | BU83: =SUM(BU84) -> 0 | BV83: =SUM(BV84) -> 0 | BW83: =SUM(BW84) -> 0 | BX83: =SUM(BX84) -> 0 | BY83: =SUM(BY84) -> 0 | BZ83: =SUM(BZ84) -> 0 | ... CD83: =SUM(CD84) -> 0
C84: ค่าขายทอดตลาดทรัพย์สิน | H84: 0 | L84: =SUM(F84-G84+H84-I84+J84) -> 0 | R84: =SUM(L84-M84+N84-O84+P84) -> 0 | X84: =SUM(R84-S84+T84-U84+V84) -> 0 | Z84: 0 | AD84: =SUM(X84-Y84+Z84-AA84+AB84) -> 0 | AE84: 0 | AJ84: =SUM(AD84-AE84+AF84-AG84+AH84) -> 0 | AP84: =SUM(AJ84-AK84+AL84-AM84+AN84) -> 0 | AV84: =SUM(AP84-AQ84+AR84-AS84+AT84) -> 0 | AX84: 0 | BB84: =SUM(AV84-AW84+AX84-AY84+AZ84) -> 0 | BD84: 0 | BH84: =SUM(BB84-BC84+BD84-BE84+BF84) -> 0 | BJ84: 0 | BN84: =SUM(BH84-BI84+BJ84-BK84+BL84) -> 0 | BT84: =SUM(BN84-BO84+BP84-BQ84+BR84) -> 0 | BV84: 0 | BZ84: =SUM(BT84-BU84+BV84-BW84+BX84) -> 0 | CD84: =SUM(BX84-BY84+BZ84-CA84+CB84) -> 0
A85: รายได้ที่รัฐบาลเก็บแล้วจัดสรรให้ อปท. | E85: =SUM(E86) -> 0 | F85: =SUM(F86) -> 0 | G85: =SUM(G86) -> 0 | H85: =SUM(H86) -> 1292044.9 | I85: =SUM(I86) -> 0 | J85: =SUM(J86) -> 0 | K85: =SUM(K86) -> 0 | L85: =SUM(L86) -> 1292044.9 | ... CD85: =SUM(CD86) -> 6352399.7
B86: หมวดภาษีจัดสรร | E86: =SUM(E87:E95) -> 0 | F86: =SUM(F87:F95) -> 0 | G86: =SUM(G87:G95) -> 0 | H86: =SUM(H87:H95) -> 1292044.9 | I86: =SUM(I87:I95) -> 0 | J86: =SUM(J87:J95) -> 0 | K86: =SUM(K87:K95) -> 0 | L86: =SUM(L87:L95) -> 1292044.9 | ... N86: =SUM(N87:N95) -> 1373029.1 | Q86: =SUM(Q87:Q95) -> 0 | R86: =SUM(R87:R95) -> 2665074 | S86: =SUM(S87:S95) -> 0 | T86: =SUM(T87:T95) -> 1321388.8 | W86: =SUM(W87:W95) -> 0 | X86: =SUM(X87:X95) -> 3986462.8 | Y86: =SUM(Y87:Y95) -> 0 | Z86: =SUM(Z87:Z95) -> 845975.86 | AC86: =SUM(AC87:AC95) -> 0 | AD86: =SUM(AD87:AD95) -> 4832438.6 | AE86: =SUM(AE87:AE95) -> 0 | AF86: =SUM(AF87:AF95) -> 1519961.1 | AI86: =SUM(AI87:AI95) -> 0 | AJ86: =SUM(AJ87:AJ95) -> 6352399.7 | AK86: =SUM(AK87:AK95) -> 0 | AL86: =SUM(AL87:AL95) -> 0 | AO86: =SUM(AO87:AO95) -> 0 | AP86: =SUM(AP87:AP95) -> 6352399.7 | AQ86: =SUM(AQ87:AQ95) -> 0 | AR86: =SUM(AR87:AR95) -> 0 | AU86: =SUM(AU87:AU95) -> 0 | AV86: =SUM(AV87:AV95) -> 6352399.7 | AW86: =SUM(AW87:AW95) -> 0 | AX86: =SUM(AX87:AX95) -> 0 | AY86: =SUM(AY87:AY95) -> 0 | AZ86: =SUM(AZ87:AZ95) -> 0 | BA86: =SUM(BA87:BA95) -> 0 | BB86: =SUM(BB87:BB95) -> 6352399.7 | ... BD86: =SUM(BD87:BD95) -> 0 | BG86: =SUM(BG87:BG95) -> 0 | BH86: =SUM(BH87:BH95) -> 6352399.7 | BI86: =SUM(BI87:BI95) -> 0 | BJ86: =SUM(BJ87:BJ95) -> 0 | BM86: =SUM(BM87:BM95) -> 0 | BN86: =SUM(BN87:BN95) -> 6352399.7 | BO86: =SUM(BO87:BO95) -> 0 | BP86: =SUM(BP87:BP95) -> 0 | BS86: =SUM(BS87:BS95) -> 0 | BT86: =SUM(BT87:BT95) -> 6352399.7 | BU86: =SUM(BU87:BU95) -> 0 | BV86: =SUM(BV87:BV95) -> 0 | BY86: =SUM(BY87:BY95) -> 0 | BZ86: =SUM(BZ87:BZ95) -> 6352399.7 | CA86: =SUM(CA87:CA95) -> 0 | CB86: =SUM(CB87:CB95) -> 0 | CC86: =SUM(CC87:CC95) -> 0 | CD86: =SUM(CD87:CD95) -> 6352399.7
C87: ภาษีมูลค่าเพิ่มตาม พรบ.กำหนดแผนฯ | H87: 647500.94 | L87: =SUM(F87-G87+H87-I87+J87) -> 647500.94 | N87: 650207.48 | R87: =SUM(L87-M87+N87-O87+P87) -> 1297708.4 | T87: 659120.24 | X87: =SUM(R87-S87+T87-U87+V87) -> 1956828.7 | AD87: =SUM(X87-Y87+Z87-AA87+AB87) -> 1956828.7 | AF87: 898635.01 | AJ87: =SUM(AD87-AE87+AF87-AG87+AH87) -> 2855463.7 | AP87: =SUM(AJ87-AK87+AL87-AM87+AN87) -> 2855463.7 | AV87: =SUM(AP87-AQ87+AR87-AS87+AT87) -> 2855463.7 | BB87: =SUM(AV87-AW87+AX87-AY87+AZ87) -> 2855463.7 | BH87: =SUM(BB87-BC87+BD87-BE87+BF87) -> 2855463.7 | BN87: =SUM(BH87-BI87+BJ87-BK87+BL87) -> 2855463.7 | BT87: =SUM(BN87-BO87+BP87-BQ87+BR87) -> 2855463.7 | BZ87: =SUM(BT87-BU87+BV87-BW87+BX87) -> 2855463.7 | CD87: =+BZ87-CA87 -> 2855463.7
C88: ภาษีมูลค่าเพิ่มตาม พรบ.จัดสรรรายได้ | H88: 240718.53 | L88: =SUM(F88-G88+H88-I88+J88) -> 240718.53 | N88: 277788.33 | R88: =SUM(L88-M88+N88-O88+P88) -> 518506.86 | T88: 271445.25 | X88: =SUM(R88-S88+T88-U88+V88) -> 789952.11 | Z88: 270889.27 | AD88: =SUM(X88-Y88+Z88-AA88+AB88) -> 1060841.4 | AF88: 0 | AJ88: =SUM(AD88-AE88+AF88-AG88+AH88) -> 1060841.4 | AP88: =SUM(AJ88-AK88+AL88-AM88+AN88) -> 1060841.4 | AV88: =SUM(AP88-AQ88+AR88-AS88+AT88) -> 1060841.4 | BB88: =SUM(AV88-AW88+AX88-AY88+AZ88) -> 1060841.4 | BH88: =SUM(BB88-BC88+BD88-BE88+BF88) -> 1060841.4 | BJ88: 0 | BN88: =SUM(BH88-BI88+BJ88-BK88+BL88) -> 1060841.4 | BT88: =SUM(BN88-BO88+BP88-BQ88+BR88) -> 1060841.4 | BZ88: =SUM(BT88-BU88+BV88-BW88+BX88) -> 1060841.4 | CD88: =+BZ88-CA88 -> 1060841.4
C89: ภาษีธุรกิจเฉพาะ | L89: =SUM(F89-G89+H89-I89+J89) -> 0 | N89: 0 | R89: =SUM(L89-M89+N89-O89+P89) -> 0 | T89: 0 | X89: =SUM(R89-S89+T89-U89+V89) -> 0 | Z89: 28733.76 | AD89: =SUM(X89-Y89+Z89-AA89+AB89) -> 28733.76 | AF89: 0 | AJ89: =SUM(AD89-AE89+AF89-AG89+AH89) -> 28733.76 | AP89: =SUM(AJ89-AK89+AL89-AM89+AN89) -> 28733.76 | AV89: =SUM(AP89-AQ89+AR89-AS89+AT89) -> 28733.76 | BB89: =SUM(AV89-AW89+AX89-AY89+AZ89) -> 28733.76 | BH89: =SUM(BB89-BC89+BD89-BE89+BF89) -> 28733.76 | BJ89: 0 | BN89: =SUM(BH89-BI89+BJ89-BK89+BL89) -> 28733.76 | BT89: =SUM(BN89-BO89+BP89-BQ89+BR89) -> 28733.76 | BZ89: =SUM(BT89-BU89+BV89-BW89+BX89) -> 28733.76 | CD89: =+BZ89-CA89 -> 28733.76
C90: ภาษีสุรา | H90: 114004.59 | L90: =SUM(F90-G90+H90-I90+J90) -> 114004.59 | N90: 129740.98 | R90: =SUM(L90-M90+N90-O90+P90) -> 243745.57 | T90: 135624.49 | X90: =SUM(R90-S90+T90-U90+V90) -> 379370.06 | Z90: 165372.57 | AD90: =SUM(X90-Y90+Z90-AA90+AB90) -> 544742.63 | AF90: 147464.31 | AJ90: =SUM(AD90-AE90+AF90-AG90+AH90) -> 692206.94 | AP90: =SUM(AJ90-AK90+AL90-AM90+AN90) -> 692206.94 | AV90: =SUM(AP90-AQ90+AR90-AS90+AT90) -> 692206.94 | BB90: =SUM(AV90-AW90+AX90-AY90+AZ90) -> 692206.94 | BH90: =SUM(BB90-BC90+BD90-BE90+BF90) -> 692206.94 | BJ90: 0 | BN90: =SUM(BH90-BI90+BJ90-BK90+BL90) -> 692206.94 | BT90: =SUM(BN90-BO90+BP90-BQ90+BR90) -> 692206.94 | BZ90: =SUM(BT90-BU90+BV90-BW90+BX90) -> 692206.94 | CD90: =+BZ90-CA90 -> 692206.94
C91: ภาษีสรรพสามิต | H91: 246143.31 | L91: =SUM(F91-G91+H91-I91+J91) -> 246143.31 | N91: 273392.28 | R91: =SUM(L91-M91+N91-O91+P91) -> 519535.59 | T91: 255198.77 | X91: =SUM(R91-S91+T91-U91+V91) -> 774734.36 | Z91: 303060.26 | AD91: =SUM(X91-Y91+Z91-AA91+AB91) -> 1077794.6 | AF91: 354863.98 | AJ91: =SUM(AD91-AE91+AF91-AG91+AH91) -> 1432658.6 | AP91: =SUM(AJ91-AK91+AL91-AM91+AN91) -> 1432658.6 | AV91: =SUM(AP91-AQ91+AR91-AS91+AT91) -> 1432658.6 | BB91: =SUM(AV91-AW91+AX91-AY91+AZ91) -> 1432658.6 | BH91: =SUM(BB91-BC91+BD91-BE91+BF91) -> 1432658.6 | BJ91: 0 | BN91: =SUM(BH91-BI91+BJ91-BK91+BL91) -> 1432658.6 | BT91: =SUM(BN91-BO91+BP91-BQ91+BR91) -> 1432658.6 | BZ91: =SUM(BT91-BU91+BV91-BW91+BX91) -> 1432658.6 | CD91: =+BZ91-CA91 -> 1432658.6
C92: ค่าภาคหลวงแร่ | H92: 0 | L92: =SUM(F92-G92+H92-I92+J92) -> 0 | R92: =SUM(L92-M92+N92-O92+P92) -> 0 | X92: =SUM(R92-S92+T92-U92+V92) -> 0 | Z92: 0 | AD92: =SUM(X92-Y92+Z92-AA92+AB92) -> 0 | AF92: 30620.02 | AJ92: =SUM(AD92-AE92+AF92-AG92+AH92) -> 30620.02 | AL92: 0 | AP92: =SUM(AJ92-AK92+AL92-AM92+AN92) -> 30620.02 | AV92: =SUM(AP92-AQ92+AR92-AS92+AT92) -> 30620.02 | BB92: =SUM(AV92-AW92+AX92-AY92+AZ92) -> 30620.02 | BH92: =SUM(BB92-BC92+BD92-BE92+BF92) -> 30620.02 | BJ92: 0 | BN92: =SUM(BH92-BI92+BJ92-BK92+BL92) -> 30620.02 | BT92: =SUM(BN92-BO92+BP92-BQ92+BR92) -> 30620.02 | BZ92: =SUM(BT92-BU92+BV92-BW92+BX92) -> 30620.02 | CD92: =+BZ92-CA92 -> 30620.02
C93: ค่าภาคหลวงปิโตรเลียม | H93: 16928.57 | L93: =SUM(F93-G93+H93-I93+J93) -> 16928.57 | R93: =SUM(L93-M93+N93-O93+P93) -> 16928.57 | X93: =SUM(R93-S93+T93-U93+V93) -> 16928.57 | Z93: 0 | AD93: =SUM(X93-Y93+Z93-AA93+AB93) -> 16928.57 | AF93: 16483.73 | AJ93: =SUM(AD93-AE93+AF93-AG93+AH93) -> 33412.3 | AL93: 0 | AP93: =SUM(AJ93-AK93+AL93-AM93+AN93) -> 33412.3 | AV93: =SUM(AP93-AQ93+AR93-AS93+AT93) -> 33412.3 | BB93: =SUM(AV93-AW93+AX93-AY93+AZ93) -> 33412.3 | BD93: 0 | BH93: =SUM(BB93-BC93+BD93-BE93+BF93) -> 33412.3 | BJ93: 0 | BN93: =SUM(BH93-BI93+BJ93-BK93+BL93) -> 33412.3 | BT93: =SUM(BN93-BO93+BP93-BQ93+BR93) -> 33412.3 | BZ93: =SUM(BT93-BU93+BV93-BW93+BX93) -> 33412.3 | CD93: =+BZ93-CA93 -> 33412.3
C94: เงินที่เก็บตามกฎหมายว่าด้วยอทุยานแห่งชาติ | H94: 0 | L94: =SUM(F94-G94+H94-I94+J94) -> 0 | R94: =SUM(L94-M94+N94-O94+P94) -> 0 | X94: =SUM(R94-S94+T94-U94+V94) -> 0 | Z94: 0 | AD94: =SUM(X94-Y94+Z94-AA94+AB94) -> 0 | AF94: 0 | AJ94: =SUM(AD94-AE94+AF94-AG94+AH94) -> 0 | AL94: 0 | AP94: =SUM(AJ94-AK94+AL94-AM94+AN94) -> 0 | AV94: =SUM(AP94-AQ94+AR94-AS94+AT94) -> 0 | AX94: 0 | BB94: =SUM(AV94-AW94+AX94-AY94+AZ94) -> 0 | BD94: 0 | BH94: =SUM(BB94-BC94+BD94-BE94+BF94) -> 0 | BJ94: 0 | BN94: =SUM(BH94-BI94+BJ94-BK94+BL94) -> 0 | BT94: =SUM(BN94-BO94+BP94-BQ94+BR94) -> 0 | BZ94: =SUM(BT94-BU94+BV94-BW94+BX94) -> 0 | CD94: =+BZ94-CA94 -> 0
C95: ค่าธรรมเนียมจดทะเบียนสิทธิและนิติกรรมที่ดิน | H95: 26749 | L95: =SUM(F95-G95+H95-I95+J95) -> 26749 | N95: 41900 | R95: =SUM(L95-M95+N95-O95+P95) -> 68649 | X95: =SUM(R95-S95+T95-U95+V95) -> 68649 | Z95: 77920 | AD95: =SUM(X95-Y95+Z95-AA95+AB95) -> 146569 | AF95: 71894 | AJ95: =SUM(AD95-AE95+AF95-AG95+AH95) -> 218463 | AP95: =SUM(AJ95-AK95+AL95-AM95+AN95) -> 218463 | AV95: =SUM(AP95-AQ95+AR95-AS95+AT95) -> 218463 | BB95: =SUM(AV95-AW95+AX95-AY95+AZ95) -> 218463 | BH95: =SUM(BB95-BC95+BD95-BE95+BF95) -> 218463 | BN95: =SUM(BH95-BI95+BJ95-BK95+BL95) -> 218463 | BT95: =SUM(BN95-BO95+BP95-BQ95+BR95) -> 218463 | BZ95: =SUM(BT95-BU95+BV95-BW95+BX95) -> 218463 | CD95: =+BZ95-CA95 -> 218463
A96: รายได้ที่รัฐบาลอุดหนุนให้ อปท. | E96: =SUM(E97,E99,E103) -> 0 | F96: =SUM(F97,F99,F103) -> 0 | G96: =SUM(G97,G99,G103) -> 0 | H96: =SUM(H97,H99,H103) -> 0 | I96: =SUM(I97,I99,I103) -> 0 | J96: =SUM(J97,J99,J103) -> 0 | K96: =SUM(K97,K99,K103) -> 0 | L96: =SUM(L97,L99,L103) -> 0 | ... CD96: =SUM(CD97,CD99,CD103) -> 17892414
B97: หมวดเงินอุดหนุนทั่วไป | E97: =SUM(E98) -> 0 | F97: =SUM(F98) -> 0 | G97: =SUM(G98) -> 0 | H97: =SUM(H98) -> 0 | I97: =SUM(I98) -> 0 | J97: =SUM(J98) -> 0 | K97: =SUM(K98) -> 0 | L97: =SUM(F97-G97+H97-I97+J97) -> 0 | M97: =SUM(M98) -> 0 | N97: =SUM(N98) -> 6086807 | Q97: =SUM(Q98) -> 0 | R97: =SUM(L97-M97+N97-O97+P97) -> 6086807 | S97: =SUM(S98) -> 0 | T97: =SUM(T98) -> 0 | W97: =SUM(W98) -> 0 | X97: =SUM(R97-S97+T97-U97+V97) -> 6086807 | Y97: =SUM(Y98) -> 0 | Z97: =SUM(Z98) -> 5835157 | AC97: =SUM(AC98) -> 0 | AD97: =SUM(X97-Y97+Z97-AA97+AB97) -> 11921964 | AE97: =SUM(AE98) -> 0 | AF97: =SUM(AF98) -> 0 | AI97: =SUM(AI98) -> 0 | AJ97: =SUM(AD97-AE97+AF97-AG97+AH97) -> 11921964 | AK97: =SUM(AK98) -> 0 | AL97: =SUM(AL98) -> 0 | AO97: =SUM(AO98) -> 0 | AP97: =SUM(AJ97-AK97+AL97-AM97+AN97) -> 11921964 | AQ97: =SUM(AQ98) -> 0 | AR97: =SUM(AR98) -> 0 | AS97: =SUM(AS98) -> 0 | AT97: =SUM(AT98) -> 0 | AU97: =SUM(AU98) -> 0 | AV97: =SUM(AP97-AQ97+AR97-AS97+AT97) -> 11921964 | AW97: =SUM(AW98) -> 0 | AX97: =SUM(AX98) -> 0 | AY97: =SUM(AY98) -> 0 | AZ97: =SUM(AZ98) -> 0 | BA97: =SUM(BA98) -> 0 | BB97: =SUM(AV97-AW97+AX97-AY97+AZ97) -> 11921964 | BC97: =SUM(BC98) -> 0 | BD97: =SUM(BD98) -> 0 | BG97: =SUM(BG98) -> 0 | BH97: =SUM(BB97-BC97+BD97-BE97+BF97) -> 11921964 | BI97: =SUM(BI98) -> 0 | BJ97: =SUM(BJ98) -> 0 | BM97: =SUM(BM98) -> 0 | BN97: =SUM(BH97-BI97+BJ97-BK97+BL97) -> 11921964 | BO97: =SUM(BO98) -> 0 | BP97: =SUM(BP98) -> 0 | BS97: =SUM(BS98) -> 0 | BT97: =SUM(BN97-BO97+BP97-BQ97+BR97) -> 11921964 | BU97: =SUM(BU98) -> 0 | BV97: =SUM(BV98) -> 0 | BY97: =SUM(BY98) -> 0 | BZ97: =SUM(BT97-BU97+BV97-BW97+BX97) -> 11921964 | CA97: =+CA98 -> 0 | CB97: =+CB98 -> 0 | CC97: =SUM(CC98) -> 0 | CD97: =+BZ97+CB97+-CA97 -> 11921964
C98: เงินอุดหนุนตามอำนาจหน้าที่และภารกิจถ่ายโอน | L98: =SUM(F98-G98+H98-I98+J98) -> 0 | N98: =4361263+285044+1123000+16000+277500+24000 -> 6086807 | R98: =SUM(L98-M98+N98-O98+P98) -> 6086807 | X98: =SUM(R98-S98+T98-U98+V98) -> 6086807 | Z98: =4361263+631894+818000+24000 -> 5835157 | AD98: =SUM(X98-Y98+Z98-AA98+AB98) -> 11921964 | AJ98: =SUM(AD98-AE98+AF98-AG98+AH98) -> 11921964 | AP98: =SUM(AJ98-AK98+AL98-AM98+AN98) -> 11921964 | AV98: =SUM(AP98-AQ98+AR98-AS98+AT98) -> 11921964 | AX98: 0 | BB98: =SUM(AV98-AW98+AX98-AY98+AZ98) -> 11921964 | BD98: 0 | BH98: =SUM(BB98-BC98+BD98-BE98+BF98) -> 11921964 | BN98: =SUM(BH98-BI98+BJ98-BK98+BL98) -> 11921964 | BT98: =SUM(BN98-BO98+BP98-BQ98+BR98) -> 11921964 | BZ98: =SUM(BT98-BU98+BV98-BW98+BX98) -> 11921964 | CD98: =+BZ98+CB98-CA98 -> 11921964
B99: หมวดเงินอุดหนุนเฉพาะกิจ | E99: =SUM(E100:E101) -> 0 | F99: =SUM(F100:F101) -> 0 | G99: =SUM(G100:G101) -> 0 | H99: =SUM(H100:H101) -> 0 | I99: =SUM(I100:I101) -> 0 | J99: =SUM(J100:J101) -> 0 | K99: =SUM(K100:K101) -> 0 | L99: =SUM(L100:L102) -> 0 | M99: =SUM(M100:M101) -> 0 | N99: =SUM(N100:N101) -> 0 | O99: =SUM(O100:O101) -> 0 | P99: =SUM(P100:P101) -> 0 | Q99: =SUM(Q100:Q101) -> 0 | R99: =SUM(R100:R102) -> 0 | S99: =SUM(S100:S101) -> 0 | T99: =SUM(T100:T101) -> 0 | U99: =SUM(U100:U101) -> 0 | V99: =SUM(V100:V101) -> 0 | W99: =SUM(W100:W101) -> 0 | X99: =SUM(X100:X102) -> 0 | Y99: =SUM(Y100:Y101) -> 0 | Z99: =SUM(Z100:Z101) -> 0 | AA99: =SUM(AA100:AA101) -> 0 | AB99: =SUM(AB100:AB101) -> 0 | AC99: =SUM(AC100:AC101) -> 0 | AD99: =SUM(AD100:AD102) -> 0 | AE99: =SUM(AE100:AE101) -> 0 | AF99: =SUM(AF100:AF101) -> 0 | AG99: =SUM(AG100:AG101) -> 0 | AH99: =SUM(AH100:AH101) -> 0 | AI99: =SUM(AI100:AI101) -> 0 | AJ99: =SUM(AJ100:AJ102) -> 0 | AK99: =SUM(AK100:AK101) -> 0 | AL99: =SUM(AL100:AL102) -> 0 | AM99: =SUM(AM100:AM102) -> 0 | AN99: =SUM(AN100:AN102) -> 0 | AO99: =SUM(AO100:AO102) -> 0 | AP99: =SUM(AP100:AP102) -> 0 | AQ99: =SUM(AQ100:AQ102) -> 0 | AR99: =SUM(AR100:AR102) -> 0 | AS99: =SUM(AS100:AS102) -> 0 | ... CD99: =SUM(CD100:CD102) -> 0
C100: ทุนการศึกษา | L100: =SUM(F100-G100+H100) -> 0 | R100: =SUM(L100-M100+N100) -> 0 | T100: 0 | X100: =SUM(R100-S100+T100) -> 0 | AD100: =SUM(X100-Y100+Z100) -> 0 | AJ100: =SUM(AD100-AE100+AF100) -> 0 | AP100: =SUM(AJ100-AK100+AL100) -> 0 | AV100: =SUM(AP100-AQ100+AR100) -> 0 | AX100: 0 | BB100: =SUM(AV100-AW100+AX100) -> 0 | BD100: 0 | BH100: =SUM(BB100-BC100+BD100) -> 0 | BJ100: 0 | BN100: =SUM(BH100-BI100+BJ100) -> 0 | BT100: =SUM(BN100-BO100+BP100) -> 0 | BZ100: =SUM(BT100-BU100+BV100) -> 0 | CD100: =SUM(BX100-BY100+BZ100-CA100+CB100) -> 0
C101: โครงการอปท.เร่งด่วนปี 57 | L101: =SUM(F101-G101+H101) -> 0 | R101: =SUM(L101-M101+N101) -> 0 | T101: 0 | X101: =SUM(R101-S101+T101) -> 0 | AD101: =SUM(X101-Y101+Z101) -> 0 | AJ101: =SUM(AD101-AE101+AF101) -> 0 | AP101: =SUM(AJ101-AK101+AL101) -> 0 | AR101: 0 | AV101: =SUM(AP101-AQ101+AR101) -> 0 | AX101: 0 | BB101: =SUM(AV101-AW101+AX101) -> 0 | BD101: 0 | BH101: =SUM(BB101-BC101+BD101) -> 0 | BJ101: 0 | BN101: =SUM(BH101-BI101+BJ101) -> 0 | BT101: =SUM(BN101-BO101+BP101) -> 0 | BZ101: =SUM(BT101-BU101+BV101) -> 0 | CD101: =SUM(BX101-BY101+BZ101-CA101+CB101) -> 0
C102: โครงการก่อสร้างระบบประปาบาดาลปี 58 | L102: =SUM(F102-G102+H102) -> 0 | R102: =SUM(L102-M102+N102) -> 0 | X102: =SUM(R102-S102+T102) -> 0 | AD102: =SUM(X102-Y102+Z102) -> 0 | AJ102: =SUM(AD102-AE102+AF102) -> 0 | AP102: =SUM(AJ102-AK102+AL102) -> 0 | AV102: =SUM(AP102-AQ102+AR102) -> 0 | AX102: 0 | BB102: =SUM(AV102-AW102+AX102) -> 0 | BH102: =SUM(BB102-BC102+BD102) -> 0 | BJ102: 0 | BN102: =SUM(BH102-BI102+BJ102) -> 0 | BT102: =SUM(BN102-BO102+BP102) -> 0 | BZ102: =SUM(BT102-BU102+BV102) -> 0 | CD102: =SUM(BX102-BY102+BZ102-CA102+CB102) -> 0
...

Sheet รับ-จ่ายเงิน
A1: เทศบาลตำบลเขาพระ อำเภอพิปูน จังหวัดนครศรีธรรมราช
A2: รายงาน รับ - จ่ายเงิน
A3: ปีงบประมาณ 2559 ประจำเดือน ตุลาคม
A5: จนถึงปัจจุบัน | E5: รายการ | F5: รหัสบัญชี | G5: จำนวนเงิน เดือนนี้ ที่เกิดขึ้นจริง(บาท)
A6: ประมาณการ (บาท) | B6: เงินอุดหนุนระบุ วัตถุประสงค์/ เฉพาะกิจ(บาท) | C6: รวม (บาท) | D6: เกิดขึ้นจริง (บาท)
D7: 30620913 | E7: ยอดยกมา | G7: 30620913
E8: รายรับ (หมายเหตุ 1)
A9: 198000 | C9: =+A9 -> 198000 | D9: =+G9 -> 0 | E9: ภาษีอากร | F9: 411000 | G9: 0
A10: 272200 | C10: =+A10 -> 272200 | D10: =+G10 -> 22491.75 | E10: ค่าธรรมเนียม ค่าปรับและใบอนุญาต | F10: 412000 | G10: 22491.75
A11: 300500 | C11: =+A11 -> 300500 | D11: =+G11 -> 0 | E11: รายได้จากทรัพย์สิน | F11: 413000 | G11: 0
A12: 300000 | C12: =+A12 -> 300000 | D12: =+G12 -> 21545 | E12: รายได้จากสาธารณูปโภคและการพาณิชย์ | F12: 414000 | G12: 21545
A13: 60000 | C13: =+A13 -> 60000 | D13: =+G13 -> 108 | E13: รายได้เบ็ดเตล็ด | F13: 415000 | G13: =105+3 -> 108
A14: 15000 | C14: =+A14 -> 15000 | D14: =+G14 -> 0 | E14: รายได้จากทุน | F14: 416000 | G14: 0
A15: 16076000 | C15: =+A15 -> 16076000 | D15: =+G15 -> 1292044.9 | E15: ภาษีจัดสรร | F15: 421000 | G15: 1292044.9
A16: 16100000 | C16: =+A16 -> 16100000 | D16: =+G16 -> 0 | E16: เงินอุดหนุนทั่วไป | F16: 431002 | G16: 0
D17: =+G17 -> 0 | E17: เงินอุดหนุนทั่วไปกำหนดวัตถุประสงค์/เฉพาะกิจ | F17: 441000 | G17: 0
A18: =SUM(A9:A17) -> 33321700 | B18: =SUM(B9:B17) -> 0 | C18: =SUM(C9:C17) -> 33321700 | D18: =SUM(D9:D17) -> 1336189.7 | E18: รวม | G18: =SUM(G9:G17) -> 1336189.7
D19: =+G19 -> 18786 | E19: ลูกหนี้เงินยืม | F19: 113100 | G19: =3500+6362+1362+1362+6200 -> 18786
D20: 32340 | E20: ลูกหนี้เงินยืมเงินสะสม | F20: 113700 | G20: 32340
D21: =+G21 -> 32340 | E21: รายได้จากรัฐบาลค้างรับ | F21: 113200 | G21: 32340
D22: =+G22 -> 11632.19 | E22: เงินรับฝากภาษีหัก ณ ที่จ่าย | F22: 215001 | G22: 11632.19
D23: =+G23 -> 87938 | E23: เงินรับฝากเงินประกันสัญญา | F23: 215008 | G23: 87938
D24: =+G24 -> 7549.96 | E24: เงินรับฝากเงินทุนโครงการเศรษฐกิจชุมชน | F24: 215016 | G24: 7549.96
D25: =+G25 -> 3 | E25: เงินเกินบัญชี | F25: 216001 | G25: 3
A27: =SUM(A18:A26) -> 33321700 | B27: =SUM(B18:B26) -> 0 | C27: =SUM(C18:C26) -> 33321700 | D27: =SUM(D18:D26) -> 1526778.8 | E27: รวมรายรับ | G27: =SUM(G18:G26) -> 1526778.8
A32: จนถึงปัจจุบัน | E32: รายการ | F32: รหัสบัญชี | G32: จำนวนเงิน เดือนนี้ ที่เกิดขึ้นจริง(บาท)
A33: ประมาณการ (บาท) | B33: เงินอุดหนุนระบุ วัตถุประสงค์/ เฉพาะกิจ(บาท) | C33: รวม (บาท) | D33: เกิดขึ้นจริง (บาท)
E34: รายจ่าย
A35: 3708560 | C35: =+A35 -> 3708560 | D35: =+G35 -> 21850 | E35: งบกลาง | F35: 100000 | G35: 21850
A36: 2624640 | C36: =+A36 -> 2624640 | D36: =+G36 -> 218720 | E36: เงินเดือนฝ่ายการเมือง | F36: 210000 | G36: 218720
A37: =4048500+1923300+432000+730300+361400+1376000+589300 -> 9460800 | C37: =+A37 -> 9460800 | D37: =+G37 -> 732659.61 | E37: เงินเดือนฝ่ายประจำ | F37: 220000 | G37: 732659.61
A38: =316000+115800+28000+30000+36000+10500+123000+28800 -> 688100 | C38: =+A38 -> 688100 | D38: =+G38 -> 13050 | E38: ค่าตอบแทน | F38: 310000 | G38: 13050
A39: =1032000+120000+150000+370000+1092500+168000+130000+400000+600000+350000+250000+300000+10000+20000+160000 -> 5152500 | C39: =+A39 -> 5152500 | D39: =+G39 -> 89641.89 | E39: ค่าใช้สอย | F39: 320000 | G39: =70855.89+3500+6362+1362+1362+6200 -> 89641.89 | H39: =+D39-3916876.48 -> -3827234.6
A40: =550000+105000+2178000+120000+60000+350000+450000+50000+140000 -> 4003000 | C40: =+A40 -> 4003000 | D40: =+G40 -> 18076 | E40: ค่าวัสดุ | F40: 330000 | G40: 18076 | H40: =+D40-3620793.73 -> -3602717.7
A41: =450000+450000 -> 900000 | C41: =+A41 -> 900000 | D41: =+G41 -> 82973.43 | E41: ค่าสาธารณูปโภค | F41: 340000 | G41: 82973.43 | H41: =+D41-1044432.06 -> -961458.63
A42: =50000+36000+113000+91600+71000+70500 -> 432100 | C42: =+A42 -> 432100 | D42: =+G42 -> 0 | E42: ค่าครุภัณฑ์ | F42: 410000 | G42: 0 | H42: =+D42-743046.05 -> -743046.05
A43: =398000+15000+1726000 -> 2139000 | C43: =+A43 -> 2139000 | D43: =+G43 -> 0 | E43: ค่าที่ดินและสิ่งก่อสร้าง | F43: 420000 | G43: 0 | H43: =+D43-5106548 -> -5106548
A44: 25000 | C44: =+A44 -> 25000 | D44: =+G44 -> 0 | E44: รายจ่ายอื่นๆ | F44: 510000 | G44: 0
A45: =20000+3792000+240000+10000+126000 -> 4188000 | C45: =+A45 -> 4188000 | D45: =+G45 -> 7000 | E45: เงินอุดหนุน | F45: 610000 | G45: 7000
A46: =SUM(A35:A45) -> 33321700 | B46: =SUM(B35:B45) -> 0 | C46: =SUM(C35:C45) -> 33321700 | D46: =SUM(D35:D45) -> 1183970.9 | E46: รวม | G46: =SUM(G35:G45) -> 1183970.9
D47: =+G47 -> 110707 | E47: เงินสะสม | F47: 310000 | G47: 110707 | H47: =31234948.9-D47 -> 31124242
D48: =+G48 -> 0 | E48: เงินทุนสำรองเงินสะสม | F48: 320000 | G48: 0
D49: =+G49 -> 28586 | E49: ลูกหนี้เงินยืม | F49: 113100 | G49: 28586
D50: =+G50 -> 1088380 | E50: ลูกหนี้เงินยืมเงินสะสม | F50: 113700 | G50: 1088380
D51: =+G51 -> 32340 | E51: รายได้จากรัฐบาลค้างรับ | F51: 113200 | G51: 32340
D52: =+G52 -> 1023004 | E52: รายจ่ายค้างจ่าย (หมายเหตุ 2) | F52: 211000 | G52: 1023004
D53: =+G53 -> 9023.61 | E53: เงินรับฝากภาษ๊ หัก ณ ที่จ่าย | F53: 215001 | G53: 9023.61
D54: =+G54 -> 66910 | E54: เงินรับฝากเงินประกันสัญญา | F54: 215008 | G54: 66910
D55: =+G55 -> 221552 | E55: เงินรับฝากเงินรอคืนจังหวัด | F55: 215014 | G55: 221552
D56: =+G56 -> 3 | E56: เงินเกินบัญชี | F56: 216001 | G56: 3
A57: =SUM(A46:A56) -> 33321700 | B57: =SUM(B46:B56) -> 0 | C57: =SUM(C46:C56) -> 33321700 | D57: =SUM(D46:D56) -> 3764476.5 | E57: รวมรายจ่าย | G57: =SUM(G46:G56) -> 3764476.5
E58: สูงกว่า
E59: รายรับ รายจ่าย
D60: =SUM(D27-D57) -> -2237697.7 | E60: (ต่ำกว่า) | G60: =SUM(G27-G57) -> -2237697.7
D61: =SUM(D7+D27-D57) -> 28383216 | E61: ยอดยกไป | G61: =SUM(G7+G27-G57) -> 28383216 | H61: =+งบดุลบัญชี!K5 -> 28383216
H62: =+H61-G61 -> 0
A64: เทศบาลตำบลเขาพระ อำเภอพิปูน จังหวัดนครศรีธรรมราช
A65: รายงาน รับ - จ่ายเงิน
A66: ปีงบประมาณ 2559 ประจำเดือน พฤศจิกายน
A68: จนถึงปัจจุบัน | E68: รายการ | F68: รหัสบัญชี | G68: จำนวนเงิน เดือนนี้ ที่เกิดขึ้นจริง(บาท)
A69: ประมาณการ (บาท) | B69: เงินอุดหนุนระบุ วัตถุประสงค์/ เฉพาะกิจ(บาท) | C69: รวม (บาท) | D69: เกิดขึ้นจริง (บาท)
D70: 30620913 | E70: ยอดยกมา | G70: =+G61 -> 28383216
E71: รายรับ (หมายเหตุ 1)
A72: 198000 | C72: =+A72 -> 198000 | D72: =+G72+D9 -> 0 | E72: ภาษีอากร | F72: 411000 | G72: 0
A73: 272200 | C73: =+A73 -> 272200 | D73: =+G73+D10 -> 41421.15 | E73: ค่าธรรมเนียม ค่าปรับและใบอนุญาต | F73: 412000 | G73: 18929.4
A74: 300500 | C74: =+A74 -> 300500 | D74: =+G74+D11 -> 0 | E74: รายได้จากทรัพย์สิน | F74: 413000 | G74: 0
A75: 300000 | C75: =+A75 -> 300000 | D75: =+G75+D12 -> 53080 | E75: รายได้จากสาธารณูปโภคและการพาณิชย์ | F75: 414000 | G75: 31535
A76: 60000 | C76: =+A76 -> 60000 | D76: =+G76+D13 -> 30648 | E76: รายได้เบ็ดเตล็ด | F76: 415000 | G76: 30540
A77: 15000 | C77: =+A77 -> 15000 | D77: =+G77+D14 -> 0 | E77: รายได้จากทุน | F77: 416000 | G77: 0
A78: 16076000 | C78: =+A78 -> 16076000 | D78: =+G78+D15 -> 2665074 | E78: ภาษีจัดสรร | F78: 421000 | G78: 1373029.1
A79: 16100000 | C79: =+A79 -> 16100000 | D79: =+G79+D16 -> 6086807 | E79: เงินอุดหนุนทั่วไป | F79: 431002 | G79: 6086807
B80: =+G80 -> 3485940 | D80: =+B80 -> 3485940 | E80: เงินอุดหนุนทั่วไปกำหนดวัตถุประสงค์/เฉพาะกิจ | F80: 441000 | G80: 3485940
A81: =SUM(A72:A80) -> 33321700 | B81: =SUM(B72:B80) -> 3485940 | C81: =SUM(C72:C80) -> 33321700 | D81: =SUM(D72:D80) -> 12362970 | E81: รวม | G81: =SUM(G72:G80) -> 11026780 | H81: =+D81+B81 -> 15848910
D82: =+G82+D19 -> 28586 | E82: ลูกหนี้เงินยืม | F82: 113100 | G82: =4900+4900 -> 9800
D83: =+G83+D20 -> 2091920 | E83: ลูกหนี้เงินยืมเงินสะสม | F83: 113700 | G83: =825600+147200+115580+147200+824000 -> 2059580
D84: =+G84+D21 -> 32340 | E84: รายได้จากรัฐบาลค้างรับ | F84: 113200 | G84: 0
D85: =+G85+D22 -> 27697.04 | E85: เงินรับฝากภาษีหัก ณ ที่จ่าย | F85: 215001 | G85: 16064.85
D86: =+G86+D23 -> 87938 | E86: เงินรับฝากเงินประกันสัญญา | F86: 215008 | G86: 0
D87: =+G87+D24 -> 7549.96 | E87: เงินรับฝากเงินทุนโครงการเศรษฐกิจชุมชน | F87: 215016 | G87: 0
D88: =+G88 -> 3532 | E88: เงินรับฝากอื่นๆ (ค่ารักษาพยาบาล) | F88: 215999 | G88: 3532
D89: =+G89+D25 -> 3 | E89: เงินเกินบัญชี | F89: 216001 | G89: 0
A91: =SUM(A81:A90) -> 33321700 | B91: =SUM(B81:B90) -> 3485940 | C91: =SUM(C81:C90) -> 33321700 | D91: =SUM(D81:D90) -> 14642536 | E91: รวมรายรับ | G91: =SUM(G81:G90) -> 13115757
A96: จนถึงปัจจุบัน | E96: รายการ | F96: รหัสบัญชี | G96: จำนวนเงิน เดือนนี้ ที่เกิดขึ้นจริง(บาท)
A97: ประมาณการ (บาท) | B97: เงินอุดหนุนระบุ วัตถุประสงค์/ เฉพาะกิจ(บาท) | C97: รวม (บาท) | D97: เกิดขึ้นจริง (บาท)
E98: รายจ่าย
A99: 3708560 | C99: =+A99 -> 3708560 | D99: =+G99+D35 -> 42933 | E99: งบกลาง | F99: 100000 | G99: 21083 | H99: =+A99-D99 -> 3665627
A100: 2624640 | C100: =+A100 -> 2624640 | D100: =+G100+D36 -> 437440 | E100: เงินเดือนฝ่ายการเมือง | F100: 210000 | G100: 218720 | H100: =+A100-D100 -> 2187200
A101: =4048500+1923300+432000+730300+361400+1376000+589300 -> 9460800 | C101: =+A101 -> 9460800 | D101: =+G101+D37 -> 1401599.6 | E101: เงินเดือนฝ่ายประจำ | F101: 220000 | G101: 668940 | H101: =+A101-D101 -> 8059200.4
A102: =316000+115800+28000+30000+36000+10500+123000+28800-20000 -> 668100 | C102: =+A102 -> 668100 | D102: =+G102+D38 -> 43553.25 | E102: ค่าตอบแทน | F102: 310000 | G102: 30503.25 | H102: =+A102-D102 -> 624546.75
A103: =1032000+120000+150000+370000+1092500+168000+130000+400000+600000+350000+250000+300000+10000+20000+160000 -> 5152500 | C103: =+A103 -> 5152500 | D103: =+G103+D39 -> 519207.39 | E103: ค่าใช้สอย | F103: 320000 | G103: =419765.5+4900+4900 -> 429565.5 | H103: =+A103-D103 -> 4633292.6
A104: =550000+105000+2178000+120000+60000+350000+450000+50000+140000 -> 4003000 | C104: =+A104 -> 4003000 | D104: =+G104+D40 -> 165423.09 | E104: ค่าวัสดุ | F104: 330000 | G104: 147347.09 | H104: =+A104-D104 -> 3837576.9
A105: =450000+450000 -> 900000 | C105: =+A105 -> 900000 | D105: =+G105+D41 -> 151034.97 | E105: ค่าสาธารณูปโภค | F105: 340000 | G105: 68061.54 | H105: =+A105-D105 -> 748965.03
A106: =50000+36000+113000+91600+71000+70500+9900+26000-15900 -> 452100 | C106: =+A106 -> 452100 | D106: =+G106+D42 -> 0 | E106: ค่าครุภัณฑ์ | F106: 410000 | G106: 0 | H106: =+A106-D106 -> 452100
A107: =398000+15000+1726000 -> 2139000 | C107: =+A107 -> 2139000 | D107: =+G107+D43 -> 0 | E107: ค่าที่ดินและสิ่งก่อสร้าง | F107: 420000 | G107: 0 | H107: =+A107-D107 -> 2139000
A108: 25000 | C108: =+A108 -> 25000 | D108: =+G108+D44 -> 0 | E108: รายจ่ายอื่นๆ | F108: 510000 | G108: 0 | H108: =+A108-D108 -> 25000
A109: =20000+3792000+240000+10000+126000 -> 4188000 | C109: =+A109 -> 4188000 | D109: =+G109+D45 -> 982000 | E109: เงินอุดหนุน | F109: 610000 | G109: 975000 | H109: =+A109-D109 -> 3206000
A110: =SUM(A99:A109) -> 33321700 | B110: =SUM(B99:B109) -> 0 | C110: =SUM(C99:C109) -> 33321700 | D110: =SUM(D99:D109) -> 3743191.3 | E110: รวม | G110: =SUM(G99:G109) -> 2559220.4 | H110: =SUM(H99:H109) -> 29578509
B111: =+G111 -> 2179710.3 | D111: =+G111 -> 2179710.3 | E111: =+E80 -> เงินอุดหนุนทั่วไปกำหนดวัตถุประสงค์/เฉพาะกิจ | F111: 441000 | G111: =1357+91640+27133.33+825600+147200+91640+22800+1140+147200+824000 -> 2179710.3
D112: =+G112+D47 -> 380121 | E112: เงินสะสม | F112: 310000 | G112: 269414
D113: =+G113+D48 -> 0 | E113: เงินทุนสำรองเงินสะสม | F113: 320000 | G113: 0
...

Sheet งบทดลอง
A1: เทศบาลตำบลเขาพระ อำเภอพิปูน จังหวัดนครศรีธรรมราช | F1: เทศบาลตำบลเขาพระ อำเภอพิปูน จังหวัดนครศรีธรรมราช | K1: เทศบาลตำบลเขาพระ อำเภอพิปูน จังหวัดนครศรีธรรมราช | P1: เทศบาลตำบลเขาพระ อำเภอพิปูน จังหวัดนครศรีธรรมราช | U1: เทศบาลตำบลเขาพระ อำเภอพิปูน จังหวัดนครศรีธรรมราช
A2: งบทดลอง | F2: งบทดลอง | K2: งบทดลอง | P2: งบทดลอง | U2: งบทดลอง
A3: ณ วันที่ 31 ตุลาคม 2558 | F3: ณ วันที่ 30 พฤศจิกายน 2558 | K3: ณ วันที่ 31 ธันวาคม 2558 | P3: ณ วันที่ 31 มกราคม 2559 | U3: ณ วันที่ 29 กุมภาพันธ์ 2559
A4: รายการ | C4: รหัสบัญชี | D4: เดบิต | E4: เครดิต | F4: รายการ | H4: รหัสบัญชี | I4: เดบิต | J4: เครดิต | K4: รายการ | M4: รหัสบัญชี | N4: เดบิต | O4: เครดิต | P4: รายการ | R4: รหัสบัญชี | S4: เดบิต | T4: เครดิต | U4: รายการ | W4: รหัสบัญชี | X4: เดบิต | Y4: เครดิต
A5: เงินสด | C5: 111100 | D5: =SUM(งบดุลบัญชี!K4) -> 0 | F5: เงินสด | H5: 111100 | I5: =SUM(งบดุลบัญชี!P4) -> 0 | K5: เงินสด | M5: 111100 | N5: =+งบดุลบัญชี!W4 -> 0 | P5: เงินสด | R5: 111100 | S5: =+งบดุลบัญชี!AC4 -> 65.95 | U5: เงินสด | W5: 111100 | X5: =+งบดุลบัญชี!AI4 -> 5432
A6: เงินฝาก กรุงไทย (ออมทรัพย์) เลขที่บัญชี 835-0-00451-9 | C6: 111201 | D6: 21992676 | F6: เงินฝาก กรุงไทย (ออมทรัพย์) เลขที่บัญชี 835-0-00451-9 | H6: 111201 | I6: =+งบดุลบัญชี!Q11 -> 27734300 | K6: เงินฝาก กรุงไทย (ออมทรัพย์) เลขที่บัญชี 835-0-00451-9 | M6: 111201 | N6: =+งบดุลบัญชี!W11 -> 20945442 | P6: เงินฝาก กรุงไทย (ออมทรัพย์) เลขที่บัญชี 835-0-00451-9 | R6: 111201 | S6: =+งบดุลบัญชี!AC11 -> 26529018 | U6: เงินฝาก กรุงไทย (ออมทรัพย์) เลขที่บัญชี 835-0-00451-9 | W6: 111201 | X6: =+งบดุลบัญชี!AI11 -> 25982544
A7: เงินฝาก ธ.ก.ส. (ออมทรัพย์) เลขที่บัญชี 815-2-37037-4 | C7: 111201 | D7: 6343782.9 | F7: เงินฝาก ธ.ก.ส. (ออมทรัพย์) เลขที่บัญชี 815-2-37037-4 | H7: 111201 | I7: =+งบดุลบัญชี!Q13 -> 6467881 | K7: เงินฝาก ธ.ก.ส. (ออมทรัพย์) เลขที่บัญชี 815-2-37037-4 | M7: 111201 | N7: =+งบดุลบัญชี!W13 -> 11873783 | P7: เงินฝาก ธ.ก.ส. (ออมทรัพย์) เลขที่บัญชี 815-2-37037-4 | R7: 111201 | S7: =+งบดุลบัญชี!AC13 -> 9297881.2 | U7: เงินฝาก ธ.ก.ส. (ออมทรัพย์) เลขที่บัญชี 815-2-37037-4 | W7: 111201 | X7: =+งบดุลบัญชี!AI13 -> 7215090.7
A8: เงินฝาก ธ.ก.ส. (ออมทรัพย์) เลขที่บัญชี 815-2-50915-1 | C8: 111201 | D8: 46756.94 | F8: เงินฝาก ธ.ก.ส. (ออมทรัพย์) เลขที่บัญชี 815-2-50915-1 | H8: 111201 | I8: =+งบดุลบัญชี!Q14 -> 46756.94 | K8: เงินฝาก ธ.ก.ส. (ออมทรัพย์) เลขที่บัญชี 815-2-50915-1 | M8: 111201 | N8: =+งบดุลบัญชี!W14 -> 46756.94 | P8: เงินฝาก ธ.ก.ส. (ออมทรัพย์) เลขที่บัญชี 815-2-50915-1 | R8: 111201 | S8: =+งบดุลบัญชี!AC14 -> 46756.94 | U8: เงินฝาก ธ.ก.ส. (ออมทรัพย์) เลขที่บัญชี 815-2-50915-1 | W8: 111201 | X8: =+งบดุลบัญชี!AI14 -> 46756.94
A9: เงินฝาก ก.ส.ท. | C9: 112002 | D9: 2628811.4 | F9: เงินฝาก ก.ส.ท. | H9: 112002 | I9: =+งบดุลบัญชี!Q17 -> 2628811.4 | K9: เงินฝาก ก.ส.ท. | M9: 112002 | N9: =+งบดุลบัญชี!W17 -> 3062656.5 | P9: เงินฝาก ก.ส.ท. | R9: 112002 | S9: =+งบดุลบัญชี!AC17 -> 3062656.5 | U9: เงินฝาก ก.ส.ท. | W9: 112002 | X9: =+งบดุลบัญชี!AI17 -> 3062656.5
A10: ลูกหนี้เงินยืม | C10: 113100 | D10: 9800 | F10: ลูกหนี้เงินยืม | H10: 113100 | I10: =+งบดุลบัญชี!Q18 -> 6300 | K10: ลูกหนี้เงินยืม | M10: 113100 | N10: =+งบดุลบัญชี!W18 -> 0 | P10: ลูกหนี้เงินยืม | R10: 113100 | S10: =+งบดุลบัญชี!AC18 -> 105400 | U10: ลูกหนี้เงินยืม | W10: 113100 | X10: =+งบดุลบัญชี!AI18 -> 80600
A11: รายได้จากรัฐบาลค้างรับ | C11: 113200 | D11: 0 | F11: รายได้จากรัฐบาลค้างรับ | H11: 113200 | I11: =+งบดุลบัญชี!Q19 -> 0 | K11: รายได้จากรัฐบาลค้างรับ | M11: 113200 | N11: =+งบดุลบัญชี!W19 -> 0 | P11: รายได้จากรัฐบาลค้างรับ | R11: 113200 | S11: =+งบดุลบัญชี!AC19 -> 0 | U11: รายได้จากรัฐบาลค้างรับ | W11: 113200 | X11: =+งบดุลบัญชี!AI19 -> 0
A12: ลูกหนี้ภาษีบำรุงท้องที่ | C12: 113302 | D12: 11053.24 | F12: ลูกหนี้ภาษีบำรุงท้องที่ | H12: 113302 | I12: =+งบดุลบัญชี!Q20 -> 11053.24 | K12: ลูกหนี้ภาษีบำรุงท้องที่ | M12: 113302 | N12: =+งบดุลบัญชี!W20 -> 11053.24 | P12: ลูกหนี้ภาษีบำรุงท้องที่ | R12: 113302 | S12: =+งบดุลบัญชี!AC20 -> 10814.27 | U12: ลูกหนี้ภาษีบำรุงท้องที่ | W12: 113302 | X12: =+งบดุลบัญชี!AI20 -> 8786.53
A13: ลูกหนี้รายได้อื่นๆ | C13: 113400 | D13: 191626.86 | F13: ลูกหนี้รายได้อื่นๆ | H13: 113400 | I13: =+งบดุลบัญชี!Q21 -> 191626.86 | K13: ลูกหนี้รายได้อื่นๆ | M13: 113400 | N13: =+งบดุลบัญชี!W21 -> 191626.86 | P13: ลูกหนี้รายได้อื่นๆ | R13: 113400 | S13: =+งบดุลบัญชี!AC21 -> 191626.86 | U13: ลูกหนี้รายได้อื่นๆ | W13: 113400 | X13: =+งบดุลบัญชี!AI21 -> 191626.86
A14: ลูกหนี้เงินทุนโครงการเศรษฐกิจชุมชน | C14: 113500 | D14: 231294.61 | F14: ลูกหนี้เงินทุนโครงการเศรษฐกิจชุมชน | H14: 113500 | I14: =+งบดุลบัญชี!Q22 -> 231294.61 | K14: ลูกหนี้เงินทุนโครงการเศรษฐกิจชุมชน | M14: 113500 | N14: =+งบดุลบัญชี!W22 -> 231294.61 | P14: ลูกหนี้เงินทุนโครงการเศรษฐกิจชุมชน | R14: 113500 | S14: =+งบดุลบัญชี!AC22 -> 231294.61 | U14: ลูกหนี้เงินทุนโครงการเศรษฐกิจชุมชน | W14: 113500 | X14: =+งบดุลบัญชี!AI22 -> 158891
A15: ลูกหนี้เงินยืมเงินสะสม | C15: 113700 | D15: 1088380 | F15: ลูกหนี้เงินยืมเงินสะสม | H15: 113700 | I15: =+งบดุลบัญชี!Q23 -> 0 | K15: ลูกหนี้เงินยืมเงินสะสม | M15: 113700 | N15: =+งบดุลบัญชี!W23 -> 0 | P15: ลูกหนี้เงินยืมเงินสะสม | R15: 113700 | S15: =+งบดุลบัญชี!AC23 -> 0 | U15: ลูกหนี้เงินยืมเงินสะสม | W15: 113700 | X15: =+งบดุลบัญชี!AI23 -> 0
A16: ทรัพย์สินเกิดจากเงินกู้ | C16: 121000 | D16: 21339050 | F16: ทรัพย์สินเกิดจากเงินกู้ | H16: 121000 | I16: =+งบดุลบัญชี!Q24 -> 21339050 | K16: ทรัพย์สินเกิดจากเงินกู้ | M16: 121000 | N16: =+งบดุลบัญชี!W24 -> 21339050 | P16: ทรัพย์สินเกิดจากเงินกู้ | R16: 121000 | S16: =+งบดุลบัญชี!AC24 -> 21339050 | U16: ทรัพย์สินเกิดจากเงินกู้ | W16: 121000 | X16: =+งบดุลบัญชี!AI24 -> 21339050
A17: เงินรายรับ (หมายเหตุ 1) | C17: 400000 | E17: 1336189.7 | F17: เงินรายรับ (หมายเหตุ 1) | H17: 400000 | J17: =+งบดุลบัญชี!R117 -> 12362970 | K17: เงินรายรับ (หมายเหตุ 1) | M17: 400000 | O17: =+งบดุลบัญชี!X117 -> 15837296 | P17: เงินรายรับ (หมายเหตุ 1) | R17: 400000 | T17: =+งบดุลบัญชี!AD117 -> 23061425 | U17: เงินรายรับ (หมายเหตุ 1) | W17: 400000 | Y17: =+งบดุลบัญชี!AJ117 -> 24889618
A18: รายจ่ายค้างจ่าย (หมายเหตุ 2) | C18: 211000 | E18: 4331758 | F18: รายจ่ายค้างจ่าย (หมายเหตุ 2) | H18: 211000 | J18: =+งบดุลบัญชี!R27 -> 3084315 | K18: รายจ่ายค้างจ่าย (หมายเหตุ 2) | M18: 211000 | O18: =+งบดุลบัญชี!X27 -> 1771202 | P18: รายจ่ายค้างจ่าย (หมายเหตุ 2) | R18: 211000 | T18: =+งบดุลบัญชี!AD27 -> 1252779 | U18: รายจ่ายค้างจ่าย (หมายเหตุ 2) | W18: 211000 | Y18: =+งบดุลบัญชี!AJ27 -> 1154779
A19: เงินรับฝาก (หมายเหตุ 3) | C19: 215000 | E19: 1116520.9 | F19: เงินรับฝาก (หมายเหตุ 3) | H19: 215000 | J19: =+งบดุลบัญชี!R32 -> 1119370.6 | K19: เงินรับฝาก (หมายเหตุ 3) | M19: 215000 | O19: =+งบดุลบัญชี!X32 -> 1156958.7 | P19: เงินรับฝาก (หมายเหตุ 3) | R19: 215000 | T19: =+งบดุลบัญชี!AD32 -> 1222745.7 | U19: เงินรับฝาก (หมายเหตุ 3) | W19: 215000 | Y19: =+งบดุลบัญชี!AJ32 -> 1242539.8
A20: เงินเกินบัญชี | C20: 216001 | E20: 0 | F20: เงินเกินบัญชี | H20: 216001 | J20: =+งบดุลบัญชี!R46 -> 0 | K20: เงินเกินบัญชี | M20: 216001 | O20: =+งบดุลบัญชี!X46 -> 0 | P20: เงินเกินบัญชี | R20: 216001 | T20: =+งบดุลบัญชี!AD46 -> 0 | U20: เงินเกินบัญชี | W20: 216001 | Y20: =+งบดุลบัญชี!AJ46 -> 0
A21: เจ้าหนี้เงินกู้เงินทุนส่งเสริมกิจการเทศบาล | C21: 221202 | E21: 21332406 | F21: เจ้าหนี้เงินกู้เงินทุนส่งเสริมกิจการเทศบาล | H21: 221202 | J21: =+งบดุลบัญชี!R47 -> 21332406 | K21: เจ้าหนี้เงินกู้เงินทุนส่งเสริมกิจการเทศบาล | M21: 221202 | O21: =+งบดุลบัญชี!X47 -> 21332406 | P21: เจ้าหนี้เงินกู้เงินทุนส่งเสริมกิจการเทศบาล | R21: 221202 | T21: =+งบดุลบัญชี!AD47 -> 21332406 | U21: เจ้าหนี้เงินกู้เงินทุนส่งเสริมกิจการเทศบาล | W21: 221202 | Y21: =+งบดุลบัญชี!AJ47 -> 21332406
A22: เงินสะสม | C22: 310000 | E22: 12729569 | F22: เงินสะสม | H22: 310000 | J22: =+งบดุลบัญชี!R48 -> 12460155 | K22: เงินสะสม | M22: 310000 | O22: =+งบดุลบัญชี!X48 -> 12237015 | P22: เงินสะสม | R22: 310000 | T22: =+งบดุลบัญชี!AD48 -> 12237015 | U22: เงินสะสม | W22: 310000 | Y22: =+งบดุลบัญชี!AJ48 -> 10991515
A23: เงินทุนสำรองเงินสะสม | C23: 320000 | E23: 14220760 | F23: เงินทุนสำรองเงินสะสม | H23: 320000 | J23: =+งบดุลบัญชี!R49 -> 14220760 | K23: เงินทุนสำรองเงินสะสม | M23: 320000 | O23: =+งบดุลบัญชี!X49 -> 14220760 | P23: เงินทุนสำรองเงินสะสม | R23: 320000 | T23: =+งบดุลบัญชี!AD49 -> 14220760 | U23: เงินทุนสำรองเงินสะสม | W23: 320000 | Y23: =+งบดุลบัญชี!AJ49 -> 14220760
A24: งบกลาง | C24: 510000 | D24: 21850 | F24: งบกลาง | H24: 510000 | I24: =+งบดุลบัญชี!Q120+งบดุลบัญชี!Q144 -> 1989430 | K24: งบกลาง | M24: 510000 | N24: =+งบดุลบัญชี!W120+งบดุลบัญชี!W144 -> 3345235 | P24: งบกลาง | R24: 510000 | S24: =+งบดุลบัญชี!AC120+งบดุลบัญชี!AC144 -> 4533207.7 | U24: งบกลาง | W24: 510000 | X24: =+งบดุลบัญชี!AI120+งบดุลบัญชี!AI144 -> 5549043.7
A25: เงินเดือน (ฝ่ายการเมือง) | C25: 521000 | D25: 218720 | F25: เงินเดือน (ฝ่ายการเมือง) | H25: 521000 | I25: =+งบดุลบัญชี!Q130 -> 437440 | K25: เงินเดือน (ฝ่ายการเมือง) | M25: 521000 | N25: =+งบดุลบัญชี!W130 -> 656160 | P25: เงินเดือน (ฝ่ายการเมือง) | R25: 521000 | S25: =+งบดุลบัญชี!AC130 -> 874880 | U25: เงินเดือน (ฝ่ายการเมือง) | W25: 521000 | X25: =+งบดุลบัญชี!AI130 -> 1093600
A26: เงินเดือน (ฝ่ายประจำ) | C26: 522000 | D26: 732659.61 | F26: เงินเดือน (ฝ่ายประจำ) | H26: 522000 | I26: =+งบดุลบัญชี!Q131+งบดุลบัญชี!Q151+งบดุลบัญชี!Q152 -> 1634812.9 | K26: เงินเดือน (ฝ่ายประจำ) | M26: 522000 | N26: =+งบดุลบัญชี!W131+งบดุลบัญชี!W151+งบดุลบัญชี!W152 -> 2428192.9 | P26: เงินเดือน (ฝ่ายประจำ) | R26: 522000 | S26: =+งบดุลบัญชี!AC131+งบดุลบัญชี!AC151+งบดุลบัญชี!AC152 -> 3432295.6 | U26: เงินเดือน (ฝ่ายประจำ) | W26: 522000 | X26: =+งบดุลบัญชี!AI131+งบดุลบัญชี!AI151+งบดุลบัญชี!AI152 -> 4245682.6
A27: ค่าตอบแทน | C27: 531000 | D27: 13050 | F27: ค่าตอบแทน | H27: 531000 | I27: =+งบดุลบัญชี!Q132 -> 43553.25 | K27: ค่าตอบแทน | M27: 531000 | N27: =+งบดุลบัญชี!W132 -> 72553.25 | P27: ค่าตอบแทน | R27: 531000 | S27: =+งบดุลบัญชี!AC132 -> 101553.25 | U27: ค่าตอบแทน | W27: 531000 | X27: =+งบดุลบัญชี!AI132 -> 137523.25
A28: ค่าใช้สอย | C28: 532000 | D28: 89641.89 | F28: ค่าใช้สอย | H28: 532000 | I28: =+งบดุลบัญชี!Q133 -> 519207.39 | K28: ค่าใช้สอย | M28: 532000 | N28: =+งบดุลบัญชี!W133 -> 802714.94 | P28: ค่าใช้สอย | R28: 532000 | S28: =+งบดุลบัญชี!AC133 -> 944801.44 | U28: ค่าใช้สอย | W28: 532000 | X28: =+งบดุลบัญชี!AI133 -> 1643476
A29: ค่าวัสดุ | C29: 533000 | D29: 18076 | F29: ค่าวัสดุ | H29: 533000 | I29: =+งบดุลบัญชี!Q134 -> 165423.09 | K29: ค่าวัสดุ | M29: 533000 | N29: =+งบดุลบัญชี!W134 -> 333138.34 | P29: ค่าวัสดุ | R29: 533000 | S29: =+งบดุลบัญชี!AC134 -> 404289.93 | U29: ค่าวัสดุ | W29: 533000 | X29: =+งบดุลบัญชี!AI134 -> 536647.99
A30: ค่าสาธารณูปโภค | C30: 534000 | D30: 82973.43 | F30: ค่าสาธารณูปโภค | H30: 534000 | I30: =+งบดุลบัญชี!Q135 -> 151034.97 | K30: ค่าสาธารณูปโภค | M30: 534000 | N30: =+งบดุลบัญชี!W135 -> 233979.86 | P30: ค่าสาธารณูปโภค | R30: 534000 | S30: =+งบดุลบัญชี!AC135 -> 254566.75 | U30: ค่าสาธารณูปโภค | W30: 534000 | X30: =+งบดุลบัญชี!AI135 -> 406238.93
A31: ค่าครุภัณฑ์ | C31: 541000 | D31: 0 | F31: ค่าครุภัณฑ์ | H31: 541000 | I31: =+งบดุลบัญชี!Q136 -> 0 | K31: ค่าครุภัณฑ์ | M31: 541000 | N31: =+งบดุลบัญชี!W136 -> 0 | P31: ค่าครุภัณฑ์ | R31: 541000 | S31: =+งบดุลบัญชี!AC136 -> 14970 | U31: ค่าครุภัณฑ์ | W31: 541000 | X31: =+งบดุลบัญชี!AI136 -> 124970
A32: ค่าที่ดินและสิ่งก่อสร้าง | C32: 542000 | D32: 0 | F32: ค่าที่ดินและสิ่งก่อสร้าง | H32: 542000 | I32: =+งบดุลบัญชี!Q137 -> 0 | K32: ค่าที่ดินและสิ่งก่อสร้าง | M32: 542000 | N32: =+งบดุลบัญชี!W137 -> 0 | P32: ค่าที่ดินและสิ่งก่อสร้าง | R32: 542000 | S32: =+งบดุลบัญชี!AC137 -> 15000 | U32: ค่าที่ดินและสิ่งก่อสร้าง | W32: 542000 | X32: =+งบดุลบัญชี!AI137 -> 15000
A33: รายจ่ายอื่น | C33: 551000 | D33: 0 | F33: รายจ่ายอื่น | H33: 551000 | I33: =+งบดุลบัญชี!Q138 -> 0 | K33: รายจ่ายอื่น | M33: 551000 | N33: =+งบดุลบัญชี!W138 -> 0 | P33: รายจ่ายอื่น | R33: 551000 | S33: =+งบดุลบัญชี!AC138 -> 0 | U33: รายจ่ายอื่น | W33: 551000 | X33: =+งบดุลบัญชี!AH138 -> 0
A34: เงินอุดหนุน | C34: 561000 | D34: 7000 | F34: เงินอุดหนุน | H34: 561000 | I34: =+งบดุลบัญชี!Q139 -> 982000 | K34: เงินอุดหนุน | M34: 561000 | N34: =+งบดุลบัญชี!W139 -> 982000 | P34: เงินอุดหนุน | R34: 561000 | S34: =+งบดุลบัญชี!AC139 -> 1937000 | U34: เงินอุดหนุน | W34: 561000 | X34: =+งบดุลบัญชี!AI139 -> 1988000
A37: รวม | D37: =SUM(D5:D36) -> 55067203 | E37: =SUM(E5:E36) -> 55067203 | F37: รวม | I37: =SUM(I5:I36) -> 64579976 | J37: =SUM(J5:J36) -> 64579976 | K37: รวม | N37: =SUM(N5:N36) -> 66555637 | O37: =SUM(O5:O36) -> 66555637 | P37: รวม | S37: =SUM(S5:S36) -> 73327130 | T37: =SUM(T5:T36) -> 73327130 | U37: รวม | X37: =SUM(X5:X36) -> 73831617 | Y37: =SUM(Y5:Y36) -> 73831617
I38: =+I37-J37 -> 0 | T38: =+T37-S37 -> 0 | X38: =+X37-Y37 -> 0
N39: =+N37-O37 -> 0
A41: (นางชุติมา ลอยประเสริฐ) | B41: (นายวสันต์ ไทรแก้ว) | D41: (นายชวลิต สิทธิฤทธิ์)
A42: หัวหน้าฝ่ายบริหารงานคลัง รักษาราชการแทน | B42: ปลัดเทศบาล | D42: นายกเทศมนตรีตำบลเขาพระ
A43: ผู้อำนวยการกองคลัง
E44: =+E37-D37 -> 0

Sheet หมายเหตุ1 ประกอบงบ
D1: หมายเหตุ 1 | H1: หมายเหตุ 1 | L1: หมายเหตุ 1 | P1: หมายเหตุ 1 | T1: หมายเหตุ 1
A2: เทศบาลตำบลเขาพระ อำเภอพิปูน จังหวัดนครศรีธรรมราช | E2: เทศบาลตำบลเขาพระ อำเภอพิปูน จังหวัดนครศรีธรรมราช | I2: เทศบาลตำบลเขาพระ อำเภอพิปูน จังหวัดนครศรีธรรมราช | M2: เทศบาลตำบลเขาพระ อำเภอพิปูน จังหวัดนครศรีธรรมราช | Q2: เทศบาลตำบลเขาพระ อำเภอพิปูน จังหวัดนครศรีธรรมราช
A3: รายรับจริงประกอบงบทดลองและรายงานรับจ่ายเงิน | E3: รายรับจริงประกอบงบทดลองและรายงานรับจ่ายเงิน | I3: รายรับจริงประกอบงบทดลองและรายงานรับจ่ายเงิน | M3: รายรับจริงประกอบงบทดลองและรายงานรับจ่ายเงิน | Q3: รายรับจริงประกอบงบทดลองและรายงานรับจ่ายเงิน
A4: วันที่ 31 ตุลาคม 2558 | E4: วันที่ 30 พฤศจิกายน 2558 | I4: วันที่ 31 ธันวาคม 2558 | M4: วันที่ 31 มกราคม 2559 | Q4: วันที่ 29 กุมภาพันธ์ 2559
A5: รายการ | B5: รหัสบัญชี | C5: ประมาณการ | D5: รับจริง | E5: รายการ | F5: รหัสบัญชี | G5: ประมาณการ | H5: รับจริง | I5: รายการ | J5: รหัสบัญชี | K5: ประมาณการ | L5: รับจริง | M5: รายการ | N5: รหัสบัญชี | O5: ประมาณการ | P5: รับจริง | Q5: รายการ | R5: รหัสบัญชี | S5: ประมาณการ | T5: รับจริง
A6: รายได้จัดเก็บเอง | B6: 410000 | E6: รายได้จัดเก็บเอง | F6: 410000 | I6: รายได้จัดเก็บเอง | J6: 410000 | M6: รายได้จัดเก็บเอง | N6: 410000 | Q6: รายได้จัดเก็บเอง | R6: 410000
A7: หมวดภาษีอากร | B7: 411000 | E7: หมวดภาษีอากร | F7: 411000 | I7: หมวดภาษีอากร | J7: 411000 | M7: หมวดภาษีอากร | N7: 411000 | Q7: หมวดภาษีอากร | R7: 411000
A8: (1) ภาษีโรงเรือนและที่ดิน | B8: 411001 | C8: 167000 | D8: =SUM(งบดุลบัญชี!H56) -> 0 | E8: (1) ภาษีโรงเรือนและที่ดิน | F8: 411001 | G8: 167000 | H8: =+D8 -> 0 | I8: (1) ภาษีโรงเรือนและที่ดิน | J8: 411001 | K8: 167000 | L8: =+H8 -> 0 | M8: (1) ภาษีโรงเรือนและที่ดิน | N8: 411001 | O8: 167000 | P8: 12911 | Q8: (1) ภาษีโรงเรือนและที่ดิน | R8: 411001 | S8: 167000 | T8: 81906.5
A9: (2) ภาษีบำรุงท้องที่ | B9: 411002 | C9: 22000 | D9: 0 | E9: (2) ภาษีบำรุงท้องที่ | F9: 411002 | G9: 22000 | H9: =+D9 -> 0 | I9: (2) ภาษีบำรุงท้องที่ | J9: 411002 | K9: 22000 | L9: =+H9 -> 0 | M9: (2) ภาษีบำรุงท้องที่ | N9: 411002 | O9: 22000 | P9: 1016.97 | Q9: (2) ภาษีบำรุงท้องที่ | R9: 411002 | S9: 22000 | T9: 6136.23
A10: (3) ภาษีป้าย | B10: 411003 | C10: 9000 | D10: =SUM(งบดุลบัญชี!H58) -> 0 | E10: (3) ภาษีป้าย | F10: 411003 | G10: 9000 | H10: =+D10 -> 0 | I10: (3) ภาษีป้าย | J10: 411003 | K10: 9000 | L10: =+H10 -> 0 | M10: (3) ภาษีป้าย | N10: 411003 | O10: 9000 | P10: 288 | Q10: (3) ภาษีป้าย | R10: 411003 | S10: 9000 | T10: 3716
A11: รวม | C11: =SUM(C8:C10) -> 198000 | D11: =SUM(D8:D10) -> 0 | E11: รวม | G11: =SUM(G8:G10) -> 198000 | H11: =SUM(H8:H10) -> 0 | I11: รวม | K11: =SUM(K8:K10) -> 198000 | L11: =SUM(L8:L10) -> 0 | M11: รวม | O11: =SUM(O8:O10) -> 198000 | P11: =SUM(P8:P10) -> 14215.97 | Q11: รวม | S11: =SUM(S8:S10) -> 198000 | T11: =SUM(T8:T10) -> 91758.73
A12: หมวดค่าธรรมเนียม ค่าปรับและใบอนุญาต | B12: 412000 | E12: หมวดค่าธรรมเนียม ค่าปรับและใบอนุญาต | F12: 412000 | I12: หมวดค่าธรรมเนียม ค่าปรับและใบอนุญาต | J12: 412000 | M12: หมวดค่าธรรมเนียม ค่าปรับและใบอนุญาต | N12: 412000 | Q12: หมวดค่าธรรมเนียม ค่าปรับและใบอนุญาต | R12: 412000
A13: (1) ค่าธรรมเนียมเกี่ยวกับใบอนุญาตการขายสุรา | B13: 412103 | C13: 100 | D13: 0 | E13: (1) ค่าธรรมเนียมเกี่ยวกับใบอนุญาตการขายสุรา | F13: 412103 | G13: 100 | H13: =+D13 -> 0 | I13: (1) ค่าธรรมเนียมเกี่ยวกับใบอนุญาตการขายสุรา | J13: 412103 | K13: 100 | L13: =+H13 -> 0 | M13: (1) ค่าธรรมเนียมเกี่ยวกับใบอนุญาตการขายสุรา | N13: 412103 | O13: 100 | P13: 19.4 | Q13: (1) ค่าธรรมเนียมเกี่ยวกับใบอนุญาตการขายสุรา | R13: 412103 | S13: 100 | T13: 756.6
A14: (2) ค่าธรรมเนียมเก็บและขนขยะมูลฝอย | B14: 412104 | C14: 180000 | D14: 20600 | E14: (2) ค่าธรรมเนียมเก็บและขนขยะมูลฝอย | F14: 412104 | G14: 180000 | H14: 36520 | I14: (2) ค่าธรรมเนียมเก็บและขนขยะมูลฝอย | J14: 412104 | K14: 180000 | L14: 56540 | M14: (2) ค่าธรรมเนียมเก็บและขนขยะมูลฝอย | N14: 412104 | O14: 180000 | P14: 71020 | Q14: (2) ค่าธรรมเนียมเก็บและขนขยะมูลฝอย | R14: 412104 | S14: 180000 | T14: 83280
A15: (3) ค่าธรรมเนียมในการออกหนังสือรับรองการแจ้งสถานที่จำหน่ายอาหาร | B15: 412109 | C15: 5000 | D15: 0 | E15: (3) ค่าธรรมเนียมในการออกหนังสือรับรองการแจ้งสถานที่จำหน่ายอาหาร | F15: 412109 | G15: 5000 | H15: 0 | I15: (3) ค่าธรรมเนียมในการออกหนังสือรับรองการแจ้งสถานที่จำหน่ายอาหาร | J15: 412109 | K15: 5000 | L15: 0 | M15: (3) ค่าธรรมเนียมในการออกหนังสือรับรองการแจ้งสถานที่จำหน่ายอาหาร | N15: 412109 | O15: 5000 | P15: 0 | Q15: (3) ค่าธรรมเนียมในการออกหนังสือรับรองการแจ้งสถานที่จำหน่ายอาหาร | R15: 412109 | S15: 5000 | T15: 150
A16: (4) ค่าธรรมเนียมเกี่ยวกับทะเบียนราษฎร | B16: 412112 | C16: 3000 | D16: 180 | E16: (4) ค่าธรรมเนียมเกี่ยวกับทะเบียนราษฎร | F16: 412112 | G16: 3000 | H16: 600 | I16: (4) ค่าธรรมเนียมเกี่ยวกับทะเบียนราษฎร | J16: 412112 | K16: 3000 | L16: 900 | M16: (4) ค่าธรรมเนียมเกี่ยวกับทะเบียนราษฎร | N16: 412112 | O16: 3000 | P16: 1210 | Q16: (4) ค่าธรรมเนียมเกี่ยวกับทะเบียนราษฎร | R16: 412112 | S16: 3000 | T16: 1430
A17: (5) ค่าธรรมเนียมจดทะเบียนพาณิชย์ | B17: 412128 | C17: 1000 | D17: 100 | E17: (5) ค่าธรรมเนียมจดทะเบียนพาณิชย์ | F17: 412128 | G17: 1000 | H17: 170 | I17: (5) ค่าธรรมเนียมจดทะเบียนพาณิชย์ | J17: 412128 | K17: 1000 | L17: 170 | M17: (5) ค่าธรรมเนียมจดทะเบียนพาณิชย์ | N17: 412128 | O17: 1000 | P17: 170 | Q17: (5) ค่าธรรมเนียมจดทะเบียนพาณิชย์ | R17: 412128 | S17: 1000 | T17: 170
A18: (6) ค่าธรรมเนียมอื่นๆ (ขอใช้น้ำประปา) | B18: 412199 | C18: 1000 | D18: 40 | E18: (6) ค่าธรรมเนียมอื่นๆ (ขอใช้น้ำประปา) | F18: 412199 | G18: 1000 | H18: 100 | I18: (6) ค่าธรรมเนียมอื่นๆ (ขอใช้น้ำประปา) | J18: 412199 | K18: 1000 | L18: 180 | M18: (6) ค่าธรรมเนียมอื่นๆ (ขอใช้น้ำประปา) | N18: 412199 | O18: 1000 | P18: 200 | Q18: (6) ค่าธรรมเนียมอื่นๆ (ขอใช้น้ำประปา) | R18: 412199 | S18: 1000 | T18: 300
A19: (7) ค่าปรับผู้กระทำผิดกฎหมายจราจรทางบก | B19: 412202 | C19: 500 | D19: 0 | E19: (7) ค่าปรับผู้กระทำผิดกฎหมายจราจรทางบก | F19: 412202 | G19: 500 | H19: 0 | I19: (7) ค่าปรับผู้กระทำผิดกฎหมายจราจรทางบก | J19: 412202 | K19: 500 | L19: 0 | M19: (7) ค่าปรับผู้กระทำผิดกฎหมายจราจรทางบก | N19: 412202 | O19: 500 | P19: 0 | Q19: (7) ค่าปรับผู้กระทำผิดกฎหมายจราจรทางบก | R19: 412202 | S19: 500 | T19: 0
A20: (8) ค่าปรับผิดสัญญา | B20: 412210 | C20: 70000 | D20: 0 | E20: (8) ค่าปรับผิดสัญญา | F20: 412210 | G20: 70000 | H20: 2355 | I20: (8) ค่าปรับผิดสัญญา | J20: 412210 | K20: 70000 | L20: 4155 | M20: (8) ค่าปรับผิดสัญญา | N20: 412210 | O20: 70000 | P20: 4155 | Q20: (8) ค่าปรับผิดสัญญา | R20: 412210 | S20: 70000 | T20: 4155
A21: (9) ค่าใบอนุญาตประกอบการสำหรับกิจการที่เป็นอันตรายต่อสุขภาพ | B21: 412303 | C21: 5000 | D21: 1500 | E21: (9) ค่าใบอนุญาตประกอบการสำหรับกิจการที่เป็นอันตรายต่อสุขภาพ | F21: 412303 | G21: 5000 | H21: 1500 | I21: (9) ค่าใบอนุญาตประกอบการสำหรับกิจการที่เป็นอันตรายต่อสุขภาพ | J21: 412303 | K21: 5000 | L21: 2500 | M21: (9) ค่าใบอนุญาตประกอบการสำหรับกิจการที่เป็นอันตรายต่อสุขภาพ | N21: 412303 | O21: 5000 | P21: 2900 | Q21: (9) ค่าใบอนุญาตประกอบการสำหรับกิจการที่เป็นอันตรายต่อสุขภาพ | R21: 412303 | S21: 5000 | T21: 3100
A22: (10) ค่าใบอนุญาตจัดตั้งสถานที่จำหน่ายอาหารซึ่งมีพื้นที่เกิน 200 ตร.ม. | B22: 412304 | C22: 1600 | D22: 0 | E22: (10) ค่าใบอนุญาตจัดตั้งสถานที่จำหน่ายอาหารซึ่งมีพื้นที่เกิน 200 ตร.ม. | F22: 412304 | G22: 1600 | H22: 0 | I22: (10) ค่าใบอนุญาตจัดตั้งสถานที่จำหน่ายอาหารซึ่งมีพื้นที่เกิน 200 ตร.ม. | J22: 412304 | K22: 1600 | L22: 0 | M22: (10) ค่าใบอนุญาตจัดตั้งสถานที่จำหน่ายอาหารซึ่งมีพื้นที่เกิน 200 ตร.ม. | N22: 412304 | O22: 1600 | P22: 0 | Q22: (10) ค่าใบอนุญาตจัดตั้งสถานที่จำหน่ายอาหารซึ่งมีพื้นที่เกิน 200 ตร.ม. | R22: 412304 | S22: 1600 | T22: 0
A23: (11) ค่าใบอนุญาตจัดตั้งตลาดเอกชน | B23: 412306 | C23: 3000 | D23: 0 | E23: (11) ค่าใบอนุญาตจัดตั้งตลาดเอกชน | F23: 412306 | G23: 3000 | H23: 0 | I23: (11) ค่าใบอนุญาตจัดตั้งตลาดเอกชน | J23: 412306 | K23: 3000 | L23: 0 | M23: (11) ค่าใบอนุญาตจัดตั้งตลาดเอกชน | N23: 412306 | O23: 3000 | P23: 0 | Q23: (11) ค่าใบอนุญาตจัดตั้งตลาดเอกชน | R23: 412306 | S23: 3000 | T23: 0
A24: (12) ค่าใบอนุญาตเกี่ยวกับการควบคุมอาคาร | B24: 412307 | C24: 2000 | D24: 71.75 | E24: (12) ค่าใบอนุญาตเกี่ยวกับการควบคุมอาคาร | F24: 412307 | G24: 2000 | H24: 176.15 | I24: (12) ค่าใบอนุญาตเกี่ยวกับการควบคุมอาคาร | J24: 412307 | K24: 2000 | L24: 518.5 | M24: (12) ค่าใบอนุญาตเกี่ยวกับการควบคุมอาคาร | N24: 412307 | O24: 2000 | P24: 607.5 | Q24: (12) ค่าใบอนุญาตเกี่ยวกับการควบคุมอาคาร | R24: 412307 | S24: 2000 | T24: 687.22
A25: รวม | C25: =SUM(C13:C24) -> 272200 | D25: =SUM(D13:D24) -> 22491.75 | E25: รวม | G25: =SUM(G13:G24) -> 272200 | H25: =SUM(H13:H24) -> 41421.15 | I25: รวม | K25: =SUM(K13:K24) -> 272200 | L25: =SUM(L13:L24) -> 64963.5 | M25: รวม | O25: =SUM(O13:O24) -> 272200 | P25: =SUM(P13:P24) -> 80281.9 | Q25: รวม | S25: =SUM(S13:S24) -> 272200 | T25: =SUM(T13:T24) -> 94028.82
A26: หมวดรายได้จากทรัพย์สิน | B26: 413000 | E26: หมวดรายได้จากทรัพย์สิน | F26: 413000 | I26: หมวดรายได้จากทรัพย์สิน | J26: 413000 | M26: หมวดรายได้จากทรัพย์สิน | N26: 413000 | Q26: หมวดรายได้จากทรัพย์สิน | R26: 413000
A27: (1) ค่าเช่าหรือบริการสถานที่ | B27: 413002 | C27: 500 | D27: =SUM(งบดุลบัญชี!H74) -> 0 | E27: (1) ค่าเช่าหรือบริการสถานที่ | F27: 413002 | G27: 500 | H27: =SUM(งบดุลบัญชี!L74) -> 0 | I27: (1) ค่าเช่าหรือบริการสถานที่ | J27: 413002 | K27: 500 | L27: =SUM(งบดุลบัญชี!P74) -> 0 | M27: (1) ค่าเช่าหรือบริการสถานที่ | N27: 413002 | O27: 500 | P27: =SUM(งบดุลบัญชี!T74) -> 0 | Q27: (1) ค่าเช่าหรือบริการสถานที่ | R27: 413002 | S27: 500 | T27: =SUM(งบดุลบัญชี!X74) -> 0
A28: (2) ดอกเบี้ยเงินฝากธนาคาร | B28: 413003 | C28: 300000 | D28: =SUM(งบดุลบัญชี!H75) -> 0 | E28: (2) ดอกเบี้ยเงินฝากธนาคาร | F28: 413003 | G28: 300000 | H28: =SUM(งบดุลบัญชี!L75) -> 0 | I28: (2) ดอกเบี้ยเงินฝากธนาคาร | J28: 413003 | K28: 300000 | L28: =SUM(งบดุลบัญชี!P75) -> 0 | M28: (2) ดอกเบี้ยเงินฝากธนาคาร | N28: 413003 | O28: 300000 | P28: 100021.11 | Q28: (2) ดอกเบี้ยเงินฝากธนาคาร | R28: 413003 | S28: 300000 | T28: 100021.11
A29: (3) ดอกเบี้ยเงินฝาก กสท. | B29: 413003 | C29: 0 | D29: =SUM(งบดุลบัญชี!H76) -> 0 | E29: (3) ดอกเบี้ยเงินฝาก กสท. | F29: 413003 | G29: 0 | H29: =SUM(งบดุลบัญชี!L76) -> 0 | I29: (3) ดอกเบี้ยเงินฝาก กสท. | J29: 413003 | K29: 0 | L29: =SUM(งบดุลบัญชี!P76) -> 0 | M29: (3) ดอกเบี้ยเงินฝาก กสท. | N29: 413003 | O29: 0 | P29: 0 | Q29: (3) ดอกเบี้ยเงินฝาก กสท. | R29: 413003 | S29: 0 | T29: 0
A30: รวม | C30: =SUM(C27:C29) -> 300500 | D30: =SUM(D27:D29) -> 0 | E30: รวม | G30: =SUM(G27:G29) -> 300500 | H30: =SUM(H27:H29) -> 0 | I30: รวม | K30: =SUM(K27:K29) -> 300500 | L30: =SUM(L27:L29) -> 0 | M30: รวม | O30: =SUM(O27:O29) -> 300500 | P30: =SUM(P27:P29) -> 100021.11 | Q30: รวม | S30: =SUM(S27:S29) -> 300500 | T30: =SUM(T27:T29) -> 100021.11
A31: หมวดรายได้จากสาธารณูปโภคและการพาณิชย์ | E31: หมวดรายได้จากสาธารณูปโภคและการพาณิชย์ | I31: หมวดรายได้จากสาธารณูปโภคและการพาณิชย์ | M31: หมวดรายได้จากสาธารณูปโภคและการพาณิชย์ | Q31: หมวดรายได้จากสาธารณูปโภคและการพาณิชย์
A32: (1) รายได้จากสาธารณูปโภคและการพาณิชย์ | B32: 414999 | C32: 300000 | D32: 21545 | E32: (1) รายได้จากสาธารณูปโภคและการพาณิชย์ | F32: 414999 | G32: 300000 | H32: 53080 | I32: (1) รายได้จากสาธารณูปโภคและการพาณิชย์ | J32: 414999 | K32: 300000 | L32: 72715 | M32: (1) รายได้จากสาธารณูปโภคและการพาณิชย์ | N32: 414999 | O32: 300000 | P32: 102635 | Q32: (1) รายได้จากสาธารณูปโภคและการพาณิชย์ | R32: 414999 | S32: 300000 | T32: 121145
A33: รวม | C33: =SUM(C32) -> 300000 | D33: =SUM(D32) -> 21545 | E33: รวม | G33: =SUM(G32) -> 300000 | H33: =SUM(H32) -> 53080 | I33: รวม | K33: =SUM(K32) -> 300000 | L33: =SUM(L32) -> 72715 | M33: รวม | O33: =SUM(O32) -> 300000 | P33: =SUM(P32) -> 102635 | Q33: รวม | S33: =SUM(S32) -> 300000 | T33: =SUM(T32) -> 121145
A34: หมวดรายได้เบ็ดเตล็ด | B34: 415000 | E34: หมวดรายได้เบ็ดเตล็ด | F34: 415000 | I34: หมวดรายได้เบ็ดเตล็ด | J34: 415000 | M34: หมวดรายได้เบ็ดเตล็ด | N34: 415000 | Q34: หมวดรายได้เบ็ดเตล็ด | R34: 415000
A35: (1) ค่าขายแบบแปลน | B35: 415004 | C35: 50000 | D35: 0 | E35: (1) ค่าขายแบบแปลน | F35: 415004 | G35: 50000 | H35: 29500 | I35: (1) ค่าขายแบบแปลน | J35: 415004 | K35: 50000 | L35: 34500 | M35: (1) ค่าขายแบบแปลน | N35: 415004 | O35: 50000 | P35: 34500 | Q35: (1) ค่าขายแบบแปลน | R35: 415004 | S35: 50000 | T35: 34500
A36: (2) รายได้เบ็ดเตล็ดอื่น | B36: 415999 | C36: 10000 | D36: 108 | E36: (2) รายได้เบ็ดเตล็ดอื่น | F36: 415999 | G36: 10000 | H36: 1148 | I36: (2) รายได้เบ็ดเตล็ดอื่น | J36: 415999 | K36: 10000 | L36: 2708 | M36: (2) รายได้เบ็ดเตล็ดอื่น | N36: 415999 | O36: 10000 | P36: 4918 | Q36: (2) รายได้เบ็ดเตล็ดอื่น | R36: 415999 | S36: 10000 | T36: 203350.92
A37: รวม | C37: =SUM(C35:C36) -> 60000 | D37: =SUM(D35:D36) -> 108 | E37: รวม | G37: =SUM(G35:G36) -> 60000 | H37: =SUM(H35:H36) -> 30648 | I37: รวม | K37: =SUM(K35:K36) -> 60000 | L37: =SUM(L35:L36) -> 37208 | M37: รวม | O37: =SUM(O35:O36) -> 60000 | P37: =SUM(P35:P36) -> 39418 | Q37: รวม | S37: =SUM(S35:S36) -> 60000 | T37: =SUM(T35:T36) -> 237850.92
A38: หมวดรายได้จากทุน | B38: 416000 | E38: หมวดรายได้จากทุน | F38: 416000 | I38: หมวดรายได้จากทุน | J38: 416000 | M38: หมวดรายได้จากทุน | N38: 416000 | Q38: หมวดรายได้จากทุน | R38: 416000
A39: (1) ค่าขายทอดตลาดทรัพย์สิน | B39: 416001 | C39: 15000 | D39: 0 | E39: (1) ค่าขายทอดตลาดทรัพย์สิน | F39: 416001 | G39: 15000 | H39: 0 | I39: (1) ค่าขายทอดตลาดทรัพย์สิน | J39: 416001 | K39: 15000 | L39: 0 | M39: (1) ค่าขายทอดตลาดทรัพย์สิน | N39: 416001 | O39: 15000 | P39: 0 | Q39: (1) ค่าขายทอดตลาดทรัพย์สิน | R39: 416001 | S39: 15000 | T39: 0
A40: รวม | C40: =SUM(C39) -> 15000 | D40: =SUM(D39) -> 0 | E40: รวม | G40: =SUM(G39) -> 15000 | H40: =SUM(H39) -> 0 | I40: รวม | K40: =SUM(K39) -> 15000 | L40: =SUM(L39) -> 0 | M40: รวม | O40: =SUM(O39) -> 15000 | P40: =SUM(P39) -> 0 | Q40: รวม | S40: =SUM(S39) -> 15000 | T40: =SUM(T39) -> 0
A43: รายการ | B43: รหัสบัญชี | C43: ประมาณการ | D43: รับจริง | E43: รายการ | F43: รหัสบัญชี | G43: ประมาณการ | H43: รับจริง | I43: รายการ | J43: รหัสบัญชี | K43: ประมาณการ | L43: รับจริง | M43: รายการ | N43: รหัสบัญชี | O43: ประมาณการ | P43: รับจริง | Q43: รายการ | R43: รหัสบัญชี | S43: ประมาณการ | T43: รับจริง
A44: รายได้ที่รัฐบาลเก็บแล้วจัดสรรให้ อปท. | B44: 420000 | E44: รายได้ที่รัฐบาลเก็บแล้วจัดสรรให้ อปท. | F44: 420000 | I44: รายได้ที่รัฐบาลเก็บแล้วจัดสรรให้ อปท. | J44: 420000 | M44: รายได้ที่รัฐบาลเก็บแล้วจัดสรรให้ อปท. | N44: 420000 | Q44: รายได้ที่รัฐบาลเก็บแล้วจัดสรรให้ อปท. | R44: 420000
A45: หมวดภาษีจัดสรร | B45: 421000 | E45: หมวดภาษีจัดสรร | F45: 421000 | I45: หมวดภาษีจัดสรร | J45: 421000 | M45: หมวดภาษีจัดสรร | N45: 421000 | Q45: หมวดภาษีจัดสรร | R45: 421000
A46: (1) ภาษีมูลค่าเพิ่มตาม พรบ.กำหนดแผนฯ 2542 | B46: 421002 | C46: 8000000 | D46: 647500.94 | E46: (1) ภาษีมูลค่าเพิ่มตาม พรบ.กำหนดแผนฯ 2542 | F46: 421002 | G46: 8000000 | H46: 1297708.4 | I46: (1) ภาษีมูลค่าเพิ่มตาม พรบ.กำหนดแผนฯ 2542 | J46: 421002 | K46: 8000000 | L46: 1956828.7 | M46: (1) ภาษีมูลค่าเพิ่มตาม พรบ.กำหนดแผนฯ 2542 | N46: 421002 | O46: 8000000 | P46: 1956828.7 | Q46: (1) ภาษีมูลค่าเพิ่มตาม พรบ.กำหนดแผนฯ 2542 | R46: 421002 | S46: 8000000 | T46: 2855463.7
A47: (2) ภาษีมูลค่าเพิ่มตาม พ.ร.บ.จัดสรรรายได้ฯ | B47: 421004 | C47: 3300000 | D47: 240718.53 | E47: (2) ภาษีมูลค่าเพิ่มตาม พ.ร.บ.จัดสรรรายได้ฯ | F47: 421004 | G47: 3300000 | H47: 518506.86 | I47: (2) ภาษีมูลค่าเพิ่มตาม พ.ร.บ.จัดสรรรายได้ฯ | J47: 421004 | K47: 3300000 | L47: 789952.11 | M47: (2) ภาษีมูลค่าเพิ่มตาม พ.ร.บ.จัดสรรรายได้ฯ | N47: 421004 | O47: 3300000 | P47: 1060841.4 | Q47: (2) ภาษีมูลค่าเพิ่มตาม พ.ร.บ.จัดสรรรายได้ฯ | R47: 421004 | S47: 3300000 | T47: 1060841.4
A48: (3) ภาษีธุรกิจเฉพาะ | B48: 421005 | C48: 150000 | D48: 0 | E48: (3) ภาษีธุรกิจเฉพาะ | F48: 421005 | G48: 150000 | H48: 0 | I48: (3) ภาษีธุรกิจเฉพาะ | J48: 421005 | K48: 150000 | L48: 0 | M48: (3) ภาษีธุรกิจเฉพาะ | N48: 421005 | O48: 150000 | P48: 28733.76 | Q48: (3) ภาษีธุรกิจเฉพาะ | R48: 421005 | S48: 150000 | T48: 28733.76
A49: (4) ภาษีสุรา | B49: 421006 | C49: 1500000 | D49: 114004.59 | E49: (4) ภาษีสุรา | F49: 421006 | G49: 1500000 | H49: 243745.57 | I49: (4) ภาษีสุรา | J49: 421006 | K49: 1500000 | L49: 379370.06 | M49: (4) ภาษีสุรา | N49: 421006 | O49: 1500000 | P49: 544742.63 | Q49: (4) ภาษีสุรา | R49: 421006 | S49: 1500000 | T49: 692206.94
A50: (5) ภาษีสรรพสามิต | B50: 421007 | C50: 2350000 | D50: 246143.31 | E50: (5) ภาษีสรรพสามิต | F50: 421007 | G50: 2350000 | H50: 519535.59 | I50: (5) ภาษีสรรพสามิต | J50: 421007 | K50: 2350000 | L50: 774734.36 | M50: (5) ภาษีสรรพสามิต | N50: 421007 | O50: 2350000 | P50: 1077794.6 | Q50: (5) ภาษีสรรพสามิต | R50: 421007 | S50: 2350000 | T50: 1432658.6
A51: (6) ค่าภาคหลวงแร่ | B51: 421012 | C51: 135000 | D51: 0 | E51: (6) ค่าภาคหลวงแร่ | F51: 421012 | G51: 135000 | H51: 0 | I51: (6) ค่าภาคหลวงแร่ | J51: 421012 | K51: 135000 | L51: 0 | M51: (6) ค่าภาคหลวงแร่ | N51: 421012 | O51: 135000 | P51: 0 | Q51: (6) ค่าภาคหลวงแร่ | R51: 421012 | S51: 135000 | T51: 30620.02
A52: (7) ค่าภาคหลวงปิโตรเลียม | B52: 421013 | C52: 160000 | D52: 16928.57 | E52: (7) ค่าภาคหลวงปิโตรเลียม | F52: 421013 | G52: 160000 | H52: 16928.57 | I52: (7) ค่าภาคหลวงปิโตรเลียม | J52: 421013 | K52: 160000 | L52: 16928.57 | M52: (7) ค่าภาคหลวงปิโตรเลียม | N52: 421013 | O52: 160000 | P52: 16928.57 | Q52: (7) ค่าภาคหลวงปิโตรเลียม | R52: 421013 | S52: 160000 | T52: 33412.3
A53: (8) เงินที่เก็บตามกฎหมายว่าด้วยอุทยานแห่งชาติ | B53: 421014 | C53: 1000 | D53: 0 | E53: (8) เงินที่เก็บตามกฎหมายว่าด้วยอุทยานแห่งชาติ | F53: 421014 | G53: 1000 | H53: 0 | I53: (8) เงินที่เก็บตามกฎหมายว่าด้วยอุทยานแห่งชาติ | J53: 421014 | K53: 1000 | L53: 0 | M53: (8) เงินที่เก็บตามกฎหมายว่าด้วยอุทยานแห่งชาติ | N53: 421014 | O53: 1000 | P53: 0 | Q53: (8) เงินที่เก็บตามกฎหมายว่าด้วยอุทยานแห่งชาติ | R53: 421014 | S53: 1000 | T53: 0
A54: (9) ค่าธรรมเนียมจดทะเบียนสิทธิและนิติกรรมตามประมวลกฎหมายที่ดิน | B54: 421015 | C54: 480000 | D54: 26749 | E54: (9) ค่าธรรมเนียมจดทะเบียนสิทธิและนิติกรรมตามประมวลกฎหมายที่ดิน | F54: 421015 | G54: 480000 | H54: 68649 | I54: (9) ค่าธรรมเนียมจดทะเบียนสิทธิและนิติกรรมตามประมวลกฎหมายที่ดิน | J54: 421015 | K54: 480000 | L54: 68649 | M54: (9) ค่าธรรมเนียมจดทะเบียนสิทธิและนิติกรรมตามประมวลกฎหมายที่ดิน | N54: 421015 | O54: 480000 | P54: 146569 | Q54: (9) ค่าธรรมเนียมจดทะเบียนสิทธิและนิติกรรมตามประมวลกฎหมายที่ดิน | R54: 421015 | S54: 480000 | T54: 218463
A55: รวม | C55: =SUM(C46:C54) -> 16076000 | D55: =SUM(D46:D54) -> 1292044.9 | E55: รวม | G55: =SUM(G46:G54) -> 16076000 | H55: =SUM(H46:H54) -> 2665074 | I55: รวม | K55: =SUM(K46:K54) -> 16076000 | L55: =SUM(L46:L54) -> 3986462.8 | M55: รวม | O55: =SUM(O46:O54) -> 16076000 | P55: =SUM(P46:P54) -> 4832438.6 | Q55: รวม | S55: =SUM(S46:S54) -> 16076000 | T55: =SUM(T46:T54) -> 6352399.7
A56: รายได้ที่รัฐบาลอุดหนุนให้ อปท. | B56: 430000 | E56: รายได้ที่รัฐบาลอุดหนุนให้ อปท. | F56: 430000 | I56: รายได้ที่รัฐบาลอุดหนุนให้ อปท. | J56: 430000 | M56: รายได้ที่รัฐบาลอุดหนุนให้ อปท. | N56: 430000 | Q56: รายได้ที่รัฐบาลอุดหนุนให้ อปท. | R56: 430000
A57: หมวดเงินอุดหนุนทั่วไป | B57: 431000 | E57: หมวดเงินอุดหนุนทั่วไป | F57: 431000 | I57: หมวดเงินอุดหนุนทั่วไป | J57: 431000 | M57: หมวดเงินอุดหนุนทั่วไป | N57: 431000 | Q57: หมวดเงินอุดหนุนทั่วไป | R57: 431000
A58: (1) เงินอุดหนุนตามอำนาจหน้าที่และภารกิจถ่ายโอนเลือกทำ | B58: 431002 | C58: 16100000 | D58: 0 | E58: (1) เงินอุดหนุนตามอำนาจหน้าที่และภารกิจถ่ายโอนเลือกทำ | F58: 431002 | G58: 16100000 | H58: 6086807 | I58: (1) เงินอุดหนุนตามอำนาจหน้าที่และภารกิจถ่ายโอนเลือกทำ | J58: 431002 | K58: 16100000 | L58: 6086807 | M58: (1) เงินอุดหนุนตามอำนาจหน้าที่และภารกิจถ่ายโอนเลือกทำ | N58: 431002 | O58: 16100000 | P58: 11921964 | Q58: (1) เงินอุดหนุนตามอำนาจหน้าที่และภารกิจถ่ายโอนเลือกทำ | R58: 431002 | S58: 16100000 | T58: 11921964
A59: รวม | C59: =SUM(C58) -> 16100000 | D59: =SUM(D58) -> 0 | E59: รวม | G59: =SUM(G58) -> 16100000 | H59: =SUM(H58) -> 6086807 | I59: รวม | K59: =SUM(K58) -> 16100000 | L59: =SUM(L58) -> 6086807 | M59: รวม | O59: =SUM(O58) -> 16100000 | P59: =SUM(P58) -> 11921964 | Q59: รวม | S59: =SUM(S58) -> 16100000 | T59: =SUM(T58) -> 11921964
A60: รวมรายรับตามงบประมาณ | C60: =SUM(C11,C25,C30,C33,C37,C40,C55,C59) -> 33321700 | D60: =SUM(D11,D25,D30,D33,D37,D40,D55,D59) -> 1336189.7 | E60: รวมรายรับตามงบประมาณ | G60: =SUM(G11,G25,G30,G33,G37,G40,G55,G59) -> 33321700 | H60: =SUM(H11,H25,H30,H33,H37,H40,H55,H59) -> 8877030.2 | I60: รวมรายรับตามงบประมาณ | K60: =SUM(K11,K25,K30,K33,K37,K40,K55,K59) -> 33321700 | L60: =SUM(L11,L25,L30,L33,L37,L40,L55,L59) -> 10248156 | M60: รวมรายรับตามงบประมาณ | O60: =SUM(O11,O25,O30,O33,O37,O40,O55,O59) -> 33321700 | P60: =SUM(P11,P25,P30,P33,P37,P40,P55,P59) -> 17090975 | Q60: รวมรายรับตามงบประมาณ | S60: =SUM(S11,S25,S30,S33,S37,S40,S55,S59) -> 33321700 | T60: =SUM(T11,T25,T30,T33,T37,T40,T55,T59) -> 18919168
A61: รายได้ที่รัฐบาลอุดหนุนให้โดยระบุวัตถุประสงค์/เฉพาะกิจ | B61: 440000 | E61: รายได้ที่รัฐบาลอุดหนุนให้โดยระบุวัตถุประสงค์/เฉพาะกิจ | F61: 440000 | I61: รายได้ที่รัฐบาลอุดหนุนให้โดยระบุวัตถุประสงค์/เฉพาะกิจ | J61: 440000 | M61: รายได้ที่รัฐบาลอุดหนุนให้โดยระบุวัตถุประสงค์/เฉพาะกิจ | N61: 440000 | Q61: รายได้ที่รัฐบาลอุดหนุนให้โดยระบุวัตถุประสงค์/เฉพาะกิจ | R61: 440000
A62: หมวดเงินอุดหนุนระบุวัตถุประสงค์/เฉพาะกิจ | B62: 441000 | E62: หมวดเงินอุดหนุนระบุวัตถุประสงค์/เฉพาะกิจ | F62: 441000 | I62: หมวดเงินอุดหนุนระบุวัตถุประสงค์/เฉพาะกิจ | J62: 441000 | M62: หมวดเงินอุดหนุนระบุวัตถุประสงค์/เฉพาะกิจ | N62: 441000 | Q62: หมวดเงินอุดหนุนระบุวัตถุประสงค์/เฉพาะกิจ | R62: 441000
A63: (1) เงินอุดหนุนระบุวัตถุประสงค์/เฉพาะกิจจากกรมส่งเสริมการปกครองท้องถิ่น | B63: 441001 | D63: =SUM(งบดุลบัญชี!H104) -> 0 | E63: (1) เงินอุดหนุนระบุวัตถุประสงค์/เฉพาะกิจจากกรมส่งเสริมการปกครองท้องถิ่น | F63: 441001 | H63: 3485940 | I63: (1) เงินอุดหนุนระบุวัตถุประสงค์/เฉพาะกิจจากกรมส่งเสริมการปกครองท้องถิ่น | J63: 441001 | L63: 5589140 | M63: (1) เงินอุดหนุนระบุวัตถุประสงค์/เฉพาะกิจจากกรมส่งเสริมการปกครองท้องถิ่น | N63: 441001 | P63: 5970450 | Q63: (1) เงินอุดหนุนระบุวัตถุประสงค์/เฉพาะกิจจากกรมส่งเสริมการปกครองท้องถิ่น | R63: 441001 | T63: 5970450
A64: (2) เงินอุดหนุนระบุวัตถุประสงค์/เฉพาะกิจจากหน่วยงานอื่น | B64: 441002 | D64: =SUM(งบดุลบัญชี!H105) -> 0 | E64: (2) เงินอุดหนุนระบุวัตถุประสงค์/เฉพาะกิจจากหน่วยงานอื่น | F64: 441002 | H64: =SUM(งบดุลบัญชี!L105) -> 0 | I64: (2) เงินอุดหนุนระบุวัตถุประสงค์/เฉพาะกิจจากหน่วยงานอื่น | J64: 441002 | L64: =SUM(งบดุลบัญชี!P105) -> 0 | M64: (2) เงินอุดหนุนระบุวัตถุประสงค์/เฉพาะกิจจากหน่วยงานอื่น | N64: 441002 | P64: 0 | Q64: (2) เงินอุดหนุนระบุวัตถุประสงค์/เฉพาะกิจจากหน่วยงานอื่น | R64: 441002 | T64: 0
A67: รวม | C67: =SUM(C63:C64) -> 0 | D67: =SUM(D63:D64) -> 0 | E67: รวม | G67: =SUM(G63:G64) -> 0 | H67: =SUM(H63:H64) -> 3485940 | I67: รวม | K67: =SUM(K63:K64) -> 0 | L67: =SUM(L63:L64) -> 5589140 | M67: รวม | O67: =SUM(O63:O64) -> 0 | P67: =SUM(P63:P64) -> 5970450 | Q67: รวม | S67: =SUM(S63:S64) -> 0 | T67: =SUM(T63:T64) -> 5970450
A68: รวมรายรับทั้งสิ้น | C68: =+C60+C67 -> 33321700 | D68: =+D60+D67 -> 1336189.7 | E68: รวมรายรับทั้งสิ้น | G68: =+G60+G67 -> 33321700 | H68: =+H60+H67 -> 12362970 | I68: รวมรายรับทั้งสิ้น | K68: =+K60+K67 -> 33321700 | L68: =+L60+L67 -> 15837296 | M68: รวมรายรับทั้งสิ้น | O68: =+O60+O67 -> 33321700 | P68: =+P60+P67 -> 23061425 | Q68: รวมรายรับทั้งสิ้น | S68: =+S60+S67 -> 33321700 | T68: =+T60+T67 -> 24889618
B74: 30719200

Sheet หมายเหตุ 2, 3 ประกอบงบ
A1: เทศบาลตำบลเขาพระ อำเภอพิปูน จังหวัดนครศรีธรรมราช
A2: รายละเอียด ประกอบงบทดลองและรายงานรับ-จ่ายเงิน
A3: ณ วันที่ 31 ตุลาคม 2558
A4: รายจ่ายค้างจ่าย (หมายเหตุ 2)
B5: หมวดที่จ่าย | F5: จำนวนเงิน
B6: ค่าวัสดุ | F6: 1012504
B7: ค่าครุภัณฑ์ | F7: 10500
E8: รวม | F8: =SUM(F6:F7) -> 1023004
A10: เงินรับฝาก (หมายเหตุ 3)
F11: จำนวนเงิน
B12: ภาษีหัก ณ ที่จ่าย | F12: 11632.19
B13: ค่าใช้จ่ายในการจัดเก็บภาษีบำรุงท้องที่ | F13: 5755.16
B14: เงินประกันสัญญา | F14: 764932
B15: ค่าตอบแทนแพทย์ระบบฉุกเฉิน (EMS) | F15: 56100
B16: เงินทุนโครงการเศรษฐกิจชุมชน | F16: 278051.55
B17: ค่าตอบแทน /เงินปันผลสหกรณ์ | F17: 0
B18: ค่ารักษาพยาบาล | F18: 50
E19: รวม | F19: =SUM(F12:F18) -> 1116520.9
A22: เทศบาลตำบลเขาพระ อำเภอพิปูน จังหวัดนครศรีธรรมราช
A23: รายละเอียด ประกอบงบทดลองและรายงานรับ-จ่ายเงิน
A24: ณ วันที่ 30 พฤศจิกายน 2558
A25: รายจ่ายค้างจ่าย (หมายเหตุ 2)
B26: หมวดที่จ่าย | F26: จำนวนเงิน
B27: ค่าวัสดุ
B28: ค่าครุภัณฑ์
B29: ที่ดินและสิ่งก่อสร้าง | F29: =49000+154560+228000+231200+107000+118683+334000 -> 1222443
B30: รายจ่ายอื่น | F30: 25000
E31: รวม | F31: =SUM(F27:F30) -> 1247443 | G31: =1247443-F31 -> 0
A33: เงินรับฝาก (หมายเหตุ 3)
F34: จำนวนเงิน
B35: ภาษีหัก ณ ที่จ่าย | F35: 16064.85
B36: ค่าใช้จ่ายในการจัดเก็บภาษีบำรุงท้องที่ | F36: 5755.16
B37: เงินประกันสัญญา | F37: 763349
B38: ค่าตอบแทนแพทย์ระบบฉุกเฉิน (EMS) | F38: 56100
B39: เงินทุนโครงการเศรษฐกิจชุมชน | F39: 278051.55
B40: ค่าตอบแทน /เงินปันผลสหกรณ์ | F40: 0
B41: ค่ารักษาพยาบาล | F41: 50
E42: รวม | F42: =SUM(F35:F41) -> 1119370.6
A44: เทศบาลตำบลเขาพระ อำเภอพิปูน จังหวัดนครศรีธรรมราช
A45: รายละเอียด ประกอบงบทดลองและรายงานรับ-จ่ายเงิน
A46: ณ วันที่ 31 ธันวาคม 2558
A47: รายจ่ายค้างจ่าย (หมายเหตุ 2)
B48: หมวดที่จ่าย | F48: จำนวนเงิน
B49: ค่าตอบแทน | F49: 336113
B50: ค่าวัสดุ | F50: 0
B51: ค่าครุภัณฑ์ | F51: 0
B52: ที่ดินและสิ่งก่อสร้าง | F52: =119000+798000+60000 -> 977000
B53: รายจ่ายอื่น | F53: 0
E54: รวม | F54: =SUM(F49:F53) -> 1313113
A56: เงินรับฝาก (หมายเหตุ 3)
F57: จำนวนเงิน
B58: ภาษีหัก ณ ที่จ่าย | F58: 12441.01
B59: ค่าใช้จ่ายในการจัดเก็บภาษีบำรุงท้องที่ | F59: 5755.16
B60: เงินประกันสัญญา | F60: 783561
B61: ค่าตอบแทนแพทย์ระบบฉุกเฉิน (EMS) | F61: 77100
B62: เงินทุนโครงการเศรษฐกิจชุมชน | F62: 278051.55
B63: ค่าตอบแทน /เงินปันผลสหกรณ์ | F63: 0
B64: ค่ารักษาพยาบาล | F64: 50
E65: รวม | F65: =SUM(F58:F64) -> 1156958.7
A67: เทศบาลตำบลเขาพระ อำเภอพิปูน จังหวัดนครศรีธรรมราช
A68: รายละเอียด ประกอบงบทดลองและรายงานรับ-จ่ายเงิน
A69: ณ วันที่ 31 มกราคม 2559
A70: รายจ่ายค้างจ่าย (หมายเหตุ 2)
B71: หมวดที่จ่าย | F71: จำนวนเงิน
B72: ค่าตอบแทน | F72: 0
B73: ค่าวัสดุ | F73: 0
B74: ค่าครุภัณฑ์ | F74: 0
B75: ที่ดินและสิ่งก่อสร้าง | F75: =66000+355000+97423 -> 518423
B76: รายจ่ายอื่น | F76: 0
E77: รวม | F77: =SUM(F72:F76) -> 518423
A79: เงินรับฝาก (หมายเหตุ 3)
F80: จำนวนเงิน
B81: ภาษีหัก ณ ที่จ่าย | F81: 6415.87
B82: ค่าใช้จ่ายในการจัดเก็บภาษีบำรุงท้องที่ | F82: 5821.28
B83: เงินประกันสัญญา | F83: 836770
B84: ค่าตอบแทนแพทย์ระบบฉุกเฉิน (EMS) | F84: 77100
B85: เงินทุนโครงการเศรษฐกิจชุมชน | F85: 278051.55
B86: ค่าตอบแทน /เงินปันผลสหกรณ์ | F86: 0
B87: ค่ารักษาพยาบาล | F87: 632
B88: เงินเพิ่มผู้ดูแลเด็ก | F88: 17955
E89: รวม | F89: =SUM(F81:F88) -> 1222745.7
A90: เทศบาลตำบลเขาพระ อำเภอพิปูน จังหวัดนครศรีธรรมราช
A91: รายละเอียด ประกอบงบทดลองและรายงานรับ-จ่ายเงิน
A92: ณ วันที่ 29 กุมภาพันธ์ 2559
A93: รายจ่ายค้างจ่าย (หมายเหตุ 2)
B94: หมวดที่จ่าย | F94: จำนวนเงิน
B95: ค่าตอบแทน | F95: 0
B96: ค่าวัสดุ | F96: 0
B97: ค่าครุภัณฑ์ | F97: 0
B98: ที่ดินและสิ่งก่อสร้าง | F98: 98000
B99: รายจ่ายอื่น | F99: 0
E100: รวม | F100: =SUM(F95:F99) -> 98000
A102: เงินรับฝาก (หมายเหตุ 3)
F103: จำนวนเงิน
B104: ภาษีหัก ณ ที่จ่าย | F104: 16622.33
B105: ค่าใช้จ่ายในการจัดเก็บภาษีบำรุงท้องที่ | F105: 6197.5
B106: เงินประกันสัญญา | F106: 918967
B107: ค่าตอบแทนแพทย์ระบบฉุกเฉิน (EMS) | F107: 77100
B108: เงินทุนโครงการเศรษฐกิจชุมชน | F108: 205647.94
B109: ค่าตอบแทน /เงินปันผลสหกรณ์ | F109: 0
...

Sheet กระดาษทำการกระทบยอด
A1: เทศบาลตำบลเขาพระ อำเภอพิปูน จังหวัดนครศรีธรรมราช | P1: =+A1 -> เทศบาลตำบลเขาพระ อำเภอพิปูน จังหวัดนครศรีธรรมราช
A2: กระดาษทำการกระทบยอดรายจ่ายตามงบประมาณ (จ่ายจากรายรับ) | P2: กระดาษทำการกระทบยอดรายจ่ายตามงบประมาณ (จ่ายจากรายรับ)
A3: ประจำเดือน ตุลาคม 2558 | P3: ประจำเดือน ตุลาคม 2558
A4: แผนงาน | C4: 00110 | E4: 00120 | G4: 00210 | I4: 00220 | K4: 00230 | L4: 00240 | P4: 00250 | R4: 00260 | U4: 00320 | W4: 00330 | X4: 00410 | Y4: รวม
A5: หมวด/ประเภทรายจ่าย | C5: 00111 | D5: 00113 | E5: 00121 | F5: 00123 | G5: 00211 | H5: 00212 | I5: 00221 | J5: 00223 | K5: 00232 | L5: 00241 | M5: 00242 | N5: 00244 | O5: 00245 | P5: 00251 | Q5: 00252 | R5: 00262 | S5: 00263 | T5: 00264 | U5: 00321 | V5: 00322 | W5: 00332 | X5: 00411
A6: 100000 งบกลาง
A7: 110100 | B7: ค่าชำระหนี้เงินต้น | Y7: =SUM(C7:X7) -> 0
A8: 110200 | B8: ค่าชำระดอกเบี้ย | Y8: =SUM(C8:X8) -> 0
A9: 110300 | B9: เงินสมทบประกันสังคม | X9: 14350 | Y9: =SUM(C9:X9) -> 14350
A10: 110700 | B10: เบี้ยยังชีพคนชรา | Y10: =SUM(C10:X10) -> 0
A11: 110800 | B11: เบี้ยยังชีพผู้พิการ | Y11: =SUM(C11:X11) -> 0
A12: 110900 | B12: เบี้ยยังชีพผู้ป่วยเอดส์ | X12: 7500 | Y12: =SUM(C12:X12) -> 7500
A13: 111000 | B13: เงินสำรองจ่าย | Y13: =SUM(C13:X13) -> 0
A14: 111100 | B14: เงินสมทบ สปสช./กองทุนสวัสดิการชุมชน | Y14: =SUM(C14:X14) -> 0
A15: 111100 | B15: ค่าบำรุงสันนิบาตเทศบาลแห่งประเทศไทย | Y15: =SUM(C15:X15) -> 0
A16: 120100 | B16: เงินสมทบ กบท. | Y16: =SUM(C16:X16) -> 0
A17: รวมเดือนนี้ | C17: =SUM(C7:C16) -> 0 | D17: =SUM(D7:D16) -> 0 | E17: =SUM(E7:E16) -> 0 | F17: =SUM(F7:F16) -> 0 | G17: =SUM(G7:G16) -> 0 | H17: =SUM(H7:H16) -> 0 | I17: =SUM(I7:I16) -> 0 | J17: =SUM(J7:J16) -> 0 | ... X17: =SUM(X7:X16) -> 21850 | Y17: =SUM(C17:X17) -> 21850
A18: รวมตั้งแต่ต้นปี | C18: =+C17 -> 0 | D18: =+D17 -> 0 | E18: =+E17 -> 0 | F18: =+F17 -> 0 | G18: =+G17 -> 0 | H18: =+H17 -> 0 | I18: =+I17 -> 0 | J18: =+J17 -> 0 | ... Y18: =+Y17 -> 21850
A19: 210000 เงินเดือนฝ่ายการเมือง | Y19: =SUM(C19:X19) -> 0
A20: 210100 | B20: เงินเดือนนายก/รองนายก | C20: 57960 | D20: 0 | L20: 0 | Y20: =SUM(C20:X20) -> 57960
A21: 210200 | B21: เงินประจำตำแหน่งนายก/รองนายก | C21: 10000 | Y21: =SUM(C21:X21) -> 10000
A22: 210300 | B22: ค่าตอบแทนพิเศษนายก/รองนายก | C22: 10000 | Y22: =SUM(C22:X22) -> 10000
A23: 210400 | B23: ค่าตอบแทนเลขาฯ/ที่ปรึกษา | C23: 16560 | Y23: =SUM(C23:X23) -> 16560
A24: 210600 | B24: ค่าตอบแทนสมาชิก | C24: 124200 | Y24: =SUM(C24:X24) -> 124200
A25: รวมเดือนนี้ | C25: =SUM(C20:C24) -> 218720 | D25: =SUM(D19:D24) -> 0 | E25: =SUM(E19:E24) -> 0 | F25: =SUM(F19:F24) -> 0 | G25: =SUM(G19:G24) -> 0 | H25: =SUM(H19:H24) -> 0 | I25: =SUM(I19:I24) -> 0 | J25: =SUM(J19:J24) -> 0 | K25: =SUM(K19:K24) -> 0 | ... S25: =SUM(S19:S24) -> 0 | U25: =SUM(U19:U24) -> 0 | V25: =SUM(V19:V24) -> 0 | W25: =SUM(W19:W24) -> 0 | X25: =SUM(X19:X24) -> 0 | Y25: =SUM(C25:X25) -> 218720
A26: รวมตั้งแต่ต้นปี | C26: =+C25 -> 218720 | D26: =+D25 -> 0 | E26: =+E25 -> 0 | F26: =+F25 -> 0 | G26: =+G25 -> 0 | H26: =+H25 -> 0 | I26: =+I25 -> 0 | J26: =+J25 -> 0 | ... Y26: =+Y25 -> 218720
A27: 220000 เงินเดือนฝ่ายประจำ | Y27: =SUM(C27:X27) -> 0
A28: 220100 | B28: เงินเดือนพนักงานเทศบาล | C28: 160727 | D28: 75191.61 | E28: 21880 | G28: 23370 | L28: 50950 | P28: 18950 | Y28: =SUM(C28:X28) -> 351068.61
A29: 220200 | B29: เงินเพิ่มพนักงานเทศบาล | C29: 5600 | D29: 550 | Y29: =SUM(C29:X29) -> 6150
A30: 220300 | B30: เงินประจำตำแหน่ง | C30: 9100 | Y30: =SUM(C30:X30) -> 9100
A31: 220500 | B31: ค่าจ้างประจำ | D31: 32710 | Y31: =SUM(C31:X31) -> 32710
A32: 220600 | B32: เงินเพิ่มลูกจ้างประจำ | C32: 0 | D32: 0 | L32: 0 | Y32: =SUM(C32:X32) -> 0
A33: แผนงาน | C33: 00110 | E33: 00120 | G33: 00210 | I33: 00220 | K33: 00230 | L33: 00240 | P33: 00250 | R33: 00260 | U33: 00320 | W33: 00330 | X33: 00410 | Y33: รวม
A34: หมวด/ประเภทรายจ่าย | C34: 00111 | D34: 00113 | E34: 00121 | F34: 00123 | G34: 00211 | H34: 00212 | I34: 00221 | J34: 00223 | K34: 00232 | L34: 00241 | M34: 00242 | N34: 00244 | O34: 00245 | P34: 00251 | Q34: 00252 | R34: 00262 | S34: 00263 | T34: 00264 | U34: 00321 | V34: 00322 | W34: 00332 | X34: 00411
A35: 220700 | B35: ค่าจ้างพนักงานจ้าง | C35: 105280 | D35: 31550 | E35: 9400 | G35: 44100 | I35: 37410 | L35: 42870 | P35: 34021 | Y35: =SUM(C35:X35) -> 304631
A36: 220800 | B36: เงินเพิ่มพนักงานจ้าง | C36: 13000 | D36: 2000 | E36: 2000 | G36: 1000 | I36: 2000 | L36: 7000 | P36: 2000 | Y36: =SUM(C36:X36) -> 29000
A37: รวมเดือนนี้ | C37: =SUM(C27:C36) -> 293707 | D37: =SUM(D27:D36) -> 142001.61 | E37: =SUM(E27:E36) -> 33280 | F37: =SUM(F27:F36) -> 0 | G37: =SUM(G27:G36) -> 68470 | H37: =SUM(H27:H36) -> 0 | I37: =SUM(I27:I36) -> 39410 | J37: =SUM(J27:J36) -> 0 | ... Y37: =SUM(Y27:Y36) -> 732659.61
A38: รวมตั้งแต่ต้นปี | C38: =+C37 -> 293707 | D38: =+D37 -> 142001.61 | E38: =+E37 -> 33280 | F38: =+F37 -> 0 | G38: =+G37 -> 68470 | H38: =+H37 -> 0 | I38: =+I37 -> 39410 | J38: =+J37 -> 0 | ... Y38: =+Y37 -> 732659.61
A39: 310000 ค่าตอบแทน | Y39: =SUM(C39:X39) -> 0
A40: 310100 | B40: ค่าตอบแทนผู้ปฏิบัติฯ | Y40: =SUM(C40:X40) -> 0
A41: 310200 | B41: ค่าเบี้ยประชุม | Y41: =SUM(C41:X41) -> 0
A42: 310300 | B42: ค่าตอบแทนนอกเวลาฯ | Y42: =SUM(C42:X42) -> 0
A43: 310400 | B43: ค่าเช่าบ้าน | Y43: =SUM(C43:X43) -> 0
A44: 310500 | B44: เงินช่วยการศึกษาบุตร | C44: 9750 | L44: 3300 | Y44: =SUM(C44:X44) -> 13050
A45: 310600 | B45: เงินช่วยค่ารักษาพยาบาล | Y45: =SUM(C45:X45) -> 0
A46: รวมเดือนนี้ | C46: =SUM(C40:C45) -> 9750 | D46: =SUM(D40:D45) -> 0 | E46: =SUM(E40:E45) -> 0 | F46: =SUM(F40:F45) -> 0 | G46: =SUM(G40:G45) -> 0 | H46: =SUM(H40:H45) -> 0 | I46: =SUM(I40:I45) -> 0 | J46: =SUM(J40:J45) -> 0 | ... X46: =SUM(X40:X45) -> 0 | Y46: =SUM(C46:X46) -> 13050
A47: รวมตั้งแต่ต้นปี | C47: =+C46 -> 9750 | D47: =+D46 -> 0 | E47: =+E46 -> 0 | F47: =+F46 -> 0 | G47: =+G46 -> 0 | H47: =+H46 -> 0 | I47: =+I46 -> 0 | J47: =+J46 -> 0 | ... Y47: =+Y46 -> 13050
A48: 320000 ค่าใช้สอย | Y48: =SUM(C48:X48) -> 0
A49: 320100 | B49: รายจ่ายให้ได้มาซึ่งบริการ | C49: 4402 | L49: 11615 | N49: 14316.25 | Y49: =SUM(C49:X49) -> 30333.25
A50: 320200 | B50: ค่ารับรอง | Y50: =SUM(C50:X50) -> 0
A51: 320300 | B51: รายจ่ายไม่เข้าลักษณะฯ | C51: =7013+7606 -> 14619 | L51: 4164 | R51: 12200 | Y51: =SUM(C51:X51) -> 30983
A52: 320400 | B52: ค่าบำรุงรักษาและซ่อมแซม | C52: 22525.64 | N52: 5800 | Y52: =SUM(C52:X52) -> 28325.64
A53: รวมเดือนนี้ | C53: =SUM(C49:C52) -> 41546.64 | D53: =SUM(D49:D52) -> 0 | E53: =SUM(E49:E52) -> 0 | F53: =SUM(F49:F52) -> 0 | G53: =SUM(G49:G52) -> 0 | H53: =SUM(H49:H52) -> 0 | I53: =SUM(I49:I52) -> 0 | J53: =SUM(J49:J52) -> 0 | ... Y53: =SUM(Y49:Y52) -> 89641.89
A54: รวมตั้งแต่ต้นปี | C54: =+C53 -> 41546.64 | D54: =+D53 -> 0 | E54: =+E53 -> 0 | F54: =+F53 -> 0 | G54: =+G53 -> 0 | H54: =+H53 -> 0 | I54: =+I53 -> 0 | J54: =+J53 -> 0 | ... Y54: =+Y53 -> 89641.89
A55: 330000 ค่าวัสดุ | Y55: =SUM(C55:X55) -> 0
A56: 330100 | B56: วัสดุสำนักงาน | C56: =10806+5550 -> 16356 | Y56: =SUM(C56:X56) -> 16356
A57: 330200 | B57: วัสดุไฟฟ้าวิทยุ | C57: 1720 | Y57: =SUM(C57:X57) -> 1720
A58: 330300 | B58: วัสดุงานบ้านงานครัว | Y58: =SUM(C58:X58) -> 0
A59: 330400 | B59: ค่าอาหารเสริม(นม) | Y59: =SUM(C59:X59) -> 0
A60: 330600 | B60: วัสดุก่อสร้าง | Y60: =SUM(C60:X60) -> 0
A61: 330700 | B61: วัสดุยานพาหนะและขนส่ง | Y61: =SUM(C61:X61) -> 0
A62: 330800 | B62: วัสดุเชื้อเพลิง | Y62: =SUM(C62:X62) -> 0
A63: 330900 | B63: วัสดุวิทยาศาสตร์ | Y63: =SUM(C63:X63) -> 0
A64: แผนงาน | C64: 00110 | E64: 00120 | G64: 00210 | I64: 00220 | K64: 00230 | L64: 00240 | P64: 00250 | R64: 00260 | U64: 00320 | W64: 00330 | X64: 00410 | Y64: รวม
A65: หมวด/ประเภทรายจ่าย | C65: 00111 | D65: 00113 | E65: 00121 | F65: 00123 | G65: 00211 | H65: 00212 | I65: 00221 | J65: 00223 | K65: 00232 | L65: 00241 | M65: 00242 | N65: 00244 | O65: 00245 | P65: 00251 | Q65: 00252 | R65: 00262 | S65: 00263 | T65: 00264 | U65: 00321 | V65: 00322 | W65: 00332 | X65: 00411
A66: 331000 | B66: วัสดุการเกษตร | Y66: =SUM(C66:X66) -> 0
A67: 331200 | B67: วัสดุเครื่องแต่งกาย | Y67: =SUM(C67:X67) -> 0
A68: 331300 | B68: วัสดุกีฬา | Y68: =SUM(C68:X68) -> 0
A69: 331400 | B69: วัสดุคอมพิวเตอร์ | Y69: =SUM(C69:X69) -> 0
A70: 331500 | B70: วัสดุการศึกษา | Y70: =SUM(C70:X70) -> 0
A71: 331700 | B71: วัสดุอื่น | Y71: =SUM(C71:X71) -> 0
A72: รวมเดือนนี้ | C72: =SUM(C56:C71) -> 18076 | D72: =SUM(D56:D71) -> 0 | E72: =SUM(E56:E71) -> 0 | F72: =SUM(F56:F71) -> 0 | G72: =SUM(G56:G71) -> 0 | H72: =SUM(H56:H71) -> 0 | I72: =SUM(I56:I71) -> 0 | J72: =SUM(J56:J71) -> 0 | ... Y72: =SUM(Y56:Y71) -> 18076 | Z72: =+Y72-18076 -> 0
A73: รวมตั้งแต่ต้นปี | C73: =+C72 -> 18076 | D73: =+D72 -> 0 | E73: =+E72 -> 0 | F73: =+F72 -> 0 | G73: =+G72 -> 0 | H73: =+H72 -> 0 | I73: =+I72 -> 0 | J73: =+J72 -> 0 | ... Y73: =+Y72 -> 18076
A74: 340000 ค่าสาธารณูปโภค | Y74: =SUM(C74:X74) -> 0
A75: 340100 | B75: ไฟฟ้า | C75: 23345.2 | W75: 46895.35 | Y75: =SUM(C75:X75) -> 70240.55
A76: 340300 | B76: โทรศัพท์ | C76: 426.88 | Y76: =SUM(C76:X76) -> 426.88
A77: 340400 | B77: ไปรษณีย์ | C77: 3746 | Y77: =SUM(C77:X77) -> 3746
A78: 340500 | B78: โทรคมนาคม | C78: 8560 | Y78: =SUM(C78:X78) -> 8560
A79: รวมเดือนนี้ | C79: =SUM(C75:C78) -> 36078.08 | D79: =SUM(D75:D78) -> 0 | E79: =SUM(E75:E78) -> 0 | F79: =SUM(F75:F78) -> 0 | G79: =SUM(G75:G78) -> 0 | H79: =SUM(H75:H78) -> 0 | I79: =SUM(I75:I78) -> 0 | J79: =SUM(J75:J78) -> 0 | ... Y79: =SUM(Y75:Y78) -> 82973.43
A80: รวมตั้งแต่ต้นปี | C80: =+C79 -> 36078.08 | D80: =+D79 -> 0 | E80: =+E79 -> 0 | F80: =+F79 -> 0 | G80: =+G79 -> 0 | H80: =+H79 -> 0 | I80: =+I79 -> 0 | J80: =+J79 -> 0 | ... Y80: =+Y79 -> 82973.43
A81: 410000 ค่าครุภัณฑ์ | Y81: =SUM(C81:X81) -> 0
A82: 410400 | B82: ครุภัณฑ์สำนักงาน | Y82: =SUM(C82:X82) -> 0
A83: 410200 | B83: ครุภัณฑ์การศึกษา | Y83: =SUM(C83:X83) -> 0
A84: 410300 | B84: ครุภัณฑ์ยานพาหนะและขนส่ง | Y84: =SUM(C84:X84) -> 0
A85: 410400 | B85: ครุภัณฑ์การเกษตร | Y85: =SUM(C85:X85) -> 0
A86: 410500 | B86: ครุภัณฑ์ก่อสร้าง | Y86: =SUM(C86:X86) -> 0
A87: 410600 | B87: ครุภัณฑ์ไฟฟ้าและวิทยุ | Y87: =SUM(C87:X87) -> 0
A88: 410700 | B88: ครุภัณฑ์โฆษณาและเผยแพร่ | Y88: =SUM(C88:X88) -> 0
A89: 410800 | B89: ครุภัณฑ์วิทยาศาสตร์ | Y89: =SUM(C89:X89) -> 0
A90: 410900 | B90: ครุภัณฑ์งานบ้านงานครัว | Y90: =SUM(C90:X90) -> 0
A91: 411000 | B91: ครุภัณฑ์โรงงาน | Y91: =SUM(C91:X91) -> 0
A92: 411100 | B92: ครุภัณฑ์เครื่องดับเพลิง | Y92: =SUM(C92:X92) -> 0
A93: 411300 | B93: ครุภัณฑ์สำรวจ | Y93: =SUM(C93:X93) -> 0
A94: 411600 | B94: ครุภัณฑ์คอมพิวเตอร์ | Y94: =SUM(C94:X94) -> 0
A95: 411800 | B95: ค่าบำรุงรักษาครุภัณฑ์ | G95: 0 | W95: 0 | Y95: =SUM(C95:X95) -> 0
A96: รวมเดือนนี้ | C96: =SUM(C82:C95) -> 0 | D96: =SUM(D82:D95) -> 0 | E96: =SUM(E82:E95) -> 0 | F96: =SUM(F82:F95) -> 0 | G96: =SUM(G82:G95) -> 0 | H96: =SUM(H82:H95) -> 0 | I96: =SUM(I82:I95) -> 0 | J96: =SUM(J82:J95) -> 0 | ... S96: =SUM(S82:S95) -> 0 | U96: =SUM(U82:U95) -> 0 | V96: =SUM(V82:V95) -> 0 | W96: =SUM(W82:W95) -> 0 | X96: =SUM(X82:X95) -> 0 | Y96: =SUM(C96:X96) -> 0
A97: รวมตั้งแต่ต้นปี | C97: =+C96 -> 0 | D97: =+D96 -> 0 | E97: =+E96 -> 0 | F97: =+F96 -> 0 | G97: =+G96 -> 0 | H97: =+H96 -> 0 | I97: =+I96 -> 0 | J97: =+J96 -> 0 | ... Y97: =+Y96 -> 0
A98: แผนงาน | C98: 00110 | E98: 00120 | G98: 00210 | I98: 00220 | K98: 00230 | L98: 00240 | P98: 00250 | R98: 00260 | U98: 00320 | W98: 00330 | X98: 00410 | Y98: รวม
A99: หมวด/ประเภทรายจ่าย | C99: 00111 | D99: 00113 | E99: 00121 | F99: 00123 | G99: 00211 | H99: 00212 | I99: 00221 | J99: 00223 | K99: 00232 | L99: 00241 | M99: 00242 | N99: 00244 | O99: 00245 | P99: 00251 | Q99: 00252 | R99: 00262 | S99: 00263 | T99: 00264 | U99: 00321 | V99: 00322 | W99: 00332 | X99: 00411
A100: 420000 ค่าที่ดินและสิ่งก่อสร้าง | Y100: =SUM(C100:X100) -> 0
...

Sheet กระดาษทำการเงินกู้
A1: เทศบาลตำบลเขาพระ อำเภอพิปูน จังหวัดนครศรีธรรมราช | P1: =+A1 -> เทศบาลตำบลเขาพระ อำเภอพิปูน จังหวัดนครศรีธรรมราช
A2: กระดาษทำการกระทบยอดรายจ่าย (จ่ายจากเงินกู้) | P2: กระดาษทำการกระทบยอดรายจ่ายตามงบประมาณ (จ่ายจากรายรับ)
A3: ประจำเดือน ตุลาคม 2558 | P3: ประจำเดือน ตุลาคม 2558
A4: แผนงาน | C4: 00110 | E4: 00120 | G4: 00210 | I4: 00220 | K4: 00230 | L4: 00240 | P4: 00250 | R4: 00260 | U4: 00320 | W4: 00330 | X4: 00410 | Y4: รวม
A5: หมวด/ประเภทรายจ่าย | C5: 00111 | D5: 00113 | E5: 00121 | F5: 00123 | G5: 00211 | H5: 00212 | I5: 00221 | J5: 00223 | K5: 00232 | L5: 00241 | M5: 00242 | N5: 00244 | O5: 00245 | P5: 00251 | Q5: 00252 | R5: 00262 | S5: 00263 | T5: 00264 | U5: 00321 | V5: 00322 | W5: 00332 | X5: 00411
A6: 100000 งบกลาง
A7: 110100 | B7: ค่าชำระหนี้เงินต้น | Y7: =SUM(C7:X7) -> 0
A8: 110200 | B8: ค่าชำระดอกเบี้ย | Y8: =SUM(C8:X8) -> 0
A9: 110300 | B9: เงินสมทบประกันสังคม | X9: 14350 | Y9: =SUM(C9:X9) -> 14350
A10: 110700 | B10: เบี้ยยังชีพคนชรา | Y10: =SUM(C10:X10) -> 0
A11: 110800 | B11: เบี้ยยังชีพผู้พิการ | Y11: =SUM(C11:X11) -> 0
A12: 110900 | B12: เบี้ยยังชีพผู้ป่วยเอดส์ | X12: 7500 | Y12: =SUM(C12:X12) -> 7500
A13: 111000 | B13: เงินสำรองจ่าย | Y13: =SUM(C13:X13) -> 0
A14: 111100 | B14: เงินสมทบ สปสช./กองทุนสวัสดิการชุมชน | Y14: =SUM(C14:X14) -> 0
A15: 111100 | B15: ค่าบำรุงสันนิบาตเทศบาลแห่งประเทศไทย | Y15: =SUM(C15:X15) -> 0
A16: 120100 | B16: เงินสมทบ กบท. | Y16: =SUM(C16:X16) -> 0
A17: รวมเดือนนี้ | C17: =SUM(C7:C16) -> 0 | D17: =SUM(D7:D16) -> 0 | E17: =SUM(E7:E16) -> 0 | F17: =SUM(F7:F16) -> 0 | G17: =SUM(G7:G16) -> 0 | H17: =SUM(H7:H16) -> 0 | I17: =SUM(I7:I16) -> 0 | J17: =SUM(J7:J16) -> 0 | ... X17: =SUM(X7:X16) -> 21850 | Y17: =SUM(C17:X17) -> 21850
A18: รวมตั้งแต่ต้นปี | C18: =+C17 -> 0 | D18: =+D17 -> 0 | E18: =+E17 -> 0 | F18: =+F17 -> 0 | G18: =+G17 -> 0 | H18: =+H17 -> 0 | I18: =+I17 -> 0 | J18: =+J17 -> 0 | ... Y18: =+Y17 -> 21850
A19: 210000 เงินเดือนฝ่ายการเมือง | Y19: =SUM(C19:X19) -> 0
A20: 210100 | B20: เงินเดือนนายก/รองนายก | C20: 57960 | D20: 0 | L20: 0 | Y20: =SUM(C20:X20) -> 57960
A21: 210200 | B21: เงินประจำตำแหน่งนายก/รองนายก | C21: 10000 | Y21: =SUM(C21:X21) -> 10000
A22: 210300 | B22: ค่าตอบแทนพิเศษนายก/รองนายก | C22: 10000 | Y22: =SUM(C22:X22) -> 10000
A23: 210400 | B23: ค่าตอบแทนเลขาฯ/ที่ปรึกษา | C23: 16560 | Y23: =SUM(C23:X23) -> 16560
A24: 210600 | B24: ค่าตอบแทนสมาชิก | C24: 124200 | Y24: =SUM(C24:X24) -> 124200
A25: รวมเดือนนี้ | C25: =SUM(C20:C24) -> 218720 | D25: =SUM(D19:D24) -> 0 | E25: =SUM(E19:E24) -> 0 | F25: =SUM(F19:F24) -> 0 | G25: =SUM(G19:G24) -> 0 | H25: =SUM(H19:H24) -> 0 | I25: =SUM(I19:I24) -> 0 | J25: =SUM(J19:J24) -> 0 | K25: =SUM(K19:K24) -> 0 | ... S25: =SUM(S19:S24) -> 0 | U25: =SUM(U19:U24) -> 0 | V25: =SUM(V19:V24) -> 0 | W25: =SUM(W19:W24) -> 0 | X25: =SUM(X19:X24) -> 0 | Y25: =SUM(C25:X25) -> 218720
A26: รวมตั้งแต่ต้นปี | C26: =+C25 -> 218720 | D26: =+D25 -> 0 | E26: =+E25 -> 0 | F26: =+F25 -> 0 | G26: =+G25 -> 0 | H26: =+H25 -> 0 | I26: =+I25 -> 0 | J26: =+J25 -> 0 | ... Y26: =+Y25 -> 218720
A27: 220000 เงินเดือนฝ่ายประจำ | Y27: =SUM(C27:X27) -> 0
A28: 220100 | B28: เงินเดือนพนักงานเทศบาล | C28: 160727 | D28: 75191.61 | E28: 21880 | G28: 23370 | L28: 50950 | P28: 18950 | Y28: =SUM(C28:X28) -> 351068.61
A29: 220200 | B29: เงินเพิ่มพนักงานเทศบาล | C29: 5600 | D29: 550 | Y29: =SUM(C29:X29) -> 6150
A30: 220300 | B30: เงินประจำตำแหน่ง | C30: 9100 | Y30: =SUM(C30:X30) -> 9100
A31: 220500 | B31: ค่าจ้างประจำ | D31: 32710 | Y31: =SUM(C31:X31) -> 32710
A32: 220600 | B32: เงินเพิ่มลูกจ้างประจำ | C32: 0 | D32: 0 | L32: 0 | Y32: =SUM(C32:X32) -> 0
A33: แผนงาน | C33: 00110 | E33: 00120 | G33: 00210 | I33: 00220 | K33: 00230 | L33: 00240 | P33: 00250 | R33: 00260 | U33: 00320 | W33: 00330 | X33: 00410 | Y33: รวม
A34: หมวด/ประเภทรายจ่าย | C34: 00111 | D34: 00113 | E34: 00121 | F34: 00123 | G34: 00211 | H34: 00212 | I34: 00221 | J34: 00223 | K34: 00232 | L34: 00241 | M34: 00242 | N34: 00244 | O34: 00245 | P34: 00251 | Q34: 00252 | R34: 00262 | S34: 00263 | T34: 00264 | U34: 00321 | V34: 00322 | W34: 00332 | X34: 00411
A35: 220700 | B35: ค่าจ้างพนักงานจ้าง | C35: 105280 | D35: 31550 | E35: 9400 | G35: 44100 | I35: 37410 | L35: 42870 | P35: 34021 | Y35: =SUM(C35:X35) -> 304631
A36: 220800 | B36: เงินเพิ่มพนักงานจ้าง | C36: 13000 | D36: 2000 | E36: 2000 | G36: 1000 | I36: 2000 | L36: 7000 | P36: 2000 | Y36: =SUM(C36:X36) -> 29000
A37: รวมเดือนนี้ | C37: =SUM(C27:C36) -> 293707 | D37: =SUM(D27:D36) -> 142001.61 | E37: =SUM(E27:E36) -> 33280 | F37: =SUM(F27:F36) -> 0 | G37: =SUM(G27:G36) -> 68470 | H37: =SUM(H27:H36) -> 0 | I37: =SUM(I27:I36) -> 39410 | J37: =SUM(J27:J36) -> 0 | ... Y37: =SUM(Y27:Y36) -> 732659.61
A38: รวมตั้งแต่ต้นปี | C38: =+C37 -> 293707 | D38: =+D37 -> 142001.61 | E38: =+E37 -> 33280 | F38: =+F37 -> 0 | G38: =+G37 -> 68470 | H38: =+H37 -> 0 | I38: =+I37 -> 39410 | J38: =+J37 -> 0 | ... Y38: =+Y37 -> 732659.61
A39: 310000 ค่าตอบแทน | Y39: =SUM(C39:X39) -> 0
A40: 310100 | B40: ค่าตอบแทนผู้ปฏิบัติฯ | Y40: =SUM(C40:X40) -> 0
A41: 310200 | B41: ค่าเบี้ยประชุม | Y41: =SUM(C41:X41) -> 0
A42: 310300 | B42: ค่าตอบแทนนอกเวลาฯ | Y42: =SUM(C42:X42) -> 0
A43: 310400 | B43: ค่าเช่าบ้าน | Y43: =SUM(C43:X43) -> 0
A44: 310500 | B44: เงินช่วยการศึกษาบุตร | C44: 9750 | L44: 3300 | Y44: =SUM(C44:X44) -> 13050
A45: 310600 | B45: เงินช่วยค่ารักษาพยาบาล | Y45: =SUM(C45:X45) -> 0
A46: รวมเดือนนี้ | C46: =SUM(C40:C45) -> 9750 | D46: =SUM(D40:D45) -> 0 | E46: =SUM(E40:E45) -> 0 | F46: =SUM(F40:F45) -> 0 | G46: =SUM(G40:G45) -> 0 | H46: =SUM(H40:H45) -> 0 | I46: =SUM(I40:I45) -> 0 | J46: =SUM(J40:J45) -> 0 | ... X46: =SUM(X40:X45) -> 0 | Y46: =SUM(C46:X46) -> 13050
A47: รวมตั้งแต่ต้นปี | C47: =+C46 -> 9750 | D47: =+D46 -> 0 | E47: =+E46 -> 0 | F47: =+F46 -> 0 | G47: =+G46 -> 0 | H47: =+H46 -> 0 | I47: =+I46 -> 0 | J47: =+J46 -> 0 | ... Y47: =+Y46 -> 13050
A48: 320000 ค่าใช้สอย | Y48: =SUM(C48:X48) -> 0
A49: 320100 | B49: รายจ่ายให้ได้มาซึ่งบริการ | C49: 4402 | L49: 11615 | N49: 14316.25 | Y49: =SUM(C49:X49) -> 30333.25
A50: 320200 | B50: ค่ารับรอง | Y50: =SUM(C50:X50) -> 0
A51: 320300 | B51: รายจ่ายไม่เข้าลักษณะฯ | C51: =7013+7606 -> 14619 | L51: 4164 | R51: 12200 | Y51: =SUM(C51:X51) -> 30983
A52: 320400 | B52: ค่าบำรุงรักษาและซ่อมแซม | C52: 22525.64 | N52: 5800 | Y52: =SUM(C52:X52) -> 28325.64
A53: รวมเดือนนี้ | C53: =SUM(C49:C52) -> 41546.64 | D53: =SUM(D49:D52) -> 0 | E53: =SUM(E49:E52) -> 0 | F53: =SUM(F49:F52) -> 0 | G53: =SUM(G49:G52) -> 0 | H53: =SUM(H49:H52) -> 0 | I53: =SUM(I49:I52) -> 0 | J53: =SUM(J49:J52) -> 0 | ... Y53: =SUM(Y49:Y52) -> 89641.89
A54: รวมตั้งแต่ต้นปี | C54: =+C53 -> 41546.64 | D54: =+D53 -> 0 | E54: =+E53 -> 0 | F54: =+F53 -> 0 | G54: =+G53 -> 0 | H54: =+H53 -> 0 | I54: =+I53 -> 0 | J54: =+J53 -> 0 | ... Y54: =+Y53 -> 89641.89
A55: 330000 ค่าวัสดุ | Y55: =SUM(C55:X55) -> 0
A56: 330100 | B56: วัสดุสำนักงาน | C56: =10806+5550 -> 16356 | Y56: =SUM(C56:X56) -> 16356
A57: 330200 | B57: วัสดุไฟฟ้าวิทยุ | C57: 1720 | Y57: =SUM(C57:X57) -> 1720
A58: 330300 | B58: วัสดุงานบ้านงานครัว | Y58: =SUM(C58:X58) -> 0
A59: 330400 | B59: ค่าอาหารเสริม(นม) | Y59: =SUM(C59:X59) -> 0
A60: 330600 | B60: วัสดุก่อสร้าง | Y60: =SUM(C60:X60) -> 0
A61: 330700 | B61: วัสดุยานพาหนะและขนส่ง | Y61: =SUM(C61:X61) -> 0
A62: 330800 | B62: วัสดุเชื้อเพลิง | Y62: =SUM(C62:X62) -> 0
A63: 330900 | B63: วัสดุวิทยาศาสตร์ | Y63: =SUM(C63:X63) -> 0
A64: แผนงาน | C64: 00110 | E64: 00120 | G64: 00210 | I64: 00220 | K64: 00230 | L64: 00240 | P64: 00250 | R64: 00260 | U64: 00320 | W64: 00330 | X64: 00410 | Y64: รวม
A65: หมวด/ประเภทรายจ่าย | C65: 00111 | D65: 00113 | E65: 00121 | F65: 00123 | G65: 00211 | H65: 00212 | I65: 00221 | J65: 00223 | K65: 00232 | L65: 00241 | M65: 00242 | N65: 00244 | O65: 00245 | P65: 00251 | Q65: 00252 | R65: 00262 | S65: 00263 | T65: 00264 | U65: 00321 | V65: 00322 | W65: 00332 | X65: 00411
A66: 331000 | B66: วัสดุการเกษตร | Y66: =SUM(C66:X66) -> 0
A67: 331200 | B67: วัสดุเครื่องแต่งกาย | Y67: =SUM(C67:X67) -> 0
A68: 331300 | B68: วัสดุกีฬา | Y68: =SUM(C68:X68) -> 0
A69: 331400 | B69: วัสดุคอมพิวเตอร์ | Y69: =SUM(C69:X69) -> 0
A70: 331500 | B70: วัสดุการศึกษา | Y70: =SUM(C70:X70) -> 0
A71: 331700 | B71: วัสดุอื่น | Y71: =SUM(C71:X71) -> 0
A72: รวมเดือนนี้ | C72: =SUM(C56:C71) -> 18076 | D72: =SUM(D56:D71) -> 0 | E72: =SUM(E56:E71) -> 0 | F72: =SUM(F56:F71) -> 0 | G72: =SUM(G56:G71) -> 0 | H72: =SUM(H56:H71) -> 0 | I72: =SUM(I56:I71) -> 0 | J72: =SUM(J56:J71) -> 0 | ... Y72: =SUM(Y56:Y71) -> 18076 | Z72: =+Y72-18076 -> 0
A73: รวมตั้งแต่ต้นปี | C73: =+C72 -> 18076 | D73: =+D72 -> 0 | E73: =+E72 -> 0 | F73: =+F72 -> 0 | G73: =+G72 -> 0 | H73: =+H72 -> 0 | I73: =+I72 -> 0 | J73: =+J72 -> 0 | ... Y73: =+Y72 -> 18076
A74: 340000 ค่าสาธารณูปโภค | Y74: =SUM(C74:X74) -> 0
A75: 340100 | B75: ไฟฟ้า | C75: 23345.2 | W75: 46895.35 | Y75: =SUM(C75:X75) -> 70240.55
A76: 340300 | B76: โทรศัพท์ | C76: 426.88 | Y76: =SUM(C76:X76) -> 426.88
A77: 340400 | B77: ไปรษณีย์ | C77: 3746 | Y77: =SUM(C77:X77) -> 3746
A78: 340500 | B78: โทรคมนาคม | C78: 8560 | Y78: =SUM(C78:X78) -> 8560
A79: รวมเดือนนี้ | C79: =SUM(C75:C78) -> 36078.08 | D79: =SUM(D75:D78) -> 0 | E79: =SUM(E75:E78) -> 0 | F79: =SUM(F75:F78) -> 0 | G79: =SUM(G75:G78) -> 0 | H79: =SUM(H75:H78) -> 0 | I79: =SUM(I75:I78) -> 0 | J79: =SUM(J75:J78) -> 0 | ... Y79: =SUM(Y75:Y78) -> 82973.43
A80: รวมตั้งแต่ต้นปี | C80: =+C79 -> 36078.08 | D80: =+D79 -> 0 | E80: =+E79 -> 0 | F80: =+F79 -> 0 | G80: =+G79 -> 0 | H80: =+H79 -> 0 | I80: =+I79 -> 0 | J80: =+J79 -> 0 | ... Y80: =+Y79 -> 82973.43
A81: 410000 ค่าครุภัณฑ์ | Y81: =SUM(C81:X81) -> 0
A82: 410400 | B82: ครุภัณฑ์สำนักงาน | Y82: =SUM(C82:X82) -> 0
A83: 410200 | B83: ครุภัณฑ์การศึกษา | Y83: =SUM(C83:X83) -> 0
A84: 410300 | B84: ครุภัณฑ์ยานพาหนะและขนส่ง | Y84: =SUM(C84:X84) -> 0
A85: 410400 | B85: ครุภัณฑ์การเกษตร | Y85: =SUM(C85:X85) -> 0
A86: 410500 | B86: ครุภัณฑ์ก่อสร้าง | Y86: =SUM(C86:X86) -> 0
A87: 410600 | B87: ครุภัณฑ์ไฟฟ้าและวิทยุ | Y87: =SUM(C87:X87) -> 0
A88: 410700 | B88: ครุภัณฑ์โฆษณาและเผยแพร่ | Y88: =SUM(C88:X88) -> 0
A89: 410800 | B89: ครุภัณฑ์วิทยาศาสตร์ | Y89: =SUM(C89:X89) -> 0
A90: 410900 | B90: ครุภัณฑ์งานบ้านงานครัว | Y90: =SUM(C90:X90) -> 0
A91: 411000 | B91: ครุภัณฑ์โรงงาน | Y91: =SUM(C91:X91) -> 0
A92: 411100 | B92: ครุภัณฑ์เครื่องดับเพลิง | Y92: =SUM(C92:X92) -> 0
A93: 411300 | B93: ครุภัณฑ์สำรวจ | Y93: =SUM(C93:X93) -> 0
A94: 411600 | B94: ครุภัณฑ์คอมพิวเตอร์ | Y94: =SUM(C94:X94) -> 0
A95: 411800 | B95: ค่าบำรุงรักษาครุภัณฑ์ | G95: 0 | W95: 0 | Y95: =SUM(C95:X95) -> 0
A96: รวมเดือนนี้ | C96: =SUM(C82:C95) -> 0 | D96: =SUM(D82:D95) -> 0 | E96: =SUM(E82:E95) -> 0 | F96: =SUM(F82:F95) -> 0 | G96: =SUM(G82:G95) -> 0 | H96: =SUM(H82:H95) -> 0 | I96: =SUM(I82:I95) -> 0 | J96: =SUM(J82:J95) -> 0 | ... S96: =SUM(S82:S95) -> 0 | U96: =SUM(U82:U95) -> 0 | V96: =SUM(V82:V95) -> 0 | W96: =SUM(W82:W95) -> 0 | X96: =SUM(X82:X95) -> 0 | Y96: =SUM(C96:X96) -> 0
A97: รวมตั้งแต่ต้นปี | C97: =+C96 -> 0 | D97: =+D96 -> 0 | E97: =+E96 -> 0 | F97: =+F96 -> 0 | G97: =+G96 -> 0 | H97: =+H96 -> 0 | I97: =+I96 -> 0 | J97: =+J96 -> 0 | ... Y97: =+Y96 -> 0
A98: แผนงาน | C98: 00110 | E98: 00120 | G98: 00210 | I98: 00220 | K98: 00230 | L98: 00240 | P98: 00250 | R98: 00260 | U98: 00320 | W98: 00330 | X98: 00410 | Y98: รวม
A99: หมวด/ประเภทรายจ่าย | C99: 00111 | D99: 00113 | E99: 00121 | F99: 00123 | G99: 00211 | H99: 00212 | I99: 00221 | J99: 00223 | K99: 00232 | L99: 00241 | M99: 00242 | N99: 00244 | O99: 00245 | P99: 00251 | Q99: 00252 | R99: 00262 | S99: 00263 | T99: 00264 | U99: 00321 | V99: 00322 | W99: 00332 | X99: 00411
A100: 420000 ค่าที่ดินและสิ่งก่อสร้าง | Y100: =SUM(C100:X100) -> 0
...

Sheet โอนงบ
A1: เทศบาลตำบลเขาพระ อำเภอพิปูน จังหวัดนครศรีธรรมราช | P1: =+A1 -> เทศบาลตำบลเขาพระ อำเภอพิปูน จังหวัดนครศรีธรรมราช
A2: กระดาษทำการกระทบยอดการโอนงบประมาณรายจ่าย | P2: กระดาษทำการกระทบยอดรายจ่ายตามงบประมาณ (จ่ายจากรายรับ)
A3: ประจำเดือน ตุลาคม 2558 | P3: ประจำเดือน ตุลาคม 2558
A4: โอนงบประมาณ เพิ่ม + | P4: โอนงบประมาณ เพิ่ม +
A5: โอนงบประมาณ (ลด) - | P5: โอนงบประมาณ (ลด) -
A6: แผนงาน | C6: 00110 | E6: 00120 | G6: 00210 | I6: 00220 | K6: 00230 | L6: 00240 | P6: 00250 | R6: 00260 | U6: 00320 | W6: 00330 | X6: 00410 | Y6: รวม
A7: หมวด/ประเภทรายจ่าย | C7: 00111 | D7: 00113 | E7: 00121 | F7: 00123 | G7: 00211 | H7: 00212 | I7: 00221 | J7: 00223 | K7: 00232 | L7: 00241 | M7: 00242 | N7: 00244 | O7: 00245 | P7: 00251 | Q7: 00252 | R7: 00262 | S7: 00263 | T7: 00264 | U7: 00321 | V7: 00322 | W7: 00332 | X7: 00411
A8: 100000 งบกลาง
A9: 110100 | B9: ค่าชำระหนี้เงินต้น | Y9: =SUM(C9:X9) -> 0
A10: 110200 | B10: ค่าชำระดอกเบี้ย | Y10: =SUM(C10:X10) -> 0
A11: 110300 | B11: เงินสมทบประกันสังคม | Y11: =SUM(C11:X11) -> 0
A12: 110700 | B12: เบี้ยยังชีพคนชรา | Y12: =SUM(C12:X12) -> 0
A13: 110800 | B13: เบี้ยยังชีพผู้พิการ | Y13: =SUM(C13:X13) -> 0
A14: 110900 | B14: เบี้ยยังชีพผู้ป่วยเอดส์ | Y14: =SUM(C14:X14) -> 0
A15: 111000 | B15: เงินสำรองจ่าย | Y15: =SUM(C15:X15) -> 0
A16: 111100 | B16: เงินสมทบ สปสช./กองทุนสวัสดิการชุมชน | Y16: =SUM(C16:X16) -> 0
A17: 111100 | B17: ค่าบำรุงสันนิบาตเทศบาลแห่งประเทศไทย | Y17: =SUM(C17:X17) -> 0
A18: 120100 | B18: เงินสมทบ กบท. | Y18: =SUM(C18:X18) -> 0
A19: รวมเดือนนี้ | C19: =SUM(C9:C18) -> 0 | D19: =SUM(D9:D18) -> 0 | E19: =SUM(E9:E18) -> 0 | F19: =SUM(F9:F18) -> 0 | G19: =SUM(G9:G18) -> 0 | H19: =SUM(H9:H18) -> 0 | I19: =SUM(I9:I18) -> 0 | J19: =SUM(J9:J18) -> 0 | ... X19: =SUM(X9:X18) -> 0 | Y19: =SUM(C19:X19) -> 0
A20: รวมตั้งแต่ต้นปี | C20: =+C19 -> 0 | D20: =+D19 -> 0 | E20: =+E19 -> 0 | F20: =+F19 -> 0 | G20: =+G19 -> 0 | H20: =+H19 -> 0 | I20: =+I19 -> 0 | J20: =+J19 -> 0 | ... Y20: =+Y19 -> 0
A21: 210000 เงินเดือนฝ่ายการเมือง | Y21: =SUM(C21:X21) -> 0
A22: 210100 | B22: เงินเดือนนายก/รองนายก | D22: 0 | L22: 0 | Y22: =SUM(C22:X22) -> 0
A23: 210200 | B23: เงินประจำตำแหน่งนายก/รองนายก | Y23: =SUM(C23:X23) -> 0
A24: 210300 | B24: ค่าตอบแทนพิเศษนายก/รองนายก | Y24: =SUM(C24:X24) -> 0
A25: 210400 | B25: ค่าตอบแทนเลขาฯ/ที่ปรึกษา | Y25: =SUM(C25:X25) -> 0
A26: 210600 | B26: ค่าตอบแทนสมาชิก | Y26: =SUM(C26:X26) -> 0
A27: รวมเดือนนี้ | C27: =SUM(C22:C26) -> 0 | D27: =SUM(D21:D26) -> 0 | E27: =SUM(E21:E26) -> 0 | F27: =SUM(F21:F26) -> 0 | G27: =SUM(G21:G26) -> 0 | H27: =SUM(H21:H26) -> 0 | I27: =SUM(I21:I26) -> 0 | J27: =SUM(J21:J26) -> 0 | K27: =SUM(K21:K26) -> 0 | ... S27: =SUM(S21:S26) -> 0 | U27: =SUM(U21:U26) -> 0 | V27: =SUM(V21:V26) -> 0 | W27: =SUM(W21:W26) -> 0 | X27: =SUM(X21:X26) -> 0 | Y27: =SUM(C27:X27) -> 0
A28: รวมตั้งแต่ต้นปี | C28: =+C27 -> 0 | D28: =+D27 -> 0 | E28: =+E27 -> 0 | F28: =+F27 -> 0 | G28: =+G27 -> 0 | H28: =+H27 -> 0 | I28: =+I27 -> 0 | J28: =+J27 -> 0 | ... Y28: =+Y27 -> 0
A29: 220000 เงินเดือนฝ่ายประจำ | Y29: =SUM(C29:X29) -> 0
A30: 220100 | B30: เงินเดือนพนักงานเทศบาล | Y30: =SUM(C30:X30) -> 0
A31: 220200 | B31: เงินเพิ่มพนักงานเทศบาล | Y31: =SUM(C31:X31) -> 0
A32: 220300 | B32: เงินประจำตำแหน่ง | Y32: =SUM(C32:X32) -> 0
A33: 220500 | B33: ค่าจ้างประจำ | Y33: =SUM(C33:X33) -> 0
A34: 220600 | B34: เงินเพิ่มลูกจ้างประจำ | C34: 0 | D34: 0 | L34: 0 | Y34: =SUM(C34:X34) -> 0
A35: แผนงาน | C35: 00110 | E35: 00120 | G35: 00210 | I35: 00220 | K35: 00230 | L35: 00240 | P35: 00250 | R35: 00260 | U35: 00320 | W35: 00330 | X35: 00410 | Y35: รวม
A36: หมวด/ประเภทรายจ่าย | C36: 00111 | D36: 00113 | E36: 00121 | F36: 00123 | G36: 00211 | H36: 00212 | I36: 00221 | J36: 00223 | K36: 00232 | L36: 00241 | M36: 00242 | N36: 00244 | O36: 00245 | P36: 00251 | Q36: 00252 | R36: 00262 | S36: 00263 | T36: 00264 | U36: 00321 | V36: 00322 | W36: 00332 | X36: 00411
A37: 220700 | B37: ค่าจ้างพนักงานจ้าง | Y37: =SUM(C37:X37) -> 0
A38: 220800 | B38: เงินเพิ่มพนักงานจ้าง | Y38: =SUM(C38:X38) -> 0
A39: รวมเดือนนี้ | C39: =SUM(C29:C38) -> 0 | D39: =SUM(D29:D38) -> 0 | E39: =SUM(E29:E38) -> 0 | F39: =SUM(F29:F38) -> 0 | G39: =SUM(G29:G38) -> 0 | H39: =SUM(H29:H38) -> 0 | I39: =SUM(I29:I38) -> 0 | J39: =SUM(J29:J38) -> 0 | ... Y39: =SUM(Y29:Y38) -> 0
A40: รวมตั้งแต่ต้นปี | C40: =+C39 -> 0 | D40: =+D39 -> 0 | E40: =+E39 -> 0 | F40: =+F39 -> 0 | G40: =+G39 -> 0 | H40: =+H39 -> 0 | I40: =+I39 -> 0 | J40: =+J39 -> 0 | ... Y40: =+Y39 -> 0
A41: 310000 ค่าตอบแทน | Y41: =SUM(C41:X41) -> 0
A42: 310100 | B42: ค่าตอบแทนผู้ปฏิบัติฯ | Y42: =SUM(C42:X42) -> 0
A43: 310200 | B43: ค่าเบี้ยประชุม | Y43: =SUM(C43:X43) -> 0
A44: 310300 | B44: ค่าตอบแทนนอกเวลาฯ | Y44: =SUM(C44:X44) -> 0
A45: 310400 | B45: ค่าเช่าบ้าน | Y45: =SUM(C45:X45) -> 0
A46: 310500 | B46: เงินช่วยเหลือการศึกษาบุตร | L46: 20000 | Y46: =SUM(C46:X46) -> 20000
A47: 310600 | B47: เงินช่วยค่ารักษาพยาบาล | Y47: =SUM(C47:X47) -> 0
A48: 310700 | B48: เงินช่วยเหลือบุตร | L48: -20000 | Y48: =SUM(C48:X48) -> -20000
A49: รวมเดือนนี้ | C49: =SUM(C42:C48) -> 0 | D49: =SUM(D42:D48) -> 0 | E49: =SUM(E42:E48) -> 0 | F49: =SUM(F42:F48) -> 0 | G49: =SUM(G42:G48) -> 0 | H49: =SUM(H42:H48) -> 0 | I49: =SUM(I42:I48) -> 0 | J49: =SUM(J42:J48) -> 0 | ... Y49: =SUM(Y42:Y48) -> 0
A50: รวมตั้งแต่ต้นปี | C50: =+C49 -> 0 | D50: =+D49 -> 0 | E50: =+E49 -> 0 | F50: =+F49 -> 0 | G50: =+G49 -> 0 | H50: =+H49 -> 0 | I50: =+I49 -> 0 | J50: =+J49 -> 0 | ... Y50: =+Y49 -> 0
A51: 320000 ค่าใช้สอย | Y51: =SUM(C51:X51) -> 0
A52: 320100 | B52: รายจ่ายให้ได้มาซึ่งบริการ | Y52: =SUM(C52:X52) -> 0
A53: 320200 | B53: ค่ารับรอง | Y53: =SUM(C53:X53) -> 0
A54: 320300 | B54: รายจ่ายไม่เข้าลักษณะฯ | Y54: =SUM(C54:X54) -> 0
A55: 320400 | B55: ค่าบำรุงรักษาและซ่อมแซม | Y55: =SUM(C55:X55) -> 0
A56: รวมเดือนนี้ | C56: =SUM(C52:C55) -> 0 | D56: =SUM(D52:D55) -> 0 | E56: =SUM(E52:E55) -> 0 | F56: =SUM(F52:F55) -> 0 | G56: =SUM(G52:G55) -> 0 | H56: =SUM(H52:H55) -> 0 | I56: =SUM(I52:I55) -> 0 | J56: =SUM(J52:J55) -> 0 | ... Y56: =SUM(Y52:Y55) -> 0
A57: รวมตั้งแต่ต้นปี | C57: =+C56 -> 0 | D57: =+D56 -> 0 | E57: =+E56 -> 0 | F57: =+F56 -> 0 | G57: =+G56 -> 0 | H57: =+H56 -> 0 | I57: =+I56 -> 0 | J57: =+J56 -> 0 | ... Y57: =+Y56 -> 0
A58: 330000 ค่าวัสดุ | Y58: =SUM(C58:X58) -> 0
A59: 330100 | B59: วัสดุสำนักงาน | Y59: =SUM(C59:X59) -> 0
A60: 330200 | B60: วัสดุไฟฟ้าวิทยุ | Y60: =SUM(C60:X60) -> 0
A61: 330300 | B61: วัสดุงานบ้านงานครัว | Y61: =SUM(C61:X61) -> 0
A62: 330400 | B62: ค่าอาหารเสริม(นม) | Y62: =SUM(C62:X62) -> 0
A63: 330600 | B63: วัสดุก่อสร้าง | Y63: =SUM(C63:X63) -> 0
A64: 330700 | B64: วัสดุยานพาหนะและขนส่ง | Y64: =SUM(C64:X64) -> 0
A65: 330800 | B65: วัสดุเชื้อเพลิง | Y65: =SUM(C65:X65) -> 0
A66: 330900 | B66: วัสดุวิทยาศาสตร์ | Y66: =SUM(C66:X66) -> 0
A67: แผนงาน | C67: 00110 | E67: 00120 | G67: 00210 | I67: 00220 | K67: 00230 | L67: 00240 | P67: 00250 | R67: 00260 | U67: 00320 | W67: 00330 | X67: 00410 | Y67: รวม
A68: หมวด/ประเภทรายจ่าย | C68: 00111 | D68: 00113 | E68: 00121 | F68: 00123 | G68: 00211 | H68: 00212 | I68: 00221 | J68: 00223 | K68: 00232 | L68: 00241 | M68: 00242 | N68: 00244 | O68: 00245 | P68: 00251 | Q68: 00252 | R68: 00262 | S68: 00263 | T68: 00264 | U68: 00321 | V68: 00322 | W68: 00332 | X68: 00411
A69: 331000 | B69: วัสดุการเกษตร | Y69: =SUM(C69:X69) -> 0
A70: 331200 | B70: วัสดุเครื่องแต่งกาย | Y70: =SUM(C70:X70) -> 0
A71: 331300 | B71: วัสดุกีฬา | Y71: =SUM(C71:X71) -> 0
A72: 331400 | B72: วัสดุคอมพิวเตอร์ | Y72: =SUM(C72:X72) -> 0
A73: 331500 | B73: วัสดุการศึกษา | Y73: =SUM(C73:X73) -> 0
A74: 331700 | B74: วัสดุอื่น | Y74: =SUM(C74:X74) -> 0
A75: รวมเดือนนี้ | C75: =SUM(C59:C74) -> 0 | D75: =SUM(D59:D74) -> 0 | E75: =SUM(E59:E74) -> 0 | F75: =SUM(F59:F74) -> 0 | G75: =SUM(G59:G74) -> 0 | H75: =SUM(H59:H74) -> 0 | I75: =SUM(I59:I74) -> 0 | J75: =SUM(J59:J74) -> 0 | ... Y75: =SUM(Y59:Y74) -> 0
A76: รวมตั้งแต่ต้นปี | C76: =+C75 -> 0 | D76: =+D75 -> 0 | E76: =+E75 -> 0 | F76: =+F75 -> 0 | G76: =+G75 -> 0 | H76: =+H75 -> 0 | I76: =+I75 -> 0 | J76: =+J75 -> 0 | ... Y76: =+Y75 -> 0
A77: 340000 ค่าสาธารณูปโภค | Y77: =SUM(C77:X77) -> 0
A78: 340100 | B78: ไฟฟ้า | Y78: =SUM(C78:X78) -> 0
A79: 340300 | B79: โทรศัพท์ | Y79: =SUM(C79:X79) -> 0
A80: 340400 | B80: ไปรษณีย์ | Y80: =SUM(C80:X80) -> 0
A81: 340500 | B81: โทรคมนาคม | Y81: =SUM(C81:X81) -> 0
A82: รวมเดือนนี้ | C82: =SUM(C78:C81) -> 0 | D82: =SUM(D78:D81) -> 0 | E82: =SUM(E78:E81) -> 0 | F82: =SUM(F78:F81) -> 0 | G82: =SUM(G78:G81) -> 0 | H82: =SUM(H78:H81) -> 0 | I82: =SUM(I78:I81) -> 0 | J82: =SUM(J78:J81) -> 0 | ... Y82: =SUM(Y78:Y81) -> 0
A83: รวมตั้งแต่ต้นปี | C83: =+C82 -> 0 | D83: =+D82 -> 0 | E83: =+E82 -> 0 | F83: =+F82 -> 0 | G83: =+G82 -> 0 | H83: =+H82 -> 0 | I83: =+I82 -> 0 | J83: =+J82 -> 0 | ... Y83: =+Y82 -> 0
A84: 410000 ค่าครุภัณฑ์ | Y84: =SUM(C84:X84) -> 0
A85: 410400 | B85: ครุภัณฑ์สำนักงาน | Y85: =SUM(C85:X85) -> 0
A86: 410200 | B86: ครุภัณฑ์การศึกษา | Y86: =SUM(C86:X86) -> 0
A87: 410300 | B87: ครุภัณฑ์ยานพาหนะและขนส่ง | Y87: =SUM(C87:X87) -> 0
A88: 410400 | B88: ครุภัณฑ์การเกษตร | Y88: =SUM(C88:X88) -> 0
A89: 410500 | B89: ครุภัณฑ์ก่อสร้าง | Y89: =SUM(C89:X89) -> 0
A90: 410600 | B90: ครุภัณฑ์ไฟฟ้าและวิทยุ | Y90: =SUM(C90:X90) -> 0
A91: 410700 | B91: ครุภัณฑ์โฆษณาและเผยแพร่ | Y91: =SUM(C91:X91) -> 0
A92: 410800 | B92: ครุภัณฑ์วิทยาศาสตร์ | Y92: =SUM(C92:X92) -> 0
A93: 410900 | B93: ครุภัณฑ์งานบ้านงานครัว | Y93: =SUM(C93:X93) -> 0
A94: 411000 | B94: ครุภัณฑ์โรงงาน | Y94: =SUM(C94:X94) -> 0
A95: 411100 | B95: ครุภัณฑ์เครื่องดับเพลิง | Y95: =SUM(C95:X95) -> 0
A96: 411300 | B96: ครุภัณฑ์สำรวจ | Y96: =SUM(C96:X96) -> 0
A97: 411600 | B97: ครุภัณฑ์คอมพิวเตอร์ | Y97: =SUM(C97:X97) -> 0
A98: 411800 | B98: ค่าบำรุงรักษาครุภัณฑ์ | G98: 0 | W98: 0 | Y98: =SUM(C98:X98) -> 0
A99: รวมเดือนนี้ | C99: =SUM(C85:C98) -> 0 | D99: =SUM(D85:D98) -> 0 | E99: =SUM(E85:E98) -> 0 | F99: =SUM(F85:F98) -> 0 | G99: =SUM(G85:G98) -> 0 | H99: =SUM(H85:H98) -> 0 | I99: =SUM(I85:I98) -> 0 | J99: =SUM(J85:J98) -> 0 | ... S99: =SUM(S85:S98) -> 0 | U99: =SUM(U85:U98) -> 0 | V99: =SUM(V85:V98) -> 0 | W99: =SUM(W85:W98) -> 0 | X99: =SUM(X85:X98) -> 0 | Y99: =SUM(C99:X99) -> 0
A100: รวมตั้งแต่ต้นปี | C100: =+C99 -> 0 | D100: =+D99 -> 0 | E100: =+E99 -> 0 | F100: =+F99 -> 0 | G100: =+G99 -> 0 | H100: =+H99 -> 0 | I100: =+I99 -> 0 | J100: =+J99 -> 0 | ... Y100: =+Y99 -> 0
...

Sheet กระทบยอดเงินสะสม
A1: เทศบาลตำบลเขาพระ อำเภอพิปูน จังหวัดนครศรีธรรมราช
A2: กระดาษทำการกระทบยอดรายจ่าย (จ่ายจากเงินสะสม)
A3: ประจำเดือน ตุลาคม 2558
A4: แผนงาน | C4: 00110 | E4: 00120 | F4: 00210 | H4: 00220 | J4: 00230 | K4: 00240 | N4: 00250 | O4: 00260 | R4: 00320 | T4: 00330 | U4: 00410 | V4: รวม
A5: หมวด/ประเภทรายจ่าย | C5: 00111 | D5: 00113 | E5: 00121 | F5: 00211 | G5: 00212 | H5: 00221 | I5: 00223 | J5: 00232 | K5: 00241 | L5: 00242 | M5: 00244 | N5: 00252 | O5: 00262 | P5: 00263 | Q5: 00264 | R5: 00321 | S5: 00322 | T5: 00332 | U5: 00411
A6: 100000 งบกลาง | V6: =SUM(C6:U6) -> 0
A7: รวมตั้งแต่ต้นปี | C7: =SUM(C6) -> 0 | D7: =SUM(D6) -> 0 | E7: =SUM(E6) -> 0 | F7: =SUM(F6) -> 0 | G7: =SUM(G6) -> 0 | H7: =SUM(H6) -> 0 | I7: =SUM(I6) -> 0 | J7: =SUM(J6) -> 0 | ... V7: =SUM(V6) -> 0
A8: 210000 เงินเดือนฝ่ายการเมือง | V8: =SUM(C8:U8) -> 0
A9: รวมตั้งแต่ต้นปี | C9: =SUM(C8) -> 0 | D9: =SUM(D8) -> 0 | E9: =SUM(E8) -> 0 | F9: =SUM(F8) -> 0 | G9: =SUM(G8) -> 0 | H9: =SUM(H8) -> 0 | I9: =SUM(I8) -> 0 | J9: =SUM(J8) -> 0 | ... V9: =SUM(V8) -> 0
A10: 220000 เงินเดือนฝ่ายประจำ
A11: รวมตั้งแต่ต้นปี | C11: =SUM(C10) -> 0 | D11: =SUM(D10) -> 0 | E11: =SUM(E10) -> 0 | F11: =SUM(F10) -> 0 | G11: =SUM(G10) -> 0 | H11: =SUM(H10) -> 0 | I11: =SUM(I10) -> 0 | J11: =SUM(J10) -> 0 | ... V11: =SUM(V10) -> 0
A12: 310000 ค่าตอบแทน | F12: 0
A13: รวมตั้งแต่ต้นปี | C13: =+C12 -> 0 | D13: =+D12 -> 0 | E13: =+E12 -> 0 | F13: =+F12 -> 0 | G13: =+G12 -> 0 | H13: =+H12 -> 0 | I13: =+I12 -> 0 | J13: =+J12 -> 0 | ... V13: =+V12 -> 0
A14: 320000 ค่าใช้สอย | C14: 0 | V14: =SUM(F14:U14) -> 0
A15: รวมตั้งแต่ต้นปี | C15: =SUM(C14) -> 0 | D15: =SUM(D14) -> 0 | E15: =SUM(E14) -> 0 | F15: =SUM(F14) -> 0 | G15: =SUM(G14) -> 0 | H15: =SUM(H14) -> 0 | I15: =SUM(I14) -> 0 | J15: =SUM(J14) -> 0 | ... V15: =SUM(V14) -> 0
A16: 330000 ค่าวัสดุ | V16: =SUM(F16:U16) -> 0
A17: รวมตั้งแต่ต้นปี | C17: =SUM(C16) -> 0 | D17: =SUM(D16) -> 0 | E17: =SUM(E16) -> 0 | F17: =SUM(F16) -> 0 | G17: =SUM(G16) -> 0 | H17: =SUM(H16) -> 0 | I17: =SUM(I16) -> 0 | J17: =SUM(J16) -> 0 | ... V17: =SUM(V16) -> 0
A18: 340000 ค่าสาธารณูปโภค
A19: รวมตั้งแต่ต้นปี | C19: =SUM(C18) -> 0 | D19: =SUM(D18) -> 0 | E19: =SUM(E18) -> 0 | F19: =SUM(F18) -> 0 | G19: =SUM(G18) -> 0 | H19: =SUM(H18) -> 0 | I19: =SUM(I18) -> 0 | J19: =SUM(J18) -> 0 | ... V19: =SUM(V18) -> 0
A20: 410000 ค่าครุภัณฑ์
A21: รวมตั้งแต่ต้นปี | C21: =SUM(C20) -> 0 | D21: =SUM(D20) -> 0 | E21: =SUM(E20) -> 0 | F21: =SUM(F20) -> 0 | G21: =SUM(G20) -> 0 | H21: =SUM(H20) -> 0 | I21: =SUM(I20) -> 0 | J21: =SUM(J20) -> 0 | ... V21: =SUM(V20) -> 0
A22: 420000 ค่าที่ดินและสิ่งก่อสร้าง | L22: =110707 -> 110707 | V22: =SUM(C22:U22) -> 110707
A23: รวมตั้งแต่ต้นปี | C23: =SUM(C22) -> 0 | D23: =SUM(D22) -> 0 | E23: =SUM(E22) -> 0 | F23: =SUM(F22) -> 0 | G23: =SUM(G22) -> 0 | H23: =SUM(H22) -> 0 | I23: =SUM(I22) -> 0 | J23: =SUM(J22) -> 0 | ... V23: =SUM(V22) -> 110707
A24: 510000 รายจ่ายอื่น
A25: รวมตั้งแต่ต้นปี | C25: =SUM(C24) -> 0 | D25: =SUM(D24) -> 0 | E25: =SUM(E24) -> 0 | F25: =SUM(F24) -> 0 | G25: =SUM(G24) -> 0 | H25: =SUM(H24) -> 0 | I25: =SUM(I24) -> 0 | J25: =SUM(J24) -> 0 | ... V25: =SUM(V24) -> 0
A26: 610000 เงินอุดหนุน
A27: รวมตั้งแต่ต้นปี | C27: =SUM(C26) -> 0 | D27: =SUM(D26) -> 0 | E27: =SUM(E26) -> 0 | F27: =SUM(F26) -> 0 | G27: =SUM(G26) -> 0 | H27: =SUM(H26) -> 0 | I27: =SUM(I26) -> 0 | J27: =SUM(J26) -> 0 | ... V27: =SUM(V26) -> 0
A28: รวมเดือนนี้ | C28: =SUM(C6,C8,C10,C12,C14,C16,C18,C20,C22,C24,C26) -> 0 | D28: =SUM(D6,D8,D10,D12,D14,D16,D18,D20,D22,D24,D26) -> 0 | E28: =SUM(E6,E8,E10,E12,E14,E16,E18,E20,E22,E24,E26) -> 0 | F28: =SUM(F6,F8,F10,F12,F14,F16,F18,F20,F22,F24,F26) -> 0 | G28: =SUM(G6,G8,G10,G12,G14,G16,G18,G20,G22,G24,G26) -> 0 | H28: =SUM(H6,H8,H10,H12,H14,H16,H18,H20,H22,H24,H26) -> 0 | I28: =SUM(I6,I8,I10,I12,I14,I16,I18,I20,I22,I24,I26) -> 0 | J28: =SUM(J6,J8,J10,J12,J14,J16,J18,J20,J22,J24,J26) -> 0 | ... V28: =SUM(V6,V8,V10,V12,V14,V16,V18,V20,V22,V24,V26) -> 110707
A29: รวมตั้งแต่ต้นปี | C29: =+C27+C25+C23+C21+C19+C17+C15+C13+C11+C9+C7 -> 0 | D29: =+D27+D25+D23+D21+D19+D17+D15+D13+D11+D9+D7 -> 0 | E29: =+E27+E25+E23+E21+E19+E17+E15+E13+E11+E9+E7 -> 0 | F29: =+F27+F25+F23+F21+F19+F17+F15+F13+F11+F9+F7 -> 0 | G29: =+G27+G25+G23+G21+G19+G17+G15+G13+G11+G9+G7 -> 0 | H29: =+H27+H25+H23+H21+H19+H17+H15+H13+H11+H9+H7 -> 0 | I29: =+I27+I25+I23+I21+I19+I17+I15+I13+I11+I9+I7 -> 0 | J29: =+J27+J25+J23+J21+J19+J17+J15+J13+J11+J9+J7 -> 0 | ... V29: =+V27+V25+V23+V21+V19+V17+V15+V13+V11+V9+V7 -> 110707
A30: เทศบาลตำบลเขาพระ อำเภอพิปูน จังหวัดนครศรีธรรมราช
A31: กระดาษทำการกระทบยอดรายจ่าย (จ่ายจากเงินสะสม)
A32: ประจำเดือน พฤศจิกายน 2558
A33: แผนงาน | C33: 00110 | E33: 00120 | F33: 00210 | H33: 00220 | J33: 00230 | K33: 00240 | N33: 00250 | O33: 00260 | R33: 00320 | T33: 00330 | U33: 00410 | V33: รวม
A34: หมวด/ประเภทรายจ่าย | C34: 00111 | D34: 00113 | E34: 00121 | F34: 00211 | G34: 00212 | H34: 00221 | I34: 00223 | J34: 00232 | K34: 00241 | L34: 00242 | M34: 00244 | N34: 00252 | O34: 00262 | P34: 00263 | Q34: 00264 | R34: 00321 | S34: 00322 | T34: 00332 | U34: 00411
A35: 100000 งบกลาง | V35: =SUM(C35:U35) -> 0
A36: รวมตั้งแต่ต้นปี | C36: =SUM(C35) -> 0 | D36: =SUM(D35) -> 0 | E36: =SUM(E35) -> 0 | F36: =SUM(F35) -> 0 | G36: =SUM(G35) -> 0 | H36: =SUM(H35) -> 0 | I36: =SUM(I35) -> 0 | J36: =SUM(J35) -> 0 | ... V36: =SUM(V35) -> 0
A37: 210000 เงินเดือนฝ่ายการเมือง | V37: =SUM(C37:U37) -> 0
A38: รวมตั้งแต่ต้นปี | C38: =SUM(C37) -> 0 | D38: =SUM(D37) -> 0 | E38: =SUM(E37) -> 0 | F38: =SUM(F37) -> 0 | G38: =SUM(G37) -> 0 | H38: =SUM(H37) -> 0 | I38: =SUM(I37) -> 0 | J38: =SUM(J37) -> 0 | ... V38: =SUM(V37) -> 0
A39: 220000 เงินเดือนฝ่ายประจำ
A40: รวมตั้งแต่ต้นปี | C40: =SUM(C39) -> 0 | D40: =SUM(D39) -> 0 | E40: =SUM(E39) -> 0 | F40: =SUM(F39) -> 0 | G40: =SUM(G39) -> 0 | H40: =SUM(H39) -> 0 | I40: =SUM(I39) -> 0 | J40: =SUM(J39) -> 0 | ... V40: =SUM(V39) -> 0
A41: 310000 ค่าตอบแทน | F41: 0
A42: รวมตั้งแต่ต้นปี | C42: =+C41 -> 0 | D42: =+D41 -> 0 | E42: =+E41 -> 0 | F42: =+F41 -> 0 | G42: =+G41 -> 0 | H42: =+H41 -> 0 | I42: =+I41 -> 0 | J42: =+J41 -> 0 | ... V42: =+V41 -> 0
A43: 320000 ค่าใช้สอย | C43: 0 | V43: =SUM(F43:U43) -> 0
A44: รวมตั้งแต่ต้นปี | C44: =SUM(C43) -> 0 | D44: =SUM(D43) -> 0 | E44: =SUM(E43) -> 0 | F44: =SUM(F43) -> 0 | G44: =SUM(G43) -> 0 | H44: =SUM(H43) -> 0 | I44: =SUM(I43) -> 0 | J44: =SUM(J43) -> 0 | ... V44: =SUM(V43) -> 0
A45: 330000 ค่าวัสดุ | V45: =SUM(F45:U45) -> 0
A46: รวมตั้งแต่ต้นปี | C46: =SUM(C45) -> 0 | D46: =SUM(D45) -> 0 | E46: =SUM(E45) -> 0 | F46: =SUM(F45) -> 0 | G46: =SUM(G45) -> 0 | H46: =SUM(H45) -> 0 | I46: =SUM(I45) -> 0 | J46: =SUM(J45) -> 0 | ... V46: =SUM(V45) -> 0
A47: 340000 ค่าสาธารณูปโภค
A48: รวมตั้งแต่ต้นปี | C48: =SUM(C47) -> 0 | D48: =SUM(D47) -> 0 | E48: =SUM(E47) -> 0 | F48: =SUM(F47) -> 0 | G48: =SUM(G47) -> 0 | H48: =SUM(H47) -> 0 | I48: =SUM(I47) -> 0 | J48: =SUM(J47) -> 0 | ... V48: =SUM(V47) -> 0
A49: 410000 ค่าครุภัณฑ์
A50: รวมตั้งแต่ต้นปี | C50: =SUM(C49) -> 0 | D50: =SUM(D49) -> 0 | E50: =SUM(E49) -> 0 | F50: =SUM(F49) -> 0 | G50: =SUM(G49) -> 0 | H50: =SUM(H49) -> 0 | I50: =SUM(I49) -> 0 | J50: =SUM(J49) -> 0 | ... V50: =SUM(V49) -> 0
A51: 420000 ค่าที่ดินและสิ่งก่อสร้าง | L51: =110707+110707+48000 -> 269414 | V51: =SUM(C51:U51) -> 269414
A52: รวมตั้งแต่ต้นปี | C52: =SUM(C51+C23) -> 0 | D52: =SUM(D51+D23) -> 0 | E52: =SUM(E51+E23) -> 0 | F52: =SUM(F51+F23) -> 0 | G52: =SUM(G51+G23) -> 0 | H52: =SUM(H51+H23) -> 0 | I52: =SUM(I51+I23) -> 0 | J52: =SUM(J51+J23) -> 0 | ... V52: =SUM(V51+V23) -> 380121
A53: 510000 รายจ่ายอื่น
A54: รวมตั้งแต่ต้นปี | C54: =SUM(C53) -> 0 | D54: =SUM(D53) -> 0 | E54: =SUM(E53) -> 0 | F54: =SUM(F53) -> 0 | G54: =SUM(G53) -> 0 | H54: =SUM(H53) -> 0 | I54: =SUM(I53) -> 0 | J54: =SUM(J53) -> 0 | ... V54: =SUM(V53) -> 0
A55: 610000 เงินอุดหนุน
A56: รวมตั้งแต่ต้นปี | C56: =SUM(C55) -> 0 | D56: =SUM(D55) -> 0 | E56: =SUM(E55) -> 0 | F56: =SUM(F55) -> 0 | G56: =SUM(G55) -> 0 | H56: =SUM(H55) -> 0 | I56: =SUM(I55) -> 0 | J56: =SUM(J55) -> 0 | ... V56: =SUM(V55) -> 0
A57: รวมเดือนนี้ | C57: =SUM(C35,C37,C39,C41,C43,C45,C47,C49,C51,C53,C55) -> 0 | D57: =SUM(D35,D37,D39,D41,D43,D45,D47,D49,D51,D53,D55) -> 0 | E57: =SUM(E35,E37,E39,E41,E43,E45,E47,E49,E51,E53,E55) -> 0 | F57: =SUM(F35,F37,F39,F41,F43,F45,F47,F49,F51,F53,F55) -> 0 | G57: =SUM(G35,G37,G39,G41,G43,G45,G47,G49,G51,G53,G55) -> 0 | H57: =SUM(H35,H37,H39,H41,H43,H45,H47,H49,H51,H53,H55) -> 0 | I57: =SUM(I35,I37,I39,I41,I43,I45,I47,I49,I51,I53,I55) -> 0 | J57: =SUM(J35,J37,J39,J41,J43,J45,J47,J49,J51,J53,J55) -> 0 | ... V57: =SUM(V35,V37,V39,V41,V43,V45,V47,V49,V51,V53,V55) -> 269414
A58: รวมตั้งแต่ต้นปี | C58: =+C56+C54+C52+C50+C48+C46+C44+C42+C40+C38+C36 -> 0 | D58: =+D56+D54+D52+D50+D48+D46+D44+D42+D40+D38+D36 -> 0 | E58: =+E56+E54+E52+E50+E48+E46+E44+E42+E40+E38+E36 -> 0 | F58: =+F56+F54+F52+F50+F48+F46+F44+F42+F40+F38+F36 -> 0 | G58: =+G56+G54+G52+G50+G48+G46+G44+G42+G40+G38+G36 -> 0 | H58: =+H56+H54+H52+H50+H48+H46+H44+H42+H40+H38+H36 -> 0 | I58: =+I56+I54+I52+I50+I48+I46+I44+I42+I40+I38+I36 -> 0 | J58: =+J56+J54+J52+J50+J48+J46+J44+J42+J40+J38+J36 -> 0 | ... V58: =+V56+V54+V52+V50+V48+V46+V44+V42+V40+V38+V36 -> 380121 | W58: =110707+269414 -> 380121
A59: เทศบาลตำบลเขาพระ อำเภอพิปูน จังหวัดนครศรีธรรมราช
A60: กระดาษทำการกระทบยอดรายจ่าย (จ่ายจากเงินสะสม)
A61: ประจำเดือน ธันวาคม 2558
A62: แผนงาน | C62: 00110 | E62: 00120 | F62: 00210 | H62: 00220 | J62: 00230 | K62: 00240 | N62: 00250 | O62: 00260 | R62: 00320 | T62: 00330 | U62: 00410 | V62: รวม
A63: หมวด/ประเภทรายจ่าย | C63: 00111 | D63: 00113 | E63: 00121 | F63: 00211 | G63: 00212 | H63: 00221 | I63: 00223 | J63: 00232 | K63: 00241 | L63: 00242 | M63: 00244 | N63: 00252 | O63: 00262 | P63: 00263 | Q63: 00264 | R63: 00321 | S63: 00322 | T63: 00332 | U63: 00411
A64: 100000 งบกลาง | U64: 433845.1 | V64: =SUM(C64:U64) -> 433845.1
A65: รวมตั้งแต่ต้นปี | C65: =SUM(C64) -> 0 | D65: =SUM(D64) -> 0 | E65: =SUM(E64) -> 0 | F65: =SUM(F64) -> 0 | G65: =SUM(G64) -> 0 | H65: =SUM(H64) -> 0 | I65: =SUM(I64) -> 0 | J65: =SUM(J64) -> 0 | ... V65: =SUM(V64) -> 433845.1
A66: 210000 เงินเดือนฝ่ายการเมือง | V66: =SUM(C66:U66) -> 0
A67: รวมตั้งแต่ต้นปี | C67: =SUM(C66) -> 0 | D67: =SUM(D66) -> 0 | E67: =SUM(E66) -> 0 | F67: =SUM(F66) -> 0 | G67: =SUM(G66) -> 0 | H67: =SUM(H66) -> 0 | I67: =SUM(I66) -> 0 | J67: =SUM(J66) -> 0 | ... V67: =SUM(V66) -> 0
A68: 220000 เงินเดือนฝ่ายประจำ
A69: รวมตั้งแต่ต้นปี | C69: =SUM(C68) -> 0 | D69: =SUM(D68) -> 0 | E69: =SUM(E68) -> 0 | F69: =SUM(F68) -> 0 | G69: =SUM(G68) -> 0 | H69: =SUM(H68) -> 0 | I69: =SUM(I68) -> 0 | J69: =SUM(J68) -> 0 | ... V69: =SUM(V68) -> 0
A70: 310000 ค่าตอบแทน | F70: 0
A71: รวมตั้งแต่ต้นปี | C71: =+C70 -> 0 | D71: =+D70 -> 0 | E71: =+E70 -> 0 | F71: =+F70 -> 0 | G71: =+G70 -> 0 | H71: =+H70 -> 0 | I71: =+I70 -> 0 | J71: =+J70 -> 0 | ... V71: =+V70 -> 0
A72: 320000 ค่าใช้สอย | C72: 0 | V72: =SUM(F72:U72) -> 0
A73: รวมตั้งแต่ต้นปี | C73: =SUM(C72) -> 0 | D73: =SUM(D72) -> 0 | E73: =SUM(E72) -> 0 | F73: =SUM(F72) -> 0 | G73: =SUM(G72) -> 0 | H73: =SUM(H72) -> 0 | I73: =SUM(I72) -> 0 | J73: =SUM(J72) -> 0 | ... V73: =SUM(V72) -> 0
A74: 330000 ค่าวัสดุ | V74: =SUM(F74:U74) -> 0
A75: รวมตั้งแต่ต้นปี | C75: =SUM(C74) -> 0 | D75: =SUM(D74) -> 0 | E75: =SUM(E74) -> 0 | F75: =SUM(F74) -> 0 | G75: =SUM(G74) -> 0 | H75: =SUM(H74) -> 0 | I75: =SUM(I74) -> 0 | J75: =SUM(J74) -> 0 | ... V75: =SUM(V74) -> 0
A76: 340000 ค่าสาธารณูปโภค
A77: รวมตั้งแต่ต้นปี | C77: =SUM(C76) -> 0 | D77: =SUM(D76) -> 0 | E77: =SUM(E76) -> 0 | F77: =SUM(F76) -> 0 | G77: =SUM(G76) -> 0 | H77: =SUM(H76) -> 0 | I77: =SUM(I76) -> 0 | J77: =SUM(J76) -> 0 | ... V77: =SUM(V76) -> 0
A78: 410000 ค่าครุภัณฑ์
A79: รวมตั้งแต่ต้นปี | C79: =SUM(C78) -> 0 | D79: =SUM(D78) -> 0 | E79: =SUM(E78) -> 0 | F79: =SUM(F78) -> 0 | G79: =SUM(G78) -> 0 | H79: =SUM(H78) -> 0 | I79: =SUM(I78) -> 0 | J79: =SUM(J78) -> 0 | ... V79: =SUM(V78) -> 0
A80: 420000 ค่าที่ดินและสิ่งก่อสร้าง | T80: 246700 | V80: =SUM(C80:U80) -> 246700
A81: รวมตั้งแต่ต้นปี | C81: =SUM(C80+C52) -> 0 | D81: =SUM(D80+D52) -> 0 | E81: =SUM(E80+E52) -> 0 | F81: =SUM(F80+F52) -> 0 | G81: =SUM(G80+G52) -> 0 | H81: =SUM(H80+H52) -> 0 | I81: =SUM(I80+I52) -> 0 | J81: =SUM(J80+J52) -> 0 | ... V81: =SUM(V80+V52) -> 626821
A82: 510000 รายจ่ายอื่น
A83: รวมตั้งแต่ต้นปี | C83: =SUM(C82) -> 0 | D83: =SUM(D82) -> 0 | E83: =SUM(E82) -> 0 | F83: =SUM(F82) -> 0 | G83: =SUM(G82) -> 0 | H83: =SUM(H82) -> 0 | I83: =SUM(I82) -> 0 | J83: =SUM(J82) -> 0 | ... V83: =SUM(V82) -> 0
A84: 610000 เงินอุดหนุน
A85: รวมตั้งแต่ต้นปี | C85: =SUM(C84) -> 0 | D85: =SUM(D84) -> 0 | E85: =SUM(E84) -> 0 | F85: =SUM(F84) -> 0 | G85: =SUM(G84) -> 0 | H85: =SUM(H84) -> 0 | I85: =SUM(I84) -> 0 | J85: =SUM(J84) -> 0 | ... V85: =SUM(V84) -> 0
A86: รวมเดือนนี้ | C86: =SUM(C64,C66,C68,C70,C72,C74,C76,C78,C80,C82,C84) -> 0 | D86: =SUM(D64,D66,D68,D70,D72,D74,D76,D78,D80,D82,D84) -> 0 | E86: =SUM(E64,E66,E68,E70,E72,E74,E76,E78,E80,E82,E84) -> 0 | F86: =SUM(F64,F66,F68,F70,F72,F74,F76,F78,F80,F82,F84) -> 0 | G86: =SUM(G64,G66,G68,G70,G72,G74,G76,G78,G80,G82,G84) -> 0 | H86: =SUM(H64,H66,H68,H70,H72,H74,H76,H78,H80,H82,H84) -> 0 | I86: =SUM(I64,I66,I68,I70,I72,I74,I76,I78,I80,I82,I84) -> 0 | J86: =SUM(J64,J66,J68,J70,J72,J74,J76,J78,J80,J82,J84) -> 0 | ... V86: =SUM(V64,V66,V68,V70,V72,V74,V76,V78,V80,V82,V84) -> 680545.1
A87: รวมตั้งแต่ต้นปี | C87: =+C85+C83+C81+C79+C77+C75+C73+C71+C69+C67+C65 -> 0 | D87: =+D85+D83+D81+D79+D77+D75+D73+D71+D69+D67+D65 -> 0 | E87: =+E85+E83+E81+E79+E77+E75+E73+E71+E69+E67+E65 -> 0 | F87: =+F85+F83+F81+F79+F77+F75+F73+F71+F69+F67+F65 -> 0 | G87: =+G85+G83+G81+G79+G77+G75+G73+G71+G69+G67+G65 -> 0 | H87: =+H85+H83+H81+H79+H77+H75+H73+H71+H69+H67+H65 -> 0 | I87: =+I85+I83+I81+I79+I77+I75+I73+I71+I69+I67+I65 -> 0 | J87: =+J85+J83+J81+J79+J77+J75+J73+J71+J69+J67+J65 -> 0 | ... V87: =+V85+V83+V81+V79+V77+V75+V73+V71+V69+V67+V65 -> 1060666.1
A88: เทศบาลตำบลเขาพระ อำเภอพิปูน จังหวัดนครศรีธรรมราช
A89: กระดาษทำการกระทบยอดรายจ่าย (จ่ายจากเงินสะสม)
A90: ประจำเดือน กุมภาพันธ์ 2559
A91: แผนงาน | C91: 00110 | E91: 00120 | F91: 00210 | H91: 00220 | J91: 00230 | K91: 00240 | N91: 00250 | O91: 00260 | R91: 00320 | T91: 00330 | U91: 00410 | V91: รวม
A92: หมวด/ประเภทรายจ่าย | C92: 00111 | D92: 00113 | E92: 00121 | F92: 00211 | G92: 00212 | H92: 00221 | I92: 00223 | J92: 00232 | K92: 00241 | L92: 00242 | M92: 00244 | N92: 00252 | O92: 00262 | P92: 00263 | Q92: 00264 | R92: 00321 | S92: 00322 | T92: 00332 | U92: 00411
A93: 100000 งบกลาง | V93: =SUM(C93:U93) -> 0
A94: รวมตั้งแต่ต้นปี | C94: =SUM(C93) -> 0 | D94: =SUM(D93) -> 0 | E94: =SUM(E93) -> 0 | F94: =SUM(F93) -> 0 | G94: =SUM(G93) -> 0 | H94: =SUM(H93) -> 0 | I94: =SUM(I93) -> 0 | J94: =SUM(J93) -> 0 | ... T94: =SUM(T93) -> 0 | U94: =SUM(U93+U65) -> 433845.1 | V94: =SUM(C94:U94) -> 433845.1
A95: 210000 เงินเดือนฝ่ายการเมือง | V95: =SUM(C95:U95) -> 0
A96: รวมตั้งแต่ต้นปี | C96: =SUM(C95) -> 0 | D96: =SUM(D95) -> 0 | E96: =SUM(E95) -> 0 | F96: =SUM(F95) -> 0 | G96: =SUM(G95) -> 0 | H96: =SUM(H95) -> 0 | I96: =SUM(I95) -> 0 | J96: =SUM(J95) -> 0 | ... V96: =SUM(V95) -> 0
A97: 220000 เงินเดือนฝ่ายประจำ
A98: รวมตั้งแต่ต้นปี | C98: =SUM(C97) -> 0 | D98: =SUM(D97) -> 0 | E98: =SUM(E97) -> 0 | F98: =SUM(F97) -> 0 | G98: =SUM(G97) -> 0 | H98: =SUM(H97) -> 0 | I98: =SUM(I97) -> 0 | J98: =SUM(J97) -> 0 | ... V98: =SUM(V97) -> 0
A99: 310000 ค่าตอบแทน | F99: 0
A100: รวมตั้งแต่ต้นปี | C100: =+C99 -> 0 | D100: =+D99 -> 0 | E100: =+E99 -> 0 | F100: =+F99 -> 0 | G100: =+G99 -> 0 | H100: =+H99 -> 0 | I100: =+I99 -> 0 | J100: =+J99 -> 0 | ... V100: =+V99 -> 0
...

Sheet แบบแสดงฐานะการคลัง
A1: แบบแสดงฐานะการคลัง
A2: เทศบาลตำบลเขาพระ อำเภอพิปูน จังหวัดนครศรีธรรมราช
A3: กู้เพื่อก่อสร้างถนน,จัดซื้อครุภัณฑ์ยานพาหนะและขนส่งและครุภัณฑ์ก่อสร้าง
A4: ฐานะการคลัง | B4: ปีงบประมาณ
B5: 2554 | C5: 2555 | D5: 2556
A6: รายรับตามงบประมาณ
A7: ภาษีอากร | B7: 136587.26 | C7: 181788.67 | D7: 194039.26
A8: ค่าธรรมเนียม ค่าปรับและใบอนุญาต | B8: 10417.74 | C8: 96161.4 | D8: 36884.4
A9: รายได้จากทรัพย์สิน | B9: 102995.08 | C9: 169077.32 | D9: 418963.65
A10: รายได้จากสาธารณูปโภคและการพาณิชย์ | B10: 281312.5 | C10: 273125 | D10: 289432.5
A11: รายได้เบ็ดเตล็ด | B11: 41460 | C11: 40700 | D11: 132689
A12: รายได้จากทุน | B12: 0 | C12: 0 | D12: 0
A13: รัฐบาลจัดสรรให้ | B13: 12407652 | C13: 13148527 | D13: 15966940
A14: เงินอุดหนุนทั่วไป | B14: 14609838 | C14: 14359388 | D14: 15565538
A15: รวม | B15: =SUM(B7:B14) -> 27590263 | C15: =SUM(C7:C14) -> 28268768 | D15: =SUM(D7:D14) -> 32604487
A16: รายรับนอกงบประมาณ
A17: เงินอุดหนุนเฉพาะกิจ/เงินอุดหนุนระบุวัตถุประสงค์ | B17: =70000+7672290-13-264.4-75000-57000 -> 7610012.6 | C17: =10000+11264708.59-32672.94 -> 11242036 | D17: =21800+11712263.02-7704 -> 11726359
A19: รวม | B19: =+B17 -> 7610012.6 | C19: =+C17 -> 11242036 | D19: =+D17 -> 11726359
A20: รวมรับทั้งสิ้น | B20: =+B19+B15 -> 35200275 | C20: =+C19+C15 -> 39510803 | D20: =+D19+D15 -> 44330846
A21: รายจ่ายตามงบประมาณ
A22: งบกลาง | B22: 1294776 | C22: 815254.16 | D22: 1052868
A23: เงินเดือน | B23: =1612602.85+2925322.13 -> 4537925 | C23: =2746828+2927229.11 -> 5674057.1 | D23: =2250548+2713528.31 -> 4964076.3
A24: ค่าจ้างประจำ | B24: 270000 | C24: 287760 | D24: 313695
A25: ค่าจ้างชั่วคราว | B25: 872207.96 | C25: 1413058.4 | D25: 1851857.1
A26: ค่าตอบแทน | B26: 1836181.5 | C26: 1590820 | D26: 648183.5
A27: ค่าใช้สอย | B27: 1763893.3 | C27: 2673375.9 | D27: 4013487.1
A28: ค่าวัสดุ | B28: 2395429.1 | C28: 2954430 | D28: 3315073.5
A29: ค่าสาธารณูปโภค | B29: 558455.32 | C29: 693068.52 | D29: 869916.65
A30: เงินอุดหนุน | B30: 2128600 | C30: 2512200 | D30: 2586600
A31: ค่าครุภัณฑ์ | B31: 1617395 | C31: 447710 | D31: 400472
A32: ค่าที่ดินและสิ่งก่อสร้าง | B32: 3348519 | C32: 3292935.5 | D32: 5461540
A33: รายจ่ายอื่น | B33: 858450 | C33: 25000 | D33: 25000
A34: รวม | B34: =SUM(B22:B33) -> 21481832 | C34: =SUM(C22:C33) -> 22379670 | D34: =SUM(D22:D33) -> 25502769
A35: รายจ่ายนอกงบประมาณ
A36: เงินอุดหนุนเฉพาะกิจ/เงินอุดหนุนระบุวัตถุประสงค์ | B36: =565535.6+40000+41700+30000+6932777 -> 7610012.6 | C36: =10146963.84+921486.12+50672+10000+112913.69 -> 11242036 | D36: =10210200+600000+450000+9298+67300+338047+51514.02 -> 11726359 | E36: =+B36-B17 -> 0 | F36: =+C36-C17 -> 0 | G36: =+D36-D17 -> 0
A38: รวม | B38: =SUM(B36:B37) -> 7610012.6 | C38: =SUM(C36:C37) -> 11242036 | D38: =SUM(D36:D37) -> 11726359
A39: รวมจ่ายทั้งสิ้น | B39: =+B34+B38 -> 29091845 | C39: =+C34+C38 -> 33621705 | D39: =+D34+D38 -> 37229128
A40: เงินฝากธนาคาร 30 กันยายน | B40: 23817074 | C40: 25026518 | D40: 26871613
B44: ลงชื่อ............................................................
B45: (นางชุติมา ลอยประเสริฐ)
B46: หัวหน้าฝ่ายบริหารงานคลัง รักษาราชการแทน
B47: ผู้อำนวยการกองคลัง
B50: ลงชื่อ...................................................ปลัดเทศบาล
B51: (นายวสันต์ ไทรแก้ว)
