Workbook

Sheet งบดุลบัญชี
A1: รายการ | E1: ยกมา 1 ต.ค.58 | G1: รับจ่าย | I1: ปรับปรุง | K1: งบ ต.ค.2558 | M1: รับจ่าย พ.ย.2558 | O1: ปรับปรุง | Q1: งบ พ.ย.2558 | S1: รับจ่าย ธ.ค.2558 | U1: ปรับปรุง | W1: งบ ธ.ค.2558 | Y1: รับจ่าย ม.ค.2559 | AA1: ปรับปรุง | AC1: งบเดือน มกราคม 2559 | AE1: รับจ่าย ก.พ.2559 | AG1: ปรับปรุง | AI1: งบ ก.พ.2559 | AK1: รับ-จ่าย มี.ค.2559 | AM1: ปรับปรุง | AO1: งบ มี.ค.2559 | AQ1: รับจ่าย เม.ย.2559 | AS1: ปรับปรุง | AU1: งบ เม.ย.2559 | AW1: รับจ่าย พ.ค.2559 | AY1: ปรับปรุง | BA1: งบ พ.ค.2559 | BC1: รับจ่าย มิ.ย.2559 | BE1: ปรับปรุง | BG1: งบ มิ.ย.2559 | BI1: รับจ่าย ก.ค.2559 | BK1: ปรับปรุง | BM1: งบทดลอง ก.ค.2559 | BO1: รับจ่าย ส.ค.2559 | BQ1: ปรับปรุง | BS1: งบเดือน ส.ค.2559 | BU1: รับจ่าย ก.ย.2559 | BW1: ปรับปรุง | BY1: งบทดลองก่อนปิดบัญชี ก.ย.2559 | CA1: ปิดบัญชี | CC1: งบทดลองหลังปิดบัญชี ก.ย.2559
E2: Dr | F2: Cr | G2: Dr | H2: Cr | I2: Dr | J2: Cr | K2: Dr | L2: Cr | M2: Dr | N2: Cr | O2: Dr | P2: Cr | Q2: Dr | R2: Cr | S2: Dr | T2: Cr | U2: Dr | V2: Cr | W2: Dr | X2: Cr | Y2: Dr | Z2: Cr | AA2: Dr | AB2: Cr | AC2: Dr | AD2: Cr | AE2: Dr | AF2: Cr | AG2: Dr | AH2: Cr | AI2: Dr | AJ2: Cr | AK2: Dr | AL2: Cr | AM2: Dr | AN2: Cr | AO2: Dr | AP2: Cr | AQ2: Dr | AR2: Cr | AS2: Dr | AT2: Cr | AU2: Dr | AV2: Cr | AW2: Dr | AX2: Cr | AY2: Dr | AZ2: Cr | BA2: Dr | BB2: Cr | BC2: Dr | BD2: Cr | BE2: Dr | BF2: Cr | BG2: Dr | BH2: Cr | BI2: Dr | BJ2: Cr | BK2: Dr | BL2: Cr | BM2: Dr | BN2: Cr | BO2: Dr | BP2: Cr | BQ2: Dr | BR2: Cr | BS2: Dr | BT2: Cr | BU2: Dr | BV2: Cr | BW2: Dr | BX2: Cr | BY2: Dr | BZ2: Cr | CA2: Dr | CB2: Cr | CC2: Dr | CD2: Cr
A3: สินทรัพย์
A4: บัญชีเงินสด | E4: 0 | F4: 0 | G4: 0 | Q4: =SUM(K4+M4-N4+O4-P4) -> 0 | W4: =SUM(Q4+S4-T4+U4-V4) -> 0 | Y4: 65.95 | AC4: =SUM(W4+Y4-Z4+AA4-AB4) -> 65.95 | AE4: 5432 | AF4: 65.95 | AI4: =SUM(AC4+AE4-AF4+AG4-AH4) -> 5432 | AO4: =SUM(AI4+AK4-AL4+AM4-AN4) -> 5432 | AU4: =SUM(AO4+AQ4-AR4+AS4-AT4) -> 5432 | BA4: =SUM(AU4+AW4-AX4+AY4-AZ4) -> 5432 | BG4: =SUM(BA4+BC4-BD4+BE4-BF4) -> 5432 | BM4: =SUM(BG4+BI4-BJ4+BK4-BL4) -> 5432 | BS4: =SUM(BM4+BO4-BP4+BQ4-BR4) -> 5432 | BY4: =SUM(BS4+BU4-BV4+BW4-BX4) -> 5432 | CC4: =SUM(BW4+BY4-BZ4+CA4-CB4) -> 5432
A5: บัญชีเงินฝากธนาคาร | E5: =SUM(E6:E16) -> 30620913 | F5: =SUM(F6:F16) -> 0 | G5: =SUM(G6:G16) -> 1464017.6 | H5: =SUM(H6:H16) -> 3701715.4 | I5: =SUM(I6:I16) -> 3701715.4 | J5: =SUM(J6:J16) -> 3701715.4 | K5: =SUM(K6:K16) -> 28383216 | L5: =SUM(L6:L16) -> 0 | ... CD5: =SUM(CD6:CD16) -> 0
B6: กรุงไทย กระแสรายวัน
C7: สาขาจันดี 835-6-00451-9 | E7: 0 | H7: 1994108.6 | I7: 1994108.6 | K7: =SUM(E7+G7-H7+I7-J7) -> 0 | N7: 2098011.4 | O7: 2098011.4 | Q7: =SUM(K7+M7-N7+O7-P7) -> 0 | T7: 2240559.2 | U7: 2240559.2 | W7: =SUM(Q7+S7-T7+U7-V7) -> 0 | Z7: 1597443.6 | AA7: 1597443.6 | AC7: =SUM(W7+Y7-Z7+AA7-AB7) -> 0 | AF7: 2296794.4 | AG7: =+AF7 -> 2296794.4 | AI7: =SUM(AC7+AE7-AF7+AG7-AH7) -> 0 | AM7: =+AL7 -> 0 | AO7: =SUM(AI7+AK7-AL7+AM7-AN7) -> 0 | AU7: =SUM(AO7+AQ7-AR7+AS7-AT7) -> 0 | BA7: =SUM(AU7+AW7-AX7+AY7-AZ7) -> 0 | BG7: =SUM(BA7+BC7-BD7+BE7-BF7) -> 0 | BM7: =SUM(BG7+BI7-BJ7+BK7-BL7) -> 0 | BS7: =SUM(BM7+BO7-BP7+BQ7-BR7) -> 0 | BY7: =SUM(BS7+BU7-BV7+BW7-BX7) -> 0 | CC7: =+BY7+CA7-BZ7-CB7 -> 0
B8: ธกส. กระแสรายวัน
C9: สาขาพิปูน 815-5-00022-3 | E9: 0 | H9: 1707606.8 | I9: 1707606.8 | K9: =SUM(E9+G9-H9+I9-J9) -> 0 | N9: 3064223.6 | O9: 3064223.6 | Q9: =SUM(K9+M9-N9+O9-P9) -> 0 | T9: 2689707.5 | U9: 2689707.5 | W9: =SUM(Q9+S9-T9+U9-V9) -> 0 | Z9: 2749284.8 | AA9: =+Z9 -> 2749284.8 | AC9: =SUM(W9+Y9-Z9+AA9-AB9) -> 0 | AF9: 2285162.5 | AG9: =+AF9 -> 2285162.5 | AI9: =SUM(AC9+AE9-AF9+AG9-AH9) -> 0 | AO9: =SUM(AI9+AK9-AL9+AM9-AN9) -> 0 | AU9: =SUM(AO9+AQ9-AR9+AS9-AT9) -> 0 | BA9: =SUM(AU9+AW9-AX9+AY9-AZ9) -> 0 | BG9: =SUM(BA9+BC9-BD9+BE9-BF9) -> 0 | BM9: =SUM(BG9+BI9-BJ9+BK9-BL9) -> 0 | BS9: =SUM(BM9+BO9-BP9+BQ9-BR9) -> 0 | BY9: =SUM(BS9+BU9-BV9+BW9-BX9) -> 0 | CC9: =+BY9+CA9-BZ9-CB9 -> 0
B10: กรุงไทย ออมทรัพย์
C11: สาขาจันดี 835-0-18075-7 | E11: 22662399 | G11: 1324384.9 | J11: =+I7 -> 1994108.6 | K11: =+E11+G11-H11+I11-J11 -> 21992676 | L11: =+K11-21992675.79 -> 0 | M11: 10949308 | P11: =2207683.77+3000000 -> 5207683.8 | Q11: =SUM(K11+M11-N11+O11-P11) -> 27734300 | S11: 3451700.8 | V11: =2240559.16+8000000 -> 10240559 | W11: =SUM(Q11+S11-T11+U11-V11) -> 20945442 | Y11: 7181020.4 | AB11: 1597443.6 | AC11: =SUM(W11+Y11-Z11+AA11-AB11) -> 26529018 | AE11: 1750320.2 | AH11: 2296794.4 | AI11: =SUM(AC11+AE11-AF11+AG11-AH11) -> 25982544 | AO11: =SUM(AI11+AK11-AL11+AM11-AN11) -> 25982544 | AU11: =SUM(AO11+AQ11-AR11+AS11-AT11) -> 25982544 | BA11: =SUM(AU11+AW11-AX11+AY11-AZ11) -> 25982544 | BG11: =SUM(BA11+BC11-BD11+BE11-BF11) -> 25982544 | BM11: =SUM(BG11+BI11-BJ11+BK11-BL11) -> 25982544 | BS11: =SUM(BM11+BO11-BP11+BQ11-BR11) -> 25982544 | BY11: =SUM(BS11+BU11-BV11+BW11-BX11) -> 25982544 | CC11: =+BY11+CA11-BZ11-CB11 -> 25982544 | CE11: 24774498 | CF11: =+CE11-BS11 -> -1208045.8
B12: ธกส. ออมทรัพย์
C13: สาขาพิปูน 815-2-37037-4 | E13: 7919306.9 | G13: =139632.71-7549.96 -> 132082.75 | J13: =+I9 -> 1707606.8 | K13: =SUM(E13+G13-H13+I13-J13) -> 6343782.9 | L13: =+K13-6343782.91 -> 0 | M13: 78649.4 | O13: 3000000 | P13: 2954551.3 | Q13: =SUM(K13+M13-N13+O13-P13) -> 6467881 | S13: 95609.35 | U13: 8000000 | V13: 2689707.5 | W13: =SUM(Q13+S13-T13+U13-V13) -> 11873783 | Y13: 173383.11 | AB13: 2749284.8 | AC13: =SUM(W13+Y13-Z13+AA13-AB13) -> 9297881.2 | AE13: 202371.9 | AH13: =+AG9 -> 2285162.5 | AI13: =SUM(AC13+AE13-AF13+AG13-AH13) -> 7215090.7 | AO13: =SUM(AI13+AK13-AL13+AM13-AN13) -> 7215090.7 | AU13: =SUM(AO13+AQ13-AR13+AS13-AT13) -> 7215090.7 | BA13: =SUM(AU13+AW13-AX13+AY13-AZ13) -> 7215090.7 | BG13: =SUM(BA13+BC13-BD13+BE13-BF13) -> 7215090.7 | BM13: =SUM(BG13+BI13-BJ13+BK13-BL13) -> 7215090.7 | BS13: =SUM(BM13+BO13-BP13+BQ13-BR13) -> 7215090.7 | BY13: =SUM(BS13+BU13-BV13+BW13-BX13) -> 7215090.7 | CC13: =+BY13+CA13-BZ13-CB13 -> 7215090.7
C14: สาขาพิปูน 815-2-50915-1 | E14: 39206.98 | G14: 7549.96 | K14: =SUM(E14+G14-H14+I14-J14) -> 46756.94 | Q14: =SUM(K14+M14-N14+O14-P14) -> 46756.94 | W14: =SUM(Q14+S14-T14+U14-V14) -> 46756.94 | AC14: =SUM(W14+Y14-Z14+AA14-AB14) -> 46756.94 | AI14: =SUM(AC14+AE14-AF14+AG14-AH14) -> 46756.94 | AO14: =SUM(AI14+AK14-AL14+AM14-AN14) -> 46756.94 | AU14: =SUM(AO14+AQ14-AR14+AS14-AT14) -> 46756.94 | BA14: =SUM(AU14+AW14-AX14+AY14-AZ14) -> 46756.94 | BG14: =SUM(BA14+BC14-BD14+BE14-BF14) -> 46756.94 | BM14: =SUM(BG14+BI14-BJ14+BK14-BL14) -> 46756.94 | BS14: =SUM(BM14+BO14-BP14+BQ14-BR14) -> 46756.94 | BY14: =SUM(BS14+BU14-BV14+BW14-BX14) -> 46756.94 | CC14: =+BY14+CA14-BZ14-CB14 -> 46756.94
B15: ออมสิน ประจำ | Q15: =SUM(K15+M15-N15+O15-P15) -> 0 | W15: =SUM(Q15+S15-T15+U15-V15) -> 0 | AC15: =SUM(W15+Y15-Z15+AA15-AB15) -> 0 | AI15: =SUM(AC15+AE15-AF15+AG15-AH15) -> 0 | AO15: =SUM(AI15+AK15-AL15+AM15-AN15) -> 0 | AU15: =SUM(AO15+AQ15-AR15+AS15-AT15) -> 0 | BA15: =SUM(AU15+AW15-AX15+AY15-AZ15) -> 0 | BG15: =SUM(BA15+BC15-BD15+BE15-BF15) -> 0 | BM15: =SUM(BG15+BI15-BJ15+BK15-BL15) -> 0 | BS15: =SUM(BM15+BO15-BP15+BQ15-BR15) -> 0 | BY15: =SUM(BS15+BU15-BV15+BW15-BX15) -> 0 | CC15: =SUM(BW15+BY15-BZ15+CA15-CB15) -> 0
C16: สาขาจันดี 300003690629 | E16: 0 | Q16: =SUM(K16+M16-N16+O16-P16) -> 0 | W16: =SUM(Q16+S16-T16+U16-V16) -> 0 | AC16: =SUM(W16+Y16-Z16+AA16-AB16) -> 0 | AI16: =SUM(AC16+AE16-AF16+AG16-AH16) -> 0 | AO16: =SUM(AI16+AK16-AL16+AM16-AN16) -> 0 | AU16: =SUM(AO16+AQ16-AR16+AS16-AT16) -> 0 | BA16: =SUM(AU16+AW16-AX16+AY16-AZ16) -> 0 | BG16: =SUM(BA16+BC16-BD16+BE16-BF16) -> 0 | BM16: =SUM(BG16+BI16-BJ16+BK16-BL16) -> 0 | BS16: =SUM(BM16+BO16-BP16+BQ16-BR16) -> 0 | BY16: =SUM(BS16+BU16-BV16+BW16-BX16) -> 0 | CC16: =SUM(BW16+BY16-BZ16+CA16-CB16) -> 0
A17: เงินฝากเงินทุนส่งเสริมกิจการเทศบาล | E17: 2628811.4 | K17: =SUM(E17+G17-H17+I17-J17) -> 2628811.4 | Q17: =SUM(K17+M17-N17+O17-P17) -> 2628811.4 | S17: 433845.1 | W17: =SUM(Q17+S17-T17+U17-V17) -> 3062656.5 | AC17: =SUM(W17+Y17-Z17+AA17-AB17) -> 3062656.5 | AI17: =SUM(AC17+AE17-AF17+AG17-AH17) -> 3062656.5 | AO17: =SUM(AI17+AK17-AL17+AM17-AN17) -> 3062656.5 | AU17: =SUM(AO17+AQ17-AR17+AS17-AT17) -> 3062656.5 | BA17: =SUM(AU17+AW17-AX17+AY17-AZ17) -> 3062656.5 | BG17: =SUM(BA17+BC17-BD17+BE17-BF17) -> 3062656.5 | BM17: =SUM(BG17+BI17-BJ17+BK17-BL17) -> 3062656.5 | BS17: =SUM(BM17+BO17-BP17+BQ17-BR17) -> 3062656.5 | BY17: =SUM(BS17+BU17-BV17+BW17-BX17) -> 3062656.5 | CC17: =SUM(BW17+BY17-BZ17+CA17-CB17) -> 3062656.5
A18: ลูกหนี้เงินยืม | E18: 0 | G18: 28586 | J18: =3500+6362+1362+1362+6200 -> 18786 | K18: =SUM(E18+G18-H18+I18-J18) -> 9800 | M18: 6300 | P18: =4900+4900 -> 9800 | Q18: =SUM(K18+M18-N18+O18-P18) -> 6300 | S18: 810900 | V18: =2400+3900+807000+3900 -> 817200 | W18: =SUM(Q18+S18-T18+U18-V18) -> 0 | Y18: 918600 | Z18: 10000 | AB18: 803200 | AC18: =SUM(W18+Y18-Z18+AA18-AB18) -> 105400 | AE18: 820900 | AH18: =4800+4800+3900+35000+797200 -> 845700 | AI18: =SUM(AC18+AE18-AF18+AG18-AH18) -> 80600 | AO18: =SUM(AI18+AK18-AL18+AM18-AN18) -> 80600 | AU18: =SUM(AO18+AQ18-AR18+AS18-AT18) -> 80600 | BA18: =SUM(AU18+AW18-AX18+AY18-AZ18) -> 80600 | BG18: =SUM(BA18+BC18-BD18+BE18-BF18) -> 80600 | BM18: =SUM(BG18+BI18-BJ18+BK18-BL18) -> 80600 | BS18: =SUM(BM18+BO18-BP18+BQ18-BR18) -> 80600 | BY18: =SUM(BS18+BU18-BV18+BW18-BX18) -> 80600 | CC18: =SUM(BW18+BY18-BZ18+CA18-CB18) -> 80600
A19: รายได้จากรัฐบาลค้างรับ | H19: 32340 | I19: 32340 | K19: =SUM(E19+G19-H19+I19-J19) -> 0 | Q19: =SUM(K19+M19-N19+O19-P19) -> 0 | W19: =SUM(Q19+S19-T19+U19-V19) -> 0 | AC19: =SUM(W19+Y19-Z19+AA19-AB19) -> 0 | AI19: =SUM(AC19+AE19-AF19+AG19-AH19) -> 0 | AO19: =SUM(AI19+AK19-AL19+AM19-AN19) -> 0 | AU19: =SUM(AO19+AQ19-AR19+AS19-AT19) -> 0 | BA19: =SUM(AU19+AW19-AX19+AY19-AZ19) -> 0 | BG19: =SUM(BA19+BC19-BD19+BE19-BF19) -> 0 | BM19: =SUM(BG19+BI19-BJ19+BK19-BL19) -> 0 | BS19: =SUM(BM19+BO19-BP19+BQ19-BR19) -> 0 | BY19: =SUM(BS19+BU19-BV19+BW19-BX19) -> 0 | CC19: =SUM(BW19+BY19-BZ19+CA19-CB19) -> 0
A20: ลูกหนี้ภาษีบำรุงท้องที่ | E20: 11053.24 | K20: =SUM(E20+G20-H20+I20-J20) -> 11053.24 | Q20: =SUM(K20+M20-N20+O20-P20) -> 11053.24 | W20: =SUM(Q20+S20-T20+U20-V20) -> 11053.24 | Z20: 238.97 | AC20: =SUM(W20+Y20-Z20+AA20-AB20) -> 10814.27 | AF20: 2027.74 | AI20: =SUM(AC20+AE20-AF20+AG20-AH20) -> 8786.53 | AO20: =SUM(AI20+AK20-AL20+AM20-AN20) -> 8786.53 | AU20: =SUM(AO20+AQ20-AR20+AS20-AT20) -> 8786.53 | BA20: =SUM(AU20+AW20-AX20+AY20-AZ20) -> 8786.53 | BG20: =SUM(BA20+BC20-BD20+BE20-BF20) -> 8786.53 | BM20: =SUM(BG20+BI20-BJ20+BK20-BL20) -> 8786.53 | BS20: =SUM(BM20+BO20-BP20+BQ20-BR20) -> 8786.53 | BY20: =SUM(BS20+BU20-BV20+BW20-BX20) -> 8786.53 | CC20: =SUM(BW20+BY20-BZ20+CA20-CB20) -> 8786.53
A21: ลูกหนี้รายได้อื่นๆ | E21: 191626.86 | K21: =SUM(E21+G21-H21+I21-J21) -> 191626.86 | Q21: =SUM(K21+M21-N21+O21-P21) -> 191626.86 | W21: =SUM(Q21+S21-T21+U21-V21) -> 191626.86 | AC21: =SUM(W21+Y21-Z21+AA21-AB21) -> 191626.86 | AI21: =SUM(AC21+AE21-AF21+AG21-AH21) -> 191626.86 | AO21: =SUM(AI21+AK21-AL21+AM21-AN21) -> 191626.86 | AU21: =SUM(AO21+AQ21-AR21+AS21-AT21) -> 191626.86 | BA21: =SUM(AU21+AW21-AX21+AY21-AZ21) -> 191626.86 | BG21: =SUM(BA21+BC21-BD21+BE21-BF21) -> 191626.86 | BM21: =SUM(BG21+BI21-BJ21+BK21-BL21) -> 191626.86 | BS21: =SUM(BM21+BO21-BP21+BQ21-BR21) -> 191626.86 | BY21: =SUM(BS21+BU21-BV21+BW21-BX21) -> 191626.86 | CC21: =SUM(BW21+BY21-BZ21+CA21-CB21) -> 191626.86
A22: ลูกหนี้เงินทุนโครงการเศรษฐกิจชุมชน | E22: 231294.61 | K22: =SUM(E22+G22-H22+I22-J22) -> 231294.61 | Q22: =SUM(K22+M22-N22+O22-P22) -> 231294.61 | W22: =SUM(Q22+S22-T22+U22-V22) -> 231294.61 | AC22: =SUM(W22+Y22-Z22+AA22-AB22) -> 231294.61 | AH22: =56403.61+8500+7500 -> 72403.61 | AI22: =SUM(AC22+AE22-AF22+AG22-AH22) -> 158891 | AO22: =SUM(AI22+AK22-AL22+AM22-AN22) -> 158891 | AU22: =SUM(AO22+AQ22-AR22+AS22-AT22) -> 158891 | BA22: =SUM(AU22+AW22-AX22+AY22-AZ22) -> 158891 | BG22: =SUM(BA22+BC22-BD22+BE22-BF22) -> 158891 | BM22: =SUM(BG22+BI22-BJ22+BK22-BL22) -> 158891 | BS22: =SUM(BM22+BO22-BP22+BQ22-BR22) -> 158891 | BY22: =SUM(BS22+BU22-BV22+BW22-BX22) -> 158891 | CC22: =SUM(BW22+BY22-BZ22+CA22-CB22) -> 158891
A23: ลูกหนี้เงินยืมเงินสะสม | E23: 32340 | G23: 1088380 | J23: 32340 | K23: =SUM(E23+G23-H23+I23-J23) -> 1088380 | M23: 971200 | P23: =825600+147200+115580+147200+824000 -> 2059580 | Q23: =SUM(K23+M23-N23+O23-P23) -> 0 | S23: 1600 | V23: 1600 | W23: =SUM(Q23+S23-T23+U23-V23) -> 0 | AC23: =SUM(W23+Y23-Z23+AA23-AB23) -> 0 | AI23: =SUM(AC23+AE23-AF23+AG23-AH23) -> 0 | AO23: =SUM(AI23+AK23-AL23+AM23-AN23) -> 0 | AU23: =SUM(AO23+AQ23-AR23+AS23-AT23) -> 0 | BA23: =SUM(AU23+AW23-AX23+AY23-AZ23) -> 0 | BG23: =SUM(BA23+BC23-BD23+BE23-BF23) -> 0 | BM23: =SUM(BG23+BI23-BJ23+BK23-BL23) -> 0 | BS23: =SUM(BM23+BO23-BP23+BQ23-BR23) -> 0 | BY23: =SUM(BS23+BU23-BV23+BW23-BX23) -> 0 | CC23: =SUM(BW23+BY23-BZ23+CA23-CB23) -> 0
A24: ทรัพย์สินเกิดจากเงินกู้ | E24: 21339050 | K24: =SUM(E24+G24-H24+I24-J24) -> 21339050 | Q24: =SUM(K24+M24-N24+O24-P24) -> 21339050 | W24: =SUM(Q24+S24-T24+U24-V24) -> 21339050 | AC24: =SUM(W24+Y24-Z24+AA24-AB24) -> 21339050 | AI24: =SUM(AC24+AE24-AF24+AG24-AH24) -> 21339050 | AO24: =SUM(AI24+AK24-AL24+AM24-AN24) -> 21339050 | AU24: =SUM(AO24+AQ24-AR24+AS24-AT24) -> 21339050 | BA24: =SUM(AU24+AW24-AX24+AY24-AZ24) -> 21339050 | BG24: =SUM(BA24+BC24-BD24+BE24-BF24) -> 21339050 | BM24: =SUM(BG24+BI24-BJ24+BK24-BL24) -> 21339050 | BS24: =SUM(BM24+BO24-BP24+BQ24-BR24) -> 21339050 | BY24: =SUM(BS24+BU24-BV24+BW24-BX24) -> 21339050 | CC24: =SUM(BW24+BY24-BZ24+CA24-CB24) -> 21339050
A25: รวมสินทรัพย์ | E25: =SUM(E4:E5,E17:E24) -> 55055090 | F25: =SUM(F4:F5,F17:F24) -> 0 | G25: =SUM(G4:G5,G17:G24) -> 2580983.6 | H25: =SUM(H4:H5,H17:H24) -> 3734055.4 | I25: =SUM(I4:I5,I17:I24) -> 3734055.4 | J25: =SUM(J4:J5,J17:J24) -> 3752841.4 | K25: =SUM(K4:K5,K17:K24) -> 53883232 | L25: =SUM(L4:L5,L17:L24) -> 0 | ... CD25: =SUM(CD4:CD5,CD17:CD24) -> 0
A26: หนี้สินและเงินสะสม
A27: รายจ่ายค้างจ่าย | F27: 5354762 | G27: 1023004 | L27: =SUM(F27-G27+H27-I27+J27) -> 4331758 | M27: 1247443 | R27: =SUM(L27-M27+N27-O27+P27) -> 3084315 | S27: 1313113 | X27: =SUM(R27-S27+T27-U27+V27) -> 1771202 | Y27: 518423 | AD27: =SUM(X27-Y27+Z27-AA27+AB27) -> 1252779 | AE27: 98000 | AJ27: =SUM(AD27-AE27+AF27-AG27+AH27) -> 1154779 | AP27: =SUM(AJ27-AK27+AL27-AM27+AN27) -> 1154779 | AV27: =SUM(AP27-AQ27+AR27-AS27+AT27) -> 1154779 | BB27: =SUM(AV27-AW27+AX27-AY27+AZ27) -> 1154779 | BH27: =SUM(BB27-BC27+BD27-BE27+BF27) -> 1154779 | BN27: =SUM(BH27-BI27+BJ27-BK27+BL27) -> 1154779 | BT27: =SUM(BN27-BO27+BP27-BQ27+BR27) -> 1154779 | BZ27: =SUM(BT27-BU27+BV27-BW27+BX27) -> 1154779 | CD27: =+BZ27+CB27-BY27-CA27 -> 1154779
A28: รายจ่ายรอจ่าย | F28: 0 | L28: =SUM(F28-G28+H28-I28+J28) -> 0 | R28: =SUM(L28-M28+N28-O28+P28) -> 0 | X28: =SUM(R28-S28+T28-U28+V28) -> 0 | AD28: =SUM(X28-Y28+Z28-AA28+AB28) -> 0 | AJ28: =SUM(AD28-AE28+AF28-AG28+AH28) -> 0 | AP28: =SUM(AJ28-AK28+AL28-AM28+AN28) -> 0 | AV28: =SUM(AP28-AQ28+AR28-AS28+AT28) -> 0 | BB28: =SUM(AV28-AW28+AX28-AY28+AZ28) -> 0 | BH28: =SUM(BB28-BC28+BD28-BE28+BF28) -> 0 | BN28: =SUM(BH28-BI28+BJ28-BK28+BL28) -> 0 | BT28: =SUM(BN28-BO28+BP28-BQ28+BR28) -> 0 | BX28: 0 | BZ28: =SUM(BT28-BU28+BV28-BW28+BX28) -> 0 | CD28: =+CA28-BZ28 -> 0
F29: 0 | L29: =SUM(F29-G29+H29-I29+J29) -> 0 | R29: =SUM(L29-M29+N29-O29+P29) -> 0 | X29: =SUM(R29-S29+T29-U29+V29) -> 0 | AD29: =SUM(X29-Y29+Z29-AA29+AB29) -> 0 | AJ29: =SUM(AD29-AE29+AF29-AG29+AH29) -> 0 | AP29: =SUM(AJ29-AK29+AL29-AM29+AN29) -> 0 | AV29: =SUM(AP29-AQ29+AR29-AS29+AT29) -> 0 | BB29: =SUM(AV29-AW29+AX29-AY29+AZ29) -> 0 | BH29: =SUM(BB29-BC29+BD29-BE29+BF29) -> 0 | BN29: =SUM(BH29-BI29+BJ29-BK29+BL29) -> 0 | BT29: =SUM(BN29-BO29+BP29-BQ29+BR29) -> 0 | BZ29: =SUM(BT29-BU29+BV29-BW29+BX29) -> 0 | CD29: =+BZ29+CB29-BY29-CA29 -> 0
L30: =SUM(F30-G30+H30-I30+J30) -> 0 | R30: =SUM(L30-M30+N30-O30+P30) -> 0 | X30: =SUM(R30-S30+T30-U30+V30) -> 0 | AD30: =SUM(X30-Y30+Z30-AA30+AB30) -> 0 | AJ30: =SUM(AD30-AE30+AF30-AG30+AH30) -> 0 | AP30: =SUM(AJ30-AK30+AL30-AM30+AN30) -> 0 | AV30: =SUM(AP30-AQ30+AR30-AS30+AT30) -> 0 | BB30: =SUM(AV30-AW30+AX30-AY30+AZ30) -> 0 | BH30: =SUM(BB30-BC30+BD30-BE30+BF30) -> 0 | BN30: =SUM(BH30-BI30+BJ30-BK30+BL30) -> 0 | BT30: =SUM(BN30-BO30+BP30-BQ30+BR30) -> 0 | BZ30: =SUM(BT30-BU30+BV30-BW30+BX30) -> 0 | CD30: =SUM(BX30-BY30+BZ30-CA30+CB30) -> 0
L31: =SUM(F31-G31+H31-I31+J31) -> 0 | R31: =SUM(L31-M31+N31-O31+P31) -> 0 | X31: =SUM(R31-S31+T31-U31+V31) -> 0 | AD31: =SUM(X31-Y31+Z31-AA31+AB31) -> 0 | AJ31: =SUM(AD31-AE31+AF31-AG31+AH31) -> 0 | AP31: =SUM(AJ31-AK31+AL31-AM31+AN31) -> 0 | AV31: =SUM(AP31-AQ31+AR31-AS31+AT31) -> 0 | BB31: =SUM(AV31-AW31+AX31-AY31+AZ31) -> 0 | BH31: =SUM(BB31-BC31+BD31-BE31+BF31) -> 0 | BN31: =SUM(BH31-BI31+BJ31-BK31+BL31) -> 0 | BT31: =SUM(BN31-BO31+BP31-BQ31+BR31) -> 0 | BZ31: =SUM(BT31-BU31+BV31-BW31+BX31) -> 0 | CD31: =SUM(BX31-BY31+BZ31-CA31+CB31) -> 0
A32: บัญชีเงินรับฝาก | E32: =SUM(E33:E40) -> 0 | F32: =SUM(F33:F45) -> 1306886.4 | G32: =SUM(G33:G45) -> 297485.61 | H32: =SUM(H33:H45) -> 107120.15 | I32: =SUM(I33:I45) -> 0 | J32: =SUM(J33:J45) -> 0 | K32: =SUM(K33:K45) -> 0 | L32: =SUM(L33:L45) -> 1116520.9 | M32: =SUM(M33:M45) -> 16747.19 | ... CD32: =SUM(CD33:CD45) -> 1242539.8
B33: ภาษีหัก ณ ที่จ่าย | F33: 9023.61 | G33: 9023.61 | H33: 11632.19 | L33: =+F33+H33-G33+J33-I33 -> 11632.19 | M33: 11632.19 | N33: 16064.85 | R33: =SUM(L33-M33+N33-O33+P33) -> 16064.85 | S33: 16064.85 | T33: 12441.01 | X33: =SUM(R33-S33+T33-U33+V33) -> 12441.01 | Y33: 12441.01 | Z33: 6415.87 | AD33: =SUM(X33-Y33+Z33-AA33+AB33) -> 6415.87 | AE33: 6415.87 | AF33: 16622.33 | AJ33: =SUM(AD33-AE33+AF33-AG33+AH33) -> 16622.33 | AP33: =SUM(AJ33-AK33+AL33-AM33+AN33) -> 16622.33 | AV33: =SUM(AP33-AQ33+AR33-AS33+AT33) -> 16622.33 | BB33: =SUM(AV33-AW33+AX33-AY33+AZ33) -> 16622.33 | BH33: =SUM(BB33-BC33+BD33-BE33+BF33) -> 16622.33 | BN33: =SUM(BH33-BI33+BJ33-BK33+BL33) -> 16622.33 | BT33: =SUM(BN33-BO33+BP33-BQ33+BR33) -> 16622.33 | BZ33: =SUM(BT33-BU33+BV33-BW33+BX33) -> 16622.33 | CD33: =+BZ33+CA33-CB33 -> 16622.33
B34: ค่าใช้จ่ายในการจัดเก็บภาษีบำรุงท้องที่ | F34: 5755.16 | L34: =+F34+H34-G34+J34-I34 -> 5755.16 | M34: 0 | R34: =SUM(L34-M34+N34-O34+P34) -> 5755.16 | X34: =SUM(R34-S34+T34-U34+V34) -> 5755.16 | Z34: 66.1 | AB34: 0.02 | AD34: =SUM(X34-Y34+Z34-AA34+AB34) -> 5821.28 | AF34: 376.22 | AJ34: =SUM(AD34-AE34+AF34-AG34+AH34) -> 6197.5 | AP34: =SUM(AJ34-AK34+AL34-AM34+AN34) -> 6197.5 | AV34: =SUM(AP34-AQ34+AR34-AS34+AT34) -> 6197.5 | BB34: =SUM(AV34-AW34+AX34-AY34+AZ34) -> 6197.5 | BH34: =SUM(BB34-BC34+BD34-BE34+BF34) -> 6197.5 | BN34: =SUM(BH34-BI34+BJ34-BK34+BL34) -> 6197.5 | BT34: =SUM(BN34-BO34+BP34-BQ34+BR34) -> 6197.5 | BZ34: =SUM(BT34-BU34+BV34-BW34+BX34) -> 6197.5 | CD34: =+BZ34+CA34-CB34 -> 6197.5
B35: เงินประกันซอง | F35: 0 | L35: =+F35+H35-G35+J35-I35 -> 0 | M35: 0 | R35: =SUM(L35-M35+N35-O35+P35) -> 0 | X35: =SUM(R35-S35+T35-U35+V35) -> 0 | AD35: =SUM(X35-Y35+Z35-AA35+AB35) -> 0 | AJ35: =SUM(AD35-AE35+AF35-AG35+AH35) -> 0 | AP35: =SUM(AJ35-AK35+AL35-AM35+AN35) -> 0 | BH35: =SUM(BB35-BC35+BD35-BE35+BF35) -> 0 | BN35: =SUM(BH35-BI35+BJ35-BK35+BL35) -> 0 | BT35: =SUM(BN35-BO35+BP35-BQ35+BR35) -> 0 | BZ35: =SUM(BT35-BU35+BV35-BW35+BX35) -> 0 | CD35: =+BZ35+CA35-CB35 -> 0
B36: เงินประกันสัญญา | F36: 743904 | G36: 66910 | H36: 87938 | L36: =+F36+H36-G36+J36-I36 -> 764932 | M36: 1583 | R36: =SUM(L36-M36+N36-O36+P36) -> 763349 | S36: 6460 | T36: 26672 | X36: =SUM(R36-S36+T36-U36+V36) -> 783561 | Y36: 48290 | Z36: 101499 | AD36: =SUM(X36-Y36+Z36-AA36+AB36) -> 836770 | AE36: 9978 | AF36: 92175 | AJ36: =SUM(AD36-AE36+AF36-AG36+AH36) -> 918967 | AP36: =SUM(AJ36-AK36+AL36-AM36+AN36) -> 918967 | AV36: =SUM(AP36-AQ36+AR36-AS36+AT36) -> 918967 | BB36: =SUM(AV36-AW36+AX36-AY36+AZ36) -> 918967 | BH36: =SUM(BB36-BC36+BD36-BE36+BF36) -> 918967 | BN36: =SUM(BH36-BI36+BJ36-BK36+BL36) -> 918967 | BT36: =SUM(BN36-BO36+BP36-BQ36+BR36) -> 918967 | BZ36: =SUM(BT36-BU36+BV36-BW36+BX36) -> 918967 | CD36: =+BZ36+CA36-CB36 -> 918967
B37: ค่าตอบแทนแพทย์ระบบฉุกเฉิน (EMS) | F37: 56100 | L37: =+F37+H37-G37+J37-I37 -> 56100 | M37: 0 | R37: =SUM(L37-M37+N37-O37+P37) -> 56100 | T37: 21000 | X37: =SUM(R37-S37+T37-U37+V37) -> 77100 | AD37: =SUM(X37-Y37+Z37-AA37+AB37) -> 77100 | AJ37: =SUM(AD37-AE37+AF37-AG37+AH37) -> 77100 | AP37: =SUM(AJ37-AK37+AL37-AM37+AN37) -> 77100 | AV37: =SUM(AP37-AQ37+AR37-AS37+AT37) -> 77100 | AW37: 0 | BB37: =SUM(AV37-AW37+AX37-AY37+AZ37) -> 77100 | BH37: =SUM(BB37-BC37+BD37-BE37+BF37) -> 77100 | BN37: =SUM(BH37-BI37+BJ37-BK37+BL37) -> 77100 | BT37: =SUM(BN37-BO37+BP37-BQ37+BR37) -> 77100 | BZ37: =SUM(BT37-BU37+BV37-BW37+BX37) -> 77100 | CD37: =+BZ37+CA37-CB37 -> 77100
B38: เงินทุนโครงการเศรษฐกิจชุมชน | F38: 270501.59 | H38: 7549.96 | L38: =+F38+H38-G38+J38-I38 -> 278051.55 | M38: 0 | R38: =SUM(L38-M38+N38-O38+P38) -> 278051.55 | X38: =SUM(R38-S38+T38-U38+V38) -> 278051.55 | AD38: =SUM(X38-Y38+Z38-AA38+AB38) -> 278051.55 | AG38: =56403.61+8500+7500 -> 72403.61 | AJ38: =SUM(AD38-AE38+AF38-AG38+AH38) -> 205647.94 | AP38: =SUM(AJ38-AK38+AL38-AM38+AN38) -> 205647.94 | AV38: =SUM(AP38-AQ38+AR38-AS38+AT38) -> 205647.94 | AW38: 0 | BB38: =SUM(AV38-AW38+AX38-AY38+AZ38) -> 205647.94 | BH38: =SUM(BB38-BC38+BD38-BE38+BF38) -> 205647.94 | BL38: 0 | BN38: =SUM(BH38-BI38+BJ38-BK38+BL38) -> 205647.94 | BT38: =SUM(BN38-BO38+BP38-BQ38+BR38) -> 205647.94 | BZ38: =SUM(BT38-BU38+BV38-BW38+BX38) -> 205647.94 | CD38: =+BZ38+CA38-CB38 -> 205647.94
B39: เงินปันผล/ค่าตอบแทน จนท.สหกรณ์ | F39: 0 | L39: =+F39+H39-G39+J39-I39 -> 0 | M39: 0 | R39: =SUM(L39-M39+N39-O39+P39) -> 0 | X39: =SUM(R39-S39+T39-U39+V39) -> 0 | AD39: =SUM(X39-Y39+Z39-AA39+AB39) -> 0 | AE39: 31285.5 | AF39: 31285.5 | AJ39: =SUM(AD39-AE39+AF39-AG39+AH39) -> 0 | AP39: =SUM(AJ39-AK39+AL39-AM39+AN39) -> 0 | AV39: =SUM(AP39-AQ39+AR39-AS39+AT39) -> 0 | AW39: 0 | BB39: =SUM(AV39-AW39+AX39-AY39+AZ39) -> 0 | BH39: =SUM(BB39-BC39+BD39-BE39+BF39) -> 0 | BN39: =SUM(BH39-BI39+BJ39-BK39+BL39) -> 0 | BT39: =SUM(BN39-BO39+BP39-BQ39+BR39) -> 0 | BZ39: =SUM(BT39-BU39+BV39-BW39+BX39) -> 0 | CD39: =+BZ39+CA39-CB39 -> 0
B40: ค่ารักษาพยาบาล | F40: 50 | L40: =+F40+H40-G40+J40-I40 -> 50 | M40: 3532 | N40: 3532 | R40: =SUM(L40-M40+N40-O40+P40) -> 50 | S40: 3552 | T40: 3552 | X40: =SUM(R40-S40+T40-U40+V40) -> 50 | Z40: 582 | AD40: =SUM(X40-Y40+Z40-AA40+AB40) -> 632 | AE40: 582 | AJ40: =SUM(AD40-AE40+AF40-AG40+AH40) -> 50 | AP40: =SUM(AJ40-AK40+AL40-AM40+AN40) -> 50 | AV40: =SUM(AP40-AQ40+AR40-AS40+AT40) -> 50 | BB40: =SUM(AV40-AW40+AX40-AY40+AZ40) -> 50 | BH40: =SUM(BB40-BC40+BD40-BE40+BF40) -> 50 | BN40: =SUM(BH40-BI40+BJ40-BK40+BL40) -> 50 | BT40: =SUM(BN40-BO40+BP40-BQ40+BR40) -> 50 | BZ40: =SUM(BT40-BU40+BV40-BW40+BX40) -> 50 | CD40: =+BZ40+CB40 -> 50
...

Sheet รับ-จ่ายเงิน
A1: เทศบาลตำบลเขาพระ อำเภอพิปูน จังหวัดนครศรีธรรมราช
A2: รายงาน รับ - จ่ายเงิน
A3: ปีงบประมาณ 2559 ประจำเดือน ตุลาคม
A5: จนถึงปัจจุบัน | E5: รายการ | F5: รหัสบัญชี | G5: จำนวนเงิน เดือนนี้ ที่เกิดขึ้นจริง(บาท)
A6: ประมาณการ (บาท) | B6: เงินอุดหนุนระบุ วัตถุประสงค์/ เฉพาะกิจ(บาท) | C6: รวม (บาท) | D6: เกิดขึ้นจริง (บาท)
D7: 30620913 | E7: ยอดยกมา | G7: 30620913
E8: รายรับ (หมายเหตุ 1)
A9: 198000 | C9: =+A9 -> 198000 | D9: =+G9 -> 0 | E9: ภาษีอากร | F9: 411000 | G9: 0
A10: 272200 | C10: =+A10 -> 272200 | D10: =+G10 -> 22491.75 | E10: ค่าธรรมเนียม ค่าปรับและใบอนุญาต | F10: 412000 | G10: 22491.75
A11: 300500 | C11: =+A11 -> 300500 | D11: =+G11 -> 0 | E11: รายได้จากทรัพย์สิน | F11: 413000 | G11: 0
A12: 300000 | C12: =+A12 -> 300000 | D12: =+G12 -> 21545 | E12: รายได้จากสาธารณูปโภคและการพาณิชย์ | F12: 414000 | G12: 21545
A13: 60000 | C13: =+A13 -> 60000 | D13: =+G13 -> 108 | E13: รายได้เบ็ดเตล็ด | F13: 415000 | G13: =105+3 -> 108
A14: 15000 | C14: =+A14 -> 15000 | D14: =+G14 -> 0 | E14: รายได้จากทุน | F14: 416000 | G14: 0
A15: 16076000 | C15: =+A15 -> 16076000 | D15: =+G15 -> 1292044.9 | E15: ภาษีจัดสรร | F15: 421000 | G15: 1292044.9
A16: 16100000 | C16: =+A16 -> 16100000 | D16: =+G16 -> 0 | E16: เงินอุดหนุนทั่วไป | F16: 431002 | G16: 0
D17: =+G17 -> 0 | E17: เงินอุดหนุนทั่วไปกำหนดวัตถุประสงค์/เฉพาะกิจ | F17: 441000 | G17: 0
A18: =SUM(A9:A17) -> 33321700 | B18: =SUM(B9:B17) -> 0 | C18: =SUM(C9:C17) -> 33321700 | D18: =SUM(D9:D17) -> 1336189.7 | E18: รวม | G18: =SUM(G9:G17) -> 1336189.7
D19: =+G19 -> 18786 | E19: ลูกหนี้เงินยืม | F19: 113100 | G19: =3500+6362+1362+1362+6200 -> 18786
D20: 32340 | E20: ลูกหนี้เงินยืมเงินสะสม | F20: 113700 | G20: 32340
D21: =+G21 -> 32340 | E21: รายได้จากรัฐบาลค้างรับ | F21: 113200 | G21: 32340
D22: =+G22 -> 11632.19 | E22: เงินรับฝากภาษีหัก ณ ที่จ่าย | F22: 215001 | G22: 11632.19
D23: =+G23 -> 87938 | E23: เงินรับฝากเงินประกันสัญญา | F23: 215008 | G23: 87938
D24: =+G24 -> 7549.96 | E24: เงินรับฝากเงินทุนโครงการเศรษฐกิจชุมชน | F24: 215016 | G24: 7549.96
D25: =+G25 -> 3 | E25: เงินเกินบัญชี | F25: 216001 | G25: 3
A27: =SUM(A18:A26) -> 33321700 | B27: =SUM(B18:B26) -> 0 | C27: =SUM(C18:C26) -> 33321700 | D27: =SUM(D18:D26) -> 1526778.8 | E27: รวมรายรับ | G27: =SUM(G18:G26) -> 1526778.8
A32: จนถึงปัจจุบัน | E32: รายการ | F32: รหัสบัญชี | G32: จำนวนเงิน เดือนนี้ ที่เกิดขึ้นจริง(บาท)
A33: ประมาณการ (บาท) | B33: เงินอุดหนุนระบุ วัตถุประสงค์/ เฉพาะกิจ(บาท) | C33: รวม (บาท) | D33: เกิดขึ้นจริง (บาท)
E34: รายจ่าย
A35: 3708560 | C35: =+A35 -> 3708560 | D35: =+G35 -> 21850 | E35: งบกลาง | F35: 100000 | G35: 21850
A36: 2624640 | C36: =+A36 -> 2624640 | D36: =+G36 -> 218720 | E36: เงินเดือนฝ่ายการเมือง | F36: 210000 | G36: 218720
A37: =4048500+1923300+432000+730300+361400+1376000+589300 -> 9460800 | C37: =+A37 -> 9460800 | D37: =+G37 -> 732659.61 | E37: เงินเดือนฝ่ายประจำ | F37: 220000 | G37: 732659.61
A38: =316000+115800+28000+30000+36000+10500+123000+28800 -> 688100 | C38: =+A38 -> 688100 | D38: =+G38 -> 13050 | E38: ค่าตอบแทน | F38: 310000 | G38: 13050
A39: =1032000+120000+150000+370000+1092500+168000+130000+400000+600000+350000+250000+300000+10000+20000+160000 -> 5152500 | C39: =+A39 -> 5152500 | D39: =+G39 -> 89641.89 | E39: ค่าใช้สอย | F39: 320000 | G39: =70855.89+3500+6362+1362+1362+6200 -> 89641.89 | H39: =+D39-3916876.48 -> -3827234.6
A40: =550000+105000+2178000+120000+60000+350000+450000+50000+140000 -> 4003000 | C40: =+A40 -> 4003000 | D40: =+G40 -> 18076 | E40: ค่าวัสดุ | F40: 330000 | G40: 18076 | H40: =+D40-3620793.73 -> -3602717.7
A41: =450000+450000 -> 900000 | C41: =+A41 -> 900000 | D41: =+G41 -> 82973.43 | E41: ค่าสาธารณูปโภค | F41: 340000 | G41: 82973.43 | H41: =+D41-1044432.06 -> -961458.63
A42: =50000+36000+113000+91600+71000+70500 -> 432100 | C42: =+A42 -> 432100 | D42: =+G42 -> 0 | E42: ค่าครุภัณฑ์ | F42: 410000 | G42: 0 | H42: =+D42-743046.05 -> -743046.05
A43: =398000+15000+1726000 -> 2139000 | C43: =+A43 -> 2139000 | D43: =+G43 -> 0 | E43: ค่าที่ดินและสิ่งก่อสร้าง | F43: 420000 | G43: 0 | H43: =+D43-5106548 -> -5106548
A44: 25000 | C44: =+A44 -> 25000 | D44: =+G44 -> 0 | E44: รายจ่ายอื่นๆ | F44: 510000 | G44: 0
A45: =20000+3792000+240000+10000+126000 -> 4188000 | C45: =+A45 -> 4188000 | D45: =+G45 -> 7000 | E45: เงินอุดหนุน | F45: 610000 | G45: 7000
A46: =SUM(A35:A45) -> 33321700 | B46: =SUM(B35:B45) -> 0 | C46: =SUM(C35:C45) -> 33321700 | D46: =SUM(D35:D45) -> 1183970.9 | E46: รวม | G46: =SUM(G35:G45) -> 1183970.9
...

Sheet งบทดลอง
A1: เทศบาลตำบลเขาพระ อำเภอพิปูน จังหวัดนครศรีธรรมราช | F1: เทศบาลตำบลเขาพระ อำเภอพิปูน จังหวัดนครศรีธรรมราช | K1: เทศบาลตำบลเขาพระ อำเภอพิปูน จังหวัดนครศรีธรรมราช | P1: เทศบาลตำบลเขาพระ อำเภอพิปูน จังหวัดนครศรีธรรมราช | U1: เทศบาลตำบลเขาพระ อำเภอพิปูน จังหวัดนครศรีธรรมราช
A2: งบทดลอง | F2: งบทดลอง | K2: งบทดลอง | P2: งบทดลอง | U2: งบทดลอง
A3: ณ วันที่ 31 ตุลาคม 2558 | F3: ณ วันที่ 30 พฤศจิกายน 2558 | K3: ณ วันที่ 31 ธันวาคม 2558 | P3: ณ วันที่ 31 มกราคม 2559 | U3: ณ วันที่ 29 กุมภาพันธ์ 2559
A4: รายการ | C4: รหัสบัญชี | D4: เดบิต | E4: เครดิต | F4: รายการ | H4: รหัสบัญชี | I4: เดบิต | J4: เครดิต | K4: รายการ | M4: รหัสบัญชี | N4: เดบิต | O4: เครดิต | P4: รายการ | R4: รหัสบัญชี | S4: เดบิต | T4: เครดิต | U4: รายการ | W4: รหัสบัญชี | X4: เดบิต | Y4: เครดิต
A5: เงินสด | C5: 111100 | D5: =SUM(งบดุลบัญชี!K4) -> 0 | F5: เงินสด | H5: 111100 | I5: =SUM(งบดุลบัญชี!P4) -> 0 | K5: เงินสด | M5: 111100 | N5: =+งบดุลบัญชี!W4 -> 0 | P5: เงินสด | R5: 111100 | S5: =+งบดุลบัญชี!AC4 -> 65.95 | U5: เงินสด | W5: 111100 | X5: =+งบดุลบัญชี!AI4 -> 5432
A6: เงินฝาก กรุงไทย (ออมทรัพย์) เลขที่บัญชี 835-0-00451-9 | C6: 111201 | D6: 21992676 | F6: เงินฝาก กรุงไทย (ออมทรัพย์) เลขที่บัญชี 835-0-00451-9 | H6: 111201 | I6: =+งบดุลบัญชี!Q11 -> 27734300 | K6: เงินฝาก กรุงไทย (ออมทรัพย์) เลขที่บัญชี 835-0-00451-9 | M6: 111201 | N6: =+งบดุลบัญชี!W11 -> 20945442 | P6: เงินฝาก กรุงไทย (ออมทรัพย์) เลขที่บัญชี 835-0-00451-9 | R6: 111201 | S6: =+งบดุลบัญชี!AC11 -> 26529018 | U6: เงินฝาก กรุงไทย (ออมทรัพย์) เลขที่บัญชี 835-0-00451-9 | W6: 111201 | X6: =+งบดุลบัญชี!AI11 -> 25982544
A7: เงินฝาก ธ.ก.ส. (ออมทรัพย์) เลขที่บัญชี 815-2-37037-4 | C7: 111201 | D7: 6343782.9 | F7: เงินฝาก ธ.ก.ส. (ออมทรัพย์) เลขที่บัญชี 815-2-37037-4 | H7: 111201 | I7: =+งบดุลบัญชี!Q13 -> 6467881 | K7: เงินฝาก ธ.ก.ส. (ออมทรัพย์) เลขที่บัญชี 815-2-37037-4 | M7: 111201 | N7: =+งบดุลบัญชี!W13 -> 11873783 | P7: เงินฝาก ธ.ก.ส. (ออมทรัพย์) เลขที่บัญชี 815-2-37037-4 | R7: 111201 | S7: =+งบดุลบัญชี!AC13 -> 9297881.2 | U7: เงินฝาก ธ.ก.ส. (ออมทรัพย์) เลขที่บัญชี 815-2-37037-4 | W7: 111201 | X7: =+งบดุลบัญชี!AI13 -> 7215090.7
A8: เงินฝาก ธ.ก.ส. (ออมทรัพย์) เลขที่บัญชี 815-2-50915-1 | C8: 111201 | D8: 46756.94 | F8: เงินฝาก ธ.ก.ส. (ออมทรัพย์) เลขที่บัญชี 815-2-50915-1 | H8: 111201 | I8: =+งบดุลบัญชี!Q14 -> 46756.94 | K8: เงินฝาก ธ.ก.ส. (ออมทรัพย์) เลขที่บัญชี 815-2-50915-1 | M8: 111201 | N8: =+งบดุลบัญชี!W14 -> 46756.94 | P8: เงินฝาก ธ.ก.ส. (ออมทรัพย์) เลขที่บัญชี 815-2-50915-1 | R8: 111201 | S8: =+งบดุลบัญชี!AC14 -> 46756.94 | U8: เงินฝาก ธ.ก.ส. (ออมทรัพย์) เลขที่บัญชี 815-2-50915-1 | W8: 111201 | X8: =+งบดุลบัญชี!AI14 -> 46756.94
A9: เงินฝาก ก.ส.ท. | C9: 112002 | D9: 2628811.4 | F9: เงินฝาก ก.ส.ท. | H9: 112002 | I9: =+งบดุลบัญชี!Q17 -> 2628811.4 | K9: เงินฝาก ก.ส.ท. | M9: 112002 | N9: =+งบดุลบัญชี!W17 -> 3062656.5 | P9: เงินฝาก ก.ส.ท. | R9: 112002 | S9: =+งบดุลบัญชี!AC17 -> 3062656.5 | U9: เงินฝาก ก.ส.ท. | W9: 112002 | X9: =+งบดุลบัญชี!AI17 -> 3062656.5
A10: ลูกหนี้เงินยืม | C10: 113100 | D10: 9800 | F10: ลูกหนี้เงินยืม | H10: 113100 | I10: =+งบดุลบัญชี!Q18 -> 6300 | K10: ลูกหนี้เงินยืม | M10: 113100 | N10: =+งบดุลบัญชี!W18 -> 0 | P10: ลูกหนี้เงินยืม | R10: 113100 | S10: =+งบดุลบัญชี!AC18 -> 105400 | U10: ลูกหนี้เงินยืม | W10: 113100 | X10: =+งบดุลบัญชี!AI18 -> 80600
A11: รายได้จากรัฐบาลค้างรับ | C11: 113200 | D11: 0 | F11: รายได้จากรัฐบาลค้างรับ | H11: 113200 | I11: =+งบดุลบัญชี!Q19 -> 0 | K11: รายได้จากรัฐบาลค้างรับ | M11: 113200 | N11: =+งบดุลบัญชี!W19 -> 0 | P11: รายได้จากรัฐบาลค้างรับ | R11: 113200 | S11: =+งบดุลบัญชี!AC19 -> 0 | U11: รายได้จากรัฐบาลค้างรับ | W11: 113200 | X11: =+งบดุลบัญชี!AI19 -> 0
A12: ลูกหนี้ภาษีบำรุงท้องที่ | C12: 113302 | D12: 11053.24 | F12: ลูกหนี้ภาษีบำรุงท้องที่ | H12: 113302 | I12: =+งบดุลบัญชี!Q20 -> 11053.24 | K12: ลูกหนี้ภาษีบำรุงท้องที่ | M12: 113302 | N12: =+งบดุลบัญชี!W20 -> 11053.24 | P12: ลูกหนี้ภาษีบำรุงท้องที่ | R12: 113302 | S12: =+งบดุลบัญชี!AC20 -> 10814.27 | U12: ลูกหนี้ภาษีบำรุงท้องที่ | W12: 113302 | X12: =+งบดุลบัญชี!AI20 -> 8786.53
A13: ลูกหนี้รายได้อื่นๆ | C13: 113400 | D13: 191626.86 | F13: ลูกหนี้รายได้อื่นๆ | H13: 113400 | I13: =+งบดุลบัญชี!Q21 -> 191626.86 | K13: ลูกหนี้รายได้อื่นๆ | M13: 113400 | N13: =+งบดุลบัญชี!W21 -> 191626.86 | P13: ลูกหนี้รายได้อื่นๆ | R13: 113400 | S13: =+งบดุลบัญชี!AC21 -> 191626.86 | U13: ลูกหนี้รายได้อื่นๆ | W13: 113400 | X13: =+งบดุลบัญชี!AI21 -> 191626.86
A14: ลูกหนี้เงินทุนโครงการเศรษฐกิจชุมชน | C14: 113500 | D14: 231294.61 | F14: ลูกหนี้เงินทุนโครงการเศรษฐกิจชุมชน | H14: 113500 | I14: =+งบดุลบัญชี!Q22 -> 231294.61 | K14: ลูกหนี้เงินทุนโครงการเศรษฐกิจชุมชน | M14: 113500 | N14: =+งบดุลบัญชี!W22 -> 231294.61 | P14: ลูกหนี้เงินทุนโครงการเศรษฐกิจชุมชน | R14: 113500 | S14: =+งบดุลบัญชี!AC22 -> 231294.61 | U14: ลูกหนี้เงินทุนโครงการเศรษฐกิจชุมชน | W14: 113500 | X14: =+งบดุลบัญชี!AI22 -> 158891
A15: ลูกหนี้เงินยืมเงินสะสม | C15: 113700 | D15: 1088380 | F15: ลูกหนี้เงินยืมเงินสะสม | H15: 113700 | I15: =+งบดุลบัญชี!Q23 -> 0 | K15: ลูกหนี้เงินยืมเงินสะสม | M15: 113700 | N15: =+งบดุลบัญชี!W23 -> 0 | P15: ลูกหนี้เงินยืมเงินสะสม | R15: 113700 | S15: =+งบดุลบัญชี!AC23 -> 0 | U15: ลูกหนี้เงินยืมเงินสะสม | W15: 113700 | X15: =+งบดุลบัญชี!AI23 -> 0
A16: ทรัพย์สินเกิดจากเงินกู้ | C16: 121000 | D16: 21339050 | F16: ทรัพย์สินเกิดจากเงินกู้ | H16: 121000 | I16: =+งบดุลบัญชี!Q24 -> 21339050 | K16: ทรัพย์สินเกิดจากเงินกู้ | M16: 121000 | N16: =+งบดุลบัญชี!W24 -> 21339050 | P16: ทรัพย์สินเกิดจากเงินกู้ | R16: 121000 | S16: =+งบดุลบัญชี!AC24 -> 21339050 | U16: ทรัพย์สินเกิดจากเงินกู้ | W16: 121000 | X16: =+งบดุลบัญชี!AI24 -> 21339050
A17: เงินรายรับ (หมายเหตุ 1) | C17: 400000 | E17: 1336189.7 | F17: เงินรายรับ (หมายเหตุ 1) | H17: 400000 | J17: =+งบดุลบัญชี!R117 -> 12362970 | K17: เงินรายรับ (หมายเหตุ 1) | M17: 400000 | O17: =+งบดุลบัญชี!X117 -> 15837296 | P17: เงินรายรับ (หมายเหตุ 1) | R17: 400000 | T17: =+งบดุลบัญชี!AD117 -> 23061425 | U17: เงินรายรับ (หมายเหตุ 1) | W17: 400000 | Y17: =+งบดุลบัญชี!AJ117 -> 24889618
A18: รายจ่ายค้างจ่าย (หมายเหตุ 2) | C18: 211000 | E18: 4331758 | F18: รายจ่ายค้างจ่าย (หมายเหตุ 2) | H18: 211000 | J18: =+งบดุลบัญชี!R27 -> 3084315 | K18: รายจ่ายค้างจ่าย (หมายเหตุ 2) | M18: 211000 | O18: =+งบดุลบัญชี!X27 -> 1771202 | P18: รายจ่ายค้างจ่าย (หมายเหตุ 2) | R18: 211000 | T18: =+งบดุลบัญชี!AD27 -> 1252779 | U18: รายจ่ายค้างจ่าย (หมายเหตุ 2) | W18: 211000 | Y18: =+งบดุลบัญชี!AJ27 -> 1154779
A19: เงินรับฝาก (หมายเหตุ 3) | C19: 215000 | E19: 1116520.9 | F19: เงินรับฝาก (หมายเหตุ 3) | H19: 215000 | J19: =+งบดุลบัญชี!R32 -> 1119370.6 | K19: เงินรับฝาก (หมายเหตุ 3) | M19: 215000 | O19: =+งบดุลบัญชี!X32 -> 1156958.7 | P19: เงินรับฝาก (หมายเหตุ 3) | R19: 215000 | T19: =+งบดุลบัญชี!AD32 -> 1222745.7 | U19: เงินรับฝาก (หมายเหตุ 3) | W19: 215000 | Y19: =+งบดุลบัญชี!AJ32 -> 1242539.8
A20: เงินเกินบัญชี | C20: 216001 | E20: 0 | F20: เงินเกินบัญชี | H20: 216001 | J20: =+งบดุลบัญชี!R46 -> 0 | K20: เงินเกินบัญชี | M20: 216001 | O20: =+งบดุลบัญชี!X46 -> 0 | P20: เงินเกินบัญชี | R20: 216001 | T20: =+งบดุลบัญชี!AD46 -> 0 | U20: เงินเกินบัญชี | W20: 216001 | Y20: =+งบดุลบัญชี!AJ46 -> 0
A21: เจ้าหนี้เงินกู้เงินทุนส่งเสริมกิจการเทศบาล | C21: 221202 | E21: 21332406 | F21: เจ้าหนี้เงินกู้เงินทุนส่งเสริมกิจการเทศบาล | H21: 221202 | J21: =+งบดุลบัญชี!R47 -> 21332406 | K21: เจ้าหนี้เงินกู้เงินทุนส่งเสริมกิจการเทศบาล | M21: 221202 | O21: =+งบดุลบัญชี!X47 -> 21332406 | P21: เจ้าหนี้เงินกู้เงินทุนส่งเสริมกิจการเทศบาล | R21: 221202 | T21: =+งบดุลบัญชี!AD47 -> 21332406 | U21: เจ้าหนี้เงินกู้เงินทุนส่งเสริมกิจการเทศบาล | W21: 221202 | Y21: =+งบดุลบัญชี!AJ47 -> 21332406
A22: เงินสะสม | C22: 310000 | E22: 12729569 | F22: เงินสะสม | H22: 310000 | J22: =+งบดุลบัญชี!R48 -> 12460155 | K22: เงินสะสม | M22: 310000 | O22: =+งบดุลบัญชี!X48 -> 12237015 | P22: เงินสะสม | R22: 310000 | T22: =+งบดุลบัญชี!AD48 -> 12237015 | U22: เงินสะสม | W22: 310000 | Y22: =+งบดุลบัญชี!AJ48 -> 10991515
A23: เงินทุนสำรองเงินสะสม | C23: 320000 | E23: 14220760 | F23: เงินทุนสำรองเงินสะสม | H23: 320000 | J23: =+งบดุลบัญชี!R49 -> 14220760 | K23: เงินทุนสำรองเงินสะสม | M23: 320000 | O23: =+งบดุลบัญชี!X49 -> 14220760 | P23: เงินทุนสำรองเงินสะสม | R23: 320000 | T23: =+งบดุลบัญชี!AD49 -> 14220760 | U23: เงินทุนสำรองเงินสะสม | W23: 320000 | Y23: =+งบดุลบัญชี!AJ49 -> 14220760
A24: งบกลาง | C24: 510000 | D24: 21850 | F24: งบกลาง | H24: 510000 | I24: =+งบดุลบัญชี!Q120+งบดุลบัญชี!Q144 -> 1989430 | K24: งบกลาง | M24: 510000 | N24: =+งบดุลบัญชี!W120+งบดุลบัญชี!W144 -> 3345235 | P24: งบกลาง | R24: 510000 | S24: =+งบดุลบัญชี!AC120+งบดุลบัญชี!AC144 -> 4533207.7 | U24: งบกลาง | W24: 510000 | X24: =+งบดุลบัญชี!AI120+งบดุลบัญชี!AI144 -> 5549043.7
A25: เงินเดือน (ฝ่ายการเมือง) | C25: 521000 | D25: 218720 | F25: เงินเดือน (ฝ่ายการเมือง) | H25: 521000 | I25: =+งบดุลบัญชี!Q130 -> 437440 | K25: เงินเดือน (ฝ่ายการเมือง) | M25: 521000 | N25: =+งบดุลบัญชี!W130 -> 656160 | P25: เงินเดือน (ฝ่ายการเมือง) | R25: 521000 | S25: =+งบดุลบัญชี!AC130 -> 874880 | U25: เงินเดือน (ฝ่ายการเมือง) | W25: 521000 | X25: =+งบดุลบัญชี!AI130 -> 1093600
A26: เงินเดือน (ฝ่ายประจำ) | C26: 522000 | D26: 732659.61 | F26: เงินเดือน (ฝ่ายประจำ) | H26: 522000 | I26: =+งบดุลบัญชี!Q131+งบดุลบัญชี!Q151+งบดุลบัญชี!Q152 -> 1634812.9 | K26: เงินเดือน (ฝ่ายประจำ) | M26: 522000 | N26: =+งบดุลบัญชี!W131+งบดุลบัญชี!W151+งบดุลบัญชี!W152 -> 2428192.9 | P26: เงินเดือน (ฝ่ายประจำ) | R26: 522000 | S26: =+งบดุลบัญชี!AC131+งบดุลบัญชี!AC151+งบดุลบัญชี!AC152 -> 3432295.6 | U26: เงินเดือน (ฝ่ายประจำ) | W26: 522000 | X26: =+งบดุลบัญชี!AI131+งบดุลบัญชี!AI151+งบดุลบัญชี!AI152 -> 4245682.6
A27: ค่าตอบแทน | C27: 531000 | D27: 13050 | F27: ค่าตอบแทน | H27: 531000 | I27: =+งบดุลบัญชี!Q132 -> 43553.25 | K27: ค่าตอบแทน | M27: 531000 | N27: =+งบดุลบัญชี!W132 -> 72553.25 | P27: ค่าตอบแทน | R27: 531000 | S27: =+งบดุลบัญชี!AC132 -> 101553.25 | U27: ค่าตอบแทน | W27: 531000 | X27: =+งบดุลบัญชี!AI132 -> 137523.25
A28: ค่าใช้สอย | C28: 532000 | D28: 89641.89 | F28: ค่าใช้สอย | H28: 532000 | I28: =+งบดุลบัญชี!Q133 -> 519207.39 | K28: ค่าใช้สอย | M28: 532000 | N28: =+งบดุลบัญชี!W133 -> 802714.94 | P28: ค่าใช้สอย | R28: 532000 | S28: =+งบดุลบัญชี!AC133 -> 944801.44 | U28: ค่าใช้สอย | W28: 532000 | X28: =+งบดุลบัญชี!AI133 -> 1643476
A29: ค่าวัสดุ | C29: 533000 | D29: 18076 | F29: ค่าวัสดุ | H29: 533000 | I29: =+งบดุลบัญชี!Q134 -> 165423.09 | K29: ค่าวัสดุ | M29: 533000 | N29: =+งบดุลบัญชี!W134 -> 333138.34 | P29: ค่าวัสดุ | R29: 533000 | S29: =+งบดุลบัญชี!AC134 -> 404289.93 | U29: ค่าวัสดุ | W29: 533000 | X29: =+งบดุลบัญชี!AI134 -> 536647.99
A30: ค่าสาธารณูปโภค | C30: 534000 | D30: 82973.43 | F30: ค่าสาธารณูปโภค | H30: 534000 | I30: =+งบดุลบัญชี!Q135 -> 151034.97 | K30: ค่าสาธารณูปโภค | M30: 534000 | N30: =+งบดุลบัญชี!W135 -> 233979.86 | P30: ค่าสาธารณูปโภค | R30: 534000 | S30: =+งบดุลบัญชี!AC135 -> 254566.75 | U30: ค่าสาธารณูปโภค | W30: 534000 | X30: =+งบดุลบัญชี!AI135 -> 406238.93
A31: ค่าครุภัณฑ์ | C31: 541000 | D31: 0 | F31: ค่าครุภัณฑ์ | H31: 541000 | I31: =+งบดุลบัญชี!Q136 -> 0 | K31: ค่าครุภัณฑ์ | M31: 541000 | N31: =+งบดุลบัญชี!W136 -> 0 | P31: ค่าครุภัณฑ์ | R31: 541000 | S31: =+งบดุลบัญชี!AC136 -> 14970 | U31: ค่าครุภัณฑ์ | W31: 541000 | X31: =+งบดุลบัญชี!AI136 -> 124970
A32: ค่าที่ดินและสิ่งก่อสร้าง | C32: 542000 | D32: 0 | F32: ค่าที่ดินและสิ่งก่อสร้าง | H32: 542000 | I32: =+งบดุลบัญชี!Q137 -> 0 | K32: ค่าที่ดินและสิ่งก่อสร้าง | M32: 542000 | N32: =+งบดุลบัญชี!W137 -> 0 | P32: ค่าที่ดินและสิ่งก่อสร้าง | R32: 542000 | S32: =+งบดุลบัญชี!AC137 -> 15000 | U32: ค่าที่ดินและสิ่งก่อสร้าง | W32: 542000 | X32: =+งบดุลบัญชี!AI137 -> 15000
A33: รายจ่ายอื่น | C33: 551000 | D33: 0 | F33: รายจ่ายอื่น | H33: 551000 | I33: =+งบดุลบัญชี!Q138 -> 0 | K33: รายจ่ายอื่น | M33: 551000 | N33: =+งบดุลบัญชี!W138 -> 0 | P33: รายจ่ายอื่น | R33: 551000 | S33: =+งบดุลบัญชี!AC138 -> 0 | U33: รายจ่ายอื่น | W33: 551000 | X33: =+งบดุลบัญชี!AH138 -> 0
A34: เงินอุดหนุน | C34: 561000 | D34: 7000 | F34: เงินอุดหนุน | H34: 561000 | I34: =+งบดุลบัญชี!Q139 -> 982000 | K34: เงินอุดหนุน | M34: 561000 | N34: =+งบดุลบัญชี!W139 -> 982000 | P34: เงินอุดหนุน | R34: 561000 | S34: =+งบดุลบัญชี!AC139 -> 1937000 | U34: เงินอุดหนุน | W34: 561000 | X34: =+งบดุลบัญชี!AI139 -> 1988000
A37: รวม | D37: =SUM(D5:D36) -> 55067203 | E37: =SUM(E5:E36) -> 55067203 | F37: รวม | I37: =SUM(I5:I36) -> 64579976 | J37: =SUM(J5:J36) -> 64579976 | K37: รวม | N37: =SUM(N5:N36) -> 66555637 | O37: =SUM(O5:O36) -> 66555637 | P37: รวม | S37: =SUM(S5:S36) -> 73327130 | T37: =SUM(T5:T36) -> 73327130 | U37: รวม | X37: =SUM(X5:X36) -> 73831617 | Y37: =SUM(Y5:Y36) -> 73831617
I38: =+I37-J37 -> 0 | T38: =+T37-S37 -> 0 | X38: =+X37-Y37 -> 0
N39: =+N37-O37 -> 0
A41: (นางชุติมา ลอยประเสริฐ) | B41: (นายวสันต์ ไทรแก้ว) | D41: (นายชวลิต สิทธิฤทธิ์)
A42: หัวหน้าฝ่ายบริหารงานคลัง รักษาราชการแทน | B42: ปลัดเทศบาล | D42: นายกเทศมนตรีตำบลเขาพระ
A43: ผู้อำนวยการกองคลัง
...

Sheet หมายเหตุ1 ประกอบงบ
D1: หมายเหตุ 1 | H1: หมายเหตุ 1 | L1: หมายเหตุ 1 | P1: หมายเหตุ 1 | T1: หมายเหตุ 1
A2: เทศบาลตำบลเขาพระ อำเภอพิปูน จังหวัดนครศรีธรรมราช | E2: เทศบาลตำบลเขาพระ อำเภอพิปูน จังหวัดนครศรีธรรมราช | I2: เทศบาลตำบลเขาพระ อำเภอพิปูน จังหวัดนครศรีธรรมราช | M2: เทศบาลตำบลเขาพระ อำเภอพิปูน จังหวัดนครศรีธรรมราช | Q2: เทศบาลตำบลเขาพระ อำเภอพิปูน จังหวัดนครศรีธรรมราช
A3: รายรับจริงประกอบงบทดลองและรายงานรับจ่ายเงิน | E3: รายรับจริงประกอบงบทดลองและรายงานรับจ่ายเงิน | I3: รายรับจริงประกอบงบทดลองและรายงานรับจ่ายเงิน | M3: รายรับจริงประกอบงบทดลองและรายงานรับจ่ายเงิน | Q3: รายรับจริงประกอบงบทดลองและรายงานรับจ่ายเงิน
A4: วันที่ 31 ตุลาคม 2558 | E4: วันที่ 30 พฤศจิกายน 2558 | I4: วันที่ 31 ธันวาคม 2558 | M4: วันที่ 31 มกราคม 2559 | Q4: วันที่ 29 กุมภาพันธ์ 2559
A5: รายการ | B5: รหัสบัญชี | C5: ประมาณการ | D5: รับจริง | E5: รายการ | F5: รหัสบัญชี | G5: ประมาณการ | H5: รับจริง | I5: รายการ | J5: รหัสบัญชี | K5: ประมาณการ | L5: รับจริง | M5: รายการ | N5: รหัสบัญชี | O5: ประมาณการ | P5: รับจริง | Q5: รายการ | R5: รหัสบัญชี | S5: ประมาณการ | T5: รับจริง
A6: รายได้จัดเก็บเอง | B6: 410000 | E6: รายได้จัดเก็บเอง | F6: 410000 | I6: รายได้จัดเก็บเอง | J6: 410000 | M6: รายได้จัดเก็บเอง | N6: 410000 | Q6: รายได้จัดเก็บเอง | R6: 410000
A7: หมวดภาษีอากร | B7: 411000 | E7: หมวดภาษีอากร | F7: 411000 | I7: หมวดภาษีอากร | J7: 411000 | M7: หมวดภาษีอากร | N7: 411000 | Q7: หมวดภาษีอากร | R7: 411000
A8: (1) ภาษีโรงเรือนและที่ดิน | B8: 411001 | C8: 167000 | D8: =SUM(งบดุลบัญชี!H56) -> 0 | E8: (1) ภาษีโรงเรือนและที่ดิน | F8: 411001 | G8: 167000 | H8: =+D8 -> 0 | I8: (1) ภาษีโรงเรือนและที่ดิน | J8: 411001 | K8: 167000 | L8: =+H8 -> 0 | M8: (1) ภาษีโรงเรือนและที่ดิน | N8: 411001 | O8: 167000 | P8: 12911 | Q8: (1) ภาษีโรงเรือนและที่ดิน | R8: 411001 | S8: 167000 | T8: 81906.5
A9: (2) ภาษีบำรุงท้องที่ | B9: 411002 | C9: 22000 | D9: 0 | E9: (2) ภาษีบำรุงท้องที่ | F9: 411002 | G9: 22000 | H9: =+D9 -> 0 | I9: (2) ภาษีบำรุงท้องที่ | J9: 411002 | K9: 22000 | L9: =+H9 -> 0 | M9: (2) ภาษีบำรุงท้องที่ | N9: 411002 | O9: 22000 | P9: 1016.97 | Q9: (2) ภาษีบำรุงท้องที่ | R9: 411002 | S9: 22000 | T9: 6136.23
A10: (3) ภาษีป้าย | B10: 411003 | C10: 9000 | D10: =SUM(งบดุลบัญชี!H58) -> 0 | E10: (3) ภาษีป้าย | F10: 411003 | G10: 9000 | H10: =+D10 -> 0 | I10: (3) ภาษีป้าย | J10: 411003 | K10: 9000 | L10: =+H10 -> 0 | M10: (3) ภาษีป้าย | N10: 411003 | O10: 9000 | P10: 288 | Q10: (3) ภาษีป้าย | R10: 411003 | S10: 9000 | T10: 3716
A11: รวม | C11: =SUM(C8:C10) -> 198000 | D11: =SUM(D8:D10) -> 0 | E11: รวม | G11: =SUM(G8:G10) -> 198000 | H11: =SUM(H8:H10) -> 0 | I11: รวม | K11: =SUM(K8:K10) -> 198000 | L11: =SUM(L8:L10) -> 0 | M11: รวม | O11: =SUM(O8:O10) -> 198000 | P11: =SUM(P8:P10) -> 14215.97 | Q11: รวม | S11: =SUM(S8:S10) -> 198000 | T11: =SUM(T8:T10) -> 91758.73
A12: หมวดค่าธรรมเนียม ค่าปรับและใบอนุญาต | B12: 412000 | E12: หมวดค่าธรรมเนียม ค่าปรับและใบอนุญาต | F12: 412000 | I12: หมวดค่าธรรมเนียม ค่าปรับและใบอนุญาต | J12: 412000 | M12: หมวดค่าธรรมเนียม ค่าปรับและใบอนุญาต | N12: 412000 | Q12: หมวดค่าธรรมเนียม ค่าปรับและใบอนุญาต | R12: 412000
A13: (1) ค่าธรรมเนียมเกี่ยวกับใบอนุญาตการขายสุรา | B13: 412103 | C13: 100 | D13: 0 | E13: (1) ค่าธรรมเนียมเกี่ยวกับใบอนุญาตการขายสุรา | F13: 412103 | G13: 100 | H13: =+D13 -> 0 | I13: (1) ค่าธรรมเนียมเกี่ยวกับใบอนุญาตการขายสุรา | J13: 412103 | K13: 100 | L13: =+H13 -> 0 | M13: (1) ค่าธรรมเนียมเกี่ยวกับใบอนุญาตการขายสุรา | N13: 412103 | O13: 100 | P13: 19.4 | Q13: (1) ค่าธรรมเนียมเกี่ยวกับใบอนุญาตการขายสุรา | R13: 412103 | S13: 100 | T13: 756.6
A14: (2) ค่าธรรมเนียมเก็บและขนขยะมูลฝอย | B14: 412104 | C14: 180000 | D14: 20600 | E14: (2) ค่าธรรมเนียมเก็บและขนขยะมูลฝอย | F14: 412104 | G14: 180000 | H14: 36520 | I14: (2) ค่าธรรมเนียมเก็บและขนขยะมูลฝอย | J14: 412104 | K14: 180000 | L14: 56540 | M14: (2) ค่าธรรมเนียมเก็บและขนขยะมูลฝอย | N14: 412104 | O14: 180000 | P14: 71020 | Q14: (2) ค่าธรรมเนียมเก็บและขนขยะมูลฝอย | R14: 412104 | S14: 180000 | T14: 83280
A15: (3) ค่าธรรมเนียมในการออกหนังสือรับรองการแจ้งสถานที่จำหน่ายอาหาร | B15: 412109 | C15: 5000 | D15: 0 | E15: (3) ค่าธรรมเนียมในการออกหนังสือรับรองการแจ้งสถานที่จำหน่ายอาหาร | F15: 412109 | G15: 5000 | H15: 0 | I15: (3) ค่าธรรมเนียมในการออกหนังสือรับรองการแจ้งสถานที่จำหน่ายอาหาร | J15: 412109 | K15: 5000 | L15: 0 | M15: (3) ค่าธรรมเนียมในการออกหนังสือรับรองการแจ้งสถานที่จำหน่ายอาหาร | N15: 412109 | O15: 5000 | P15: 0 | Q15: (3) ค่าธรรมเนียมในการออกหนังสือรับรองการแจ้งสถานที่จำหน่ายอาหาร | R15: 412109 | S15: 5000 | T15: 150
A16: (4) ค่าธรรมเนียมเกี่ยวกับทะเบียนราษฎร | B16: 412112 | C16: 3000 | D16: 180 | E16: (4) ค่าธรรมเนียมเกี่ยวกับทะเบียนราษฎร | F16: 412112 | G16: 3000 | H16: 600 | I16: (4) ค่าธรรมเนียมเกี่ยวกับทะเบียนราษฎร | J16: 412112 | K16: 3000 | L16: 900 | M16: (4) ค่าธรรมเนียมเกี่ยวกับทะเบียนราษฎร | N16: 412112 | O16: 3000 | P16: 1210 | Q16: (4) ค่าธรรมเนียมเกี่ยวกับทะเบียนราษฎร | R16: 412112 | S16: 3000 | T16: 1430
A17: (5) ค่าธรรมเนียมจดทะเบียนพาณิชย์ | B17: 412128 | C17: 1000 | D17: 100 | E17: (5) ค่าธรรมเนียมจดทะเบียนพาณิชย์ | F17: 412128 | G17: 1000 | H17: 170 | I17: (5) ค่าธรรมเนียมจดทะเบียนพาณิชย์ | J17: 412128 | K17: 1000 | L17: 170 | M17: (5) ค่าธรรมเนียมจดทะเบียนพาณิชย์ | N17: 412128 | O17: 1000 | P17: 170 | Q17: (5) ค่าธรรมเนียมจดทะเบียนพาณิชย์ | R17: 412128 | S17: 1000 | T17: 170
A18: (6) ค่าธรรมเนียมอื่นๆ (ขอใช้น้ำประปา) | B18: 412199 | C18: 1000 | D18: 40 | E18: (6) ค่าธรรมเนียมอื่นๆ (ขอใช้น้ำประปา) | F18: 412199 | G18: 1000 | H18: 100 | I18: (6) ค่าธรรมเนียมอื่นๆ (ขอใช้น้ำประปา) | J18: 412199 | K18: 1000 | L18: 180 | M18: (6) ค่าธรรมเนียมอื่นๆ (ขอใช้น้ำประปา) | N18: 412199 | O18: 1000 | P18: 200 | Q18: (6) ค่าธรรมเนียมอื่นๆ (ขอใช้น้ำประปา) | R18: 412199 | S18: 1000 | T18: 300
A19: (7) ค่าปรับผู้กระทำผิดกฎหมายจราจรทางบก | B19: 412202 | C19: 500 | D19: 0 | E19: (7) ค่าปรับผู้กระทำผิดกฎหมายจราจรทางบก | F19: 412202 | G19: 500 | H19: 0 | I19: (7) ค่าปรับผู้กระทำผิดกฎหมายจราจรทางบก | J19: 412202 | K19: 500 | L19: 0 | M19: (7) ค่าปรับผู้กระทำผิดกฎหมายจราจรทางบก | N19: 412202 | O19: 500 | P19: 0 | Q19: (7) ค่าปรับผู้กระทำผิดกฎหมายจราจรทางบก | R19: 412202 | S19: 500 | T19: 0
A20: (8) ค่าปรับผิดสัญญา | B20: 412210 | C20: 70000 | D20: 0 | E20: (8) ค่าปรับผิดสัญญา | F20: 412210 | G20: 70000 | H20: 2355 | I20: (8) ค่าปรับผิดสัญญา | J20: 412210 | K20: 70000 | L20: 4155 | M20: (8) ค่าปรับผิดสัญญา | N20: 412210 | O20: 70000 | P20: 4155 | Q20: (8) ค่าปรับผิดสัญญา | R20: 412210 | S20: 70000 | T20: 4155
A21: (9) ค่าใบอนุญาตประกอบการสำหรับกิจการที่เป็นอันตรายต่อสุขภาพ | B21: 412303 | C21: 5000 | D21: 1500 | E21: (9) ค่าใบอนุญาตประกอบการสำหรับกิจการที่เป็นอันตรายต่อสุขภาพ | F21: 412303 | G21: 5000 | H21: 1500 | I21: (9) ค่าใบอนุญาตประกอบการสำหรับกิจการที่เป็นอันตรายต่อสุขภาพ | J21: 412303 | K21: 5000 | L21: 2500 | M21: (9) ค่าใบอนุญาตประกอบการสำหรับกิจการที่เป็นอันตรายต่อสุขภาพ | N21: 412303 | O21: 5000 | P21: 2900 | Q21: (9) ค่าใบอนุญาตประกอบการสำหรับกิจการที่เป็นอันตรายต่อสุขภาพ | R21: 412303 | S21: 5000 | T21: 3100
A22: (10) ค่าใบอนุญาตจัดตั้งสถานที่จำหน่ายอาหารซึ่งมีพื้นที่เกิน 200 ตร.ม. | B22: 412304 | C22: 1600 | D22: 0 | E22: (10) ค่าใบอนุญาตจัดตั้งสถานที่จำหน่ายอาหารซึ่งมีพื้นที่เกิน 200 ตร.ม. | F22: 412304 | G22: 1600 | H22: 0 | I22: (10) ค่าใบอนุญาตจัดตั้งสถานที่จำหน่ายอาหารซึ่งมีพื้นที่เกิน 200 ตร.ม. | J22: 412304 | K22: 1600 | L22: 0 | M22: (10) ค่าใบอนุญาตจัดตั้งสถานที่จำหน่ายอาหารซึ่งมีพื้นที่เกิน 200 ตร.ม. | N22: 412304 | O22: 1600 | P22: 0 | Q22: (10) ค่าใบอนุญาตจัดตั้งสถานที่จำหน่ายอาหารซึ่งมีพื้นที่เกิน 200 ตร.ม. | R22: 412304 | S22: 1600 | T22: 0
A23: (11) ค่าใบอนุญาตจัดตั้งตลาดเอกชน | B23: 412306 | C23: 3000 | D23: 0 | E23: (11) ค่าใบอนุญาตจัดตั้งตลาดเอกชน | F23: 412306 | G23: 3000 | H23: 0 | I23: (11) ค่าใบอนุญาตจัดตั้งตลาดเอกชน | J23: 412306 | K23: 3000 | L23: 0 | M23: (11) ค่าใบอนุญาตจัดตั้งตลาดเอกชน | N23: 412306 | O23: 3000 | P23: 0 | Q23: (11) ค่าใบอนุญาตจัดตั้งตลาดเอกชน | R23: 412306 | S23: 3000 | T23: 0
A24: (12) ค่าใบอนุญาตเกี่ยวกับการควบคุมอาคาร | B24: 412307 | C24: 2000 | D24: 71.75 | E24: (12) ค่าใบอนุญาตเกี่ยวกับการควบคุมอาคาร | F24: 412307 | G24: 2000 | H24: 176.15 | I24: (12) ค่าใบอนุญาตเกี่ยวกับการควบคุมอาคาร | J24: 412307 | K24: 2000 | L24: 518.5 | M24: (12) ค่าใบอนุญาตเกี่ยวกับการควบคุมอาคาร | N24: 412307 | O24: 2000 | P24: 607.5 | Q24: (12) ค่าใบอนุญาตเกี่ยวกับการควบคุมอาคาร | R24: 412307 | S24: 2000 | T24: 687.22
A25: รวม | C25: =SUM(C13:C24) -> 272200 | D25: =SUM(D13:D24) -> 22491.75 | E25: รวม | G25: =SUM(G13:G24) -> 272200 | H25: =SUM(H13:H24) -> 41421.15 | I25: รวม | K25: =SUM(K13:K24) -> 272200 | L25: =SUM(L13:L24) -> 64963.5 | M25: รวม | O25: =SUM(O13:O24) -> 272200 | P25: =SUM(P13:P24) -> 80281.9 | Q25: รวม | S25: =SUM(S13:S24) -> 272200 | T25: =SUM(T13:T24) -> 94028.82
A26: หมวดรายได้จากทรัพย์สิน | B26: 413000 | E26: หมวดรายได้จากทรัพย์สิน | F26: 413000 | I26: หมวดรายได้จากทรัพย์สิน | J26: 413000 | M26: หมวดรายได้จากทรัพย์สิน | N26: 413000 | Q26: หมวดรายได้จากทรัพย์สิน | R26: 413000
A27: (1) ค่าเช่าหรือบริการสถานที่ | B27: 413002 | C27: 500 | D27: =SUM(งบดุลบัญชี!H74) -> 0 | E27: (1) ค่าเช่าหรือบริการสถานที่ | F27: 413002 | G27: 500 | H27: =SUM(งบดุลบัญชี!L74) -> 0 | I27: (1) ค่าเช่าหรือบริการสถานที่ | J27: 413002 | K27: 500 | L27: =SUM(งบดุลบัญชี!P74) -> 0 | M27: (1) ค่าเช่าหรือบริการสถานที่ | N27: 413002 | O27: 500 | P27: =SUM(งบดุลบัญชี!T74) -> 0 | Q27: (1) ค่าเช่าหรือบริการสถานที่ | R27: 413002 | S27: 500 | T27: =SUM(งบดุลบัญชี!X74) -> 0
A28: (2) ดอกเบี้ยเงินฝากธนาคาร | B28: 413003 | C28: 300000 | D28: =SUM(งบดุลบัญชี!H75) -> 0 | E28: (2) ดอกเบี้ยเงินฝากธนาคาร | F28: 413003 | G28: 300000 | H28: =SUM(งบดุลบัญชี!L75) -> 0 | I28: (2) ดอกเบี้ยเงินฝากธนาคาร | J28: 413003 | K28: 300000 | L28: =SUM(งบดุลบัญชี!P75) -> 0 | M28: (2) ดอกเบี้ยเงินฝากธนาคาร | N28: 413003 | O28: 300000 | P28: 100021.11 | Q28: (2) ดอกเบี้ยเงินฝากธนาคาร | R28: 413003 | S28: 300000 | T28: 100021.11
A29: (3) ดอกเบี้ยเงินฝาก กสท. | B29: 413003 | C29: 0 | D29: =SUM(งบดุลบัญชี!H76) -> 0 | E29: (3) ดอกเบี้ยเงินฝาก กสท. | F29: 413003 | G29: 0 | H29: =SUM(งบดุลบัญชี!L76) -> 0 | I29: (3) ดอกเบี้ยเงินฝาก กสท. | J29: 413003 | K29: 0 | L29: =SUM(งบดุลบัญชี!P76) -> 0 | M29: (3) ดอกเบี้ยเงินฝาก กสท. | N29: 413003 | O29: 0 | P29: 0 | Q29: (3) ดอกเบี้ยเงินฝาก กสท. | R29: 413003 | S29: 0 | T29: 0
A30: รวม | C30: =SUM(C27:C29) -> 300500 | D30: =SUM(D27:D29) -> 0 | E30: รวม | G30: =SUM(G27:G29) -> 300500 | H30: =SUM(H27:H29) -> 0 | I30: รวม | K30: =SUM(K27:K29) -> 300500 | L30: =SUM(L27:L29) -> 0 | M30: รวม | O30: =SUM(O27:O29) -> 300500 | P30: =SUM(P27:P29) -> 100021.11 | Q30: รวม | S30: =SUM(S27:S29) -> 300500 | T30: =SUM(T27:T29) -> 100021.11
A31: หมวดรายได้จากสาธารณูปโภคและการพาณิชย์ | E31: หมวดรายได้จากสาธารณูปโภคและการพาณิชย์ | I31: หมวดรายได้จากสาธารณูปโภคและการพาณิชย์ | M31: หมวดรายได้จากสาธารณูปโภคและการพาณิชย์ | Q31: หมวดรายได้จากสาธารณูปโภคและการพาณิชย์
A32: (1) รายได้จากสาธารณูปโภคและการพาณิชย์ | B32: 414999 | C32: 300000 | D32: 21545 | E32: (1) รายได้จากสาธารณูปโภคและการพาณิชย์ | F32: 414999 | G32: 300000 | H32: 53080 | I32: (1) รายได้จากสาธารณูปโภคและการพาณิชย์ | J32: 414999 | K32: 300000 | L32: 72715 | M32: (1) รายได้จากสาธารณูปโภคและการพาณิชย์ | N32: 414999 | O32: 300000 | P32: 102635 | Q32: (1) รายได้จากสาธารณูปโภคและการพาณิชย์ | R32: 414999 | S32: 300000 | T32: 121145
A33: รวม | C33: =SUM(C32) -> 300000 | D33: =SUM(D32) -> 21545 | E33: รวม | G33: =SUM(G32) -> 300000 | H33: =SUM(H32) -> 53080 | I33: รวม | K33: =SUM(K32) -> 300000 | L33: =SUM(L32) -> 72715 | M33: รวม | O33: =SUM(O32) -> 300000 | P33: =SUM(P32) -> 102635 | Q33: รวม | S33: =SUM(S32) -> 300000 | T33: =SUM(T32) -> 121145
A34: หมวดรายได้เบ็ดเตล็ด | B34: 415000 | E34: หมวดรายได้เบ็ดเตล็ด | F34: 415000 | I34: หมวดรายได้เบ็ดเตล็ด | J34: 415000 | M34: หมวดรายได้เบ็ดเตล็ด | N34: 415000 | Q34: หมวดรายได้เบ็ดเตล็ด | R34: 415000
A35: (1) ค่าขายแบบแปลน | B35: 415004 | C35: 50000 | D35: 0 | E35: (1) ค่าขายแบบแปลน | F35: 415004 | G35: 50000 | H35: 29500 | I35: (1) ค่าขายแบบแปลน | J35: 415004 | K35: 50000 | L35: 34500 | M35: (1) ค่าขายแบบแปลน | N35: 415004 | O35: 50000 | P35: 34500 | Q35: (1) ค่าขายแบบแปลน | R35: 415004 | S35: 50000 | T35: 34500
A36: (2) รายได้เบ็ดเตล็ดอื่น | B36: 415999 | C36: 10000 | D36: 108 | E36: (2) รายได้เบ็ดเตล็ดอื่น | F36: 415999 | G36: 10000 | H36: 1148 | I36: (2) รายได้เบ็ดเตล็ดอื่น | J36: 415999 | K36: 10000 | L36: 2708 | M36: (2) รายได้เบ็ดเตล็ดอื่น | N36: 415999 | O36: 10000 | P36: 4918 | Q36: (2) รายได้เบ็ดเตล็ดอื่น | R36: 415999 | S36: 10000 | T36: 203350.92
A37: รวม | C37: =SUM(C35:C36) -> 60000 | D37: =SUM(D35:D36) -> 108 | E37: รวม | G37: =SUM(G35:G36) -> 60000 | H37: =SUM(H35:H36) -> 30648 | I37: รวม | K37: =SUM(K35:K36) -> 60000 | L37: =SUM(L35:L36) -> 37208 | M37: รวม | O37: =SUM(O35:O36) -> 60000 | P37: =SUM(P35:P36) -> 39418 | Q37: รวม | S37: =SUM(S35:S36) -> 60000 | T37: =SUM(T35:T36) -> 237850.92
A38: หมวดรายได้จากทุน | B38: 416000 | E38: หมวดรายได้จากทุน | F38: 416000 | I38: หมวดรายได้จากทุน | J38: 416000 | M38: หมวดรายได้จากทุน | N38: 416000 | Q38: หมวดรายได้จากทุน | R38: 416000
A39: (1) ค่าขายทอดตลาดทรัพย์สิน | B39: 416001 | C39: 15000 | D39: 0 | E39: (1) ค่าขายทอดตลาดทรัพย์สิน | F39: 416001 | G39: 15000 | H39: 0 | I39: (1) ค่าขายทอดตลาดทรัพย์สิน | J39: 416001 | K39: 15000 | L39: 0 | M39: (1) ค่าขายทอดตลาดทรัพย์สิน | N39: 416001 | O39: 15000 | P39: 0 | Q39: (1) ค่าขายทอดตลาดทรัพย์สิน | R39: 416001 | S39: 15000 | T39: 0
A40: รวม | C40: =SUM(C39) -> 15000 | D40: =SUM(D39) -> 0 | E40: รวม | G40: =SUM(G39) -> 15000 | H40: =SUM(H39) -> 0 | I40: รวม | K40: =SUM(K39) -> 15000 | L40: =SUM(L39) -> 0 | M40: รวม | O40: =SUM(O39) -> 15000 | P40: =SUM(P39) -> 0 | Q40: รวม | S40: =SUM(S39) -> 15000 | T40: =SUM(T39) -> 0
...

Sheet หมายเหตุ 2, 3 ประกอบงบ
A1: เทศบาลตำบลเขาพระ อำเภอพิปูน จังหวัดนครศรีธรรมราช
A2: รายละเอียด ประกอบงบทดลองและรายงานรับ-จ่ายเงิน
A3: ณ วันที่ 31 ตุลาคม 2558
A4: รายจ่ายค้างจ่าย (หมายเหตุ 2)
B5: หมวดที่จ่าย | F5: จำนวนเงิน
B6: ค่าวัสดุ | F6: 1012504
B7: ค่าครุภัณฑ์ | F7: 10500
E8: รวม | F8: =SUM(F6:F7) -> 1023004
A10: เงินรับฝาก (หมายเหตุ 3)
F11: จำนวนเงิน
B12: ภาษีหัก ณ ที่จ่าย | F12: 11632.19
B13: ค่าใช้จ่ายในการจัดเก็บภาษีบำรุงท้องที่ | F13: 5755.16
B14: เงินประกันสัญญา | F14: 764932
B15: ค่าตอบแทนแพทย์ระบบฉุกเฉิน (EMS) | F15: 56100
B16: เงินทุนโครงการเศรษฐกิจชุมชน | F16: 278051.55
B17: ค่าตอบแทน /เงินปันผลสหกรณ์ | F17: 0
B18: ค่ารักษาพยาบาล | F18: 50
E19: รวม | F19: =SUM(F12:F18) -> 1116520.9
A22: เทศบาลตำบลเขาพระ อำเภอพิปูน จังหวัดนครศรีธรรมราช
A23: รายละเอียด ประกอบงบทดลองและรายงานรับ-จ่ายเงิน
A24: ณ วันที่ 30 พฤศจิกายน 2558
A25: รายจ่ายค้างจ่าย (หมายเหตุ 2)
B26: หมวดที่จ่าย | F26: จำนวนเงิน
B27: ค่าวัสดุ
B28: ค่าครุภัณฑ์
B29: ที่ดินและสิ่งก่อสร้าง | F29: =49000+154560+228000+231200+107000+118683+334000 -> 1222443
B30: รายจ่ายอื่น | F30: 25000
E31: รวม | F31: =SUM(F27:F30) -> 1247443 | G31: =1247443-F31 -> 0
A33: เงินรับฝาก (หมายเหตุ 3)
F34: จำนวนเงิน
B35: ภาษีหัก ณ ที่จ่าย | F35: 16064.85
B36: ค่าใช้จ่ายในการจัดเก็บภาษีบำรุงท้องที่ | F36: 5755.16
B37: เงินประกันสัญญา | F37: 763349
B38: ค่าตอบแทนแพทย์ระบบฉุกเฉิน (EMS) | F38: 56100
B39: เงินทุนโครงการเศรษฐกิจชุมชน | F39: 278051.55
B40: ค่าตอบแทน /เงินปันผลสหกรณ์ | F40: 0
B41: ค่ารักษาพยาบาล | F41: 50
E42: รวม | F42: =SUM(F35:F41) -> 1119370.6
A44: เทศบาลตำบลเขาพระ อำเภอพิปูน จังหวัดนครศรีธรรมราช
A45: รายละเอียด ประกอบงบทดลองและรายงานรับ-จ่ายเงิน
...

Sheet กระดาษทำการกระทบยอด
A1: เทศบาลตำบลเขาพระ อำเภอพิปูน จังหวัดนครศรีธรรมราช | P1: =+A1 -> เทศบาลตำบลเขาพระ อำเภอพิปูน จังหวัดนครศรีธรรมราช
A2: กระดาษทำการกระทบยอดรายจ่ายตามงบประมาณ (จ่ายจากรายรับ) | P2: กระดาษทำการกระทบยอดรายจ่ายตามงบประมาณ (จ่ายจากรายรับ)
A3: ประจำเดือน ตุลาคม 2558 | P3: ประจำเดือน ตุลาคม 2558
A4: แผนงาน | C4: 00110 | E4: 00120 | G4: 00210 | I4: 00220 | K4: 00230 | L4: 00240 | P4: 00250 | R4: 00260 | U4: 00320 | W4: 00330 | X4: 00410 | Y4: รวม
A5: หมวด/ประเภทรายจ่าย | C5: 00111 | D5: 00113 | E5: 00121 | F5: 00123 | G5: 00211 | H5: 00212 | I5: 00221 | J5: 00223 | K5: 00232 | L5: 00241 | M5: 00242 | N5: 00244 | O5: 00245 | P5: 00251 | Q5: 00252 | R5: 00262 | S5: 00263 | T5: 00264 | U5: 00321 | V5: 00322 | W5: 00332 | X5: 00411
A6: 100000 งบกลาง
A7: 110100 | B7: ค่าชำระหนี้เงินต้น | Y7: =SUM(C7:X7) -> 0
A8: 110200 | B8: ค่าชำระดอกเบี้ย | Y8: =SUM(C8:X8) -> 0
A9: 110300 | B9: เงินสมทบประกันสังคม | X9: 14350 | Y9: =SUM(C9:X9) -> 14350
A10: 110700 | B10: เบี้ยยังชีพคนชรา | Y10: =SUM(C10:X10) -> 0
A11: 110800 | B11: เบี้ยยังชีพผู้พิการ | Y11: =SUM(C11:X11) -> 0
A12: 110900 | B12: เบี้ยยังชีพผู้ป่วยเอดส์ | X12: 7500 | Y12: =SUM(C12:X12) -> 7500
A13: 111000 | B13: เงินสำรองจ่าย | Y13: =SUM(C13:X13) -> 0
A14: 111100 | B14: เงินสมทบ สปสช./กองทุนสวัสดิการชุมชน | Y14: =SUM(C14:X14) -> 0
A15: 111100 | B15: ค่าบำรุงสันนิบาตเทศบาลแห่งประเทศไทย | Y15: =SUM(C15:X15) -> 0
A16: 120100 | B16: เงินสมทบ กบท. | Y16: =SUM(C16:X16) -> 0
A17: รวมเดือนนี้ | C17: =SUM(C7:C16) -> 0 | D17: =SUM(D7:D16) -> 0 | E17: =SUM(E7:E16) -> 0 | F17: =SUM(F7:F16) -> 0 | G17: =SUM(G7:G16) -> 0 | H17: =SUM(H7:H16) -> 0 | I17: =SUM(I7:I16) -> 0 | J17: =SUM(J7:J16) -> 0 | ... X17: =SUM(X7:X16) -> 21850 | Y17: =SUM(C17:X17) -> 21850
A18: รวมตั้งแต่ต้นปี | C18: =+C17 -> 0 | D18: =+D17 -> 0 | E18: =+E17 -> 0 | F18: =+F17 -> 0 | G18: =+G17 -> 0 | H18: =+H17 -> 0 | I18: =+I17 -> 0 | J18: =+J17 -> 0 | ... Y18: =+Y17 -> 21850
A19: 210000 เงินเดือนฝ่ายการเมือง | Y19: =SUM(C19:X19) -> 0
A20: 210100 | B20: เงินเดือนนายก/รองนายก | C20: 57960 | D20: 0 | L20: 0 | Y20: =SUM(C20:X20) -> 57960
A21: 210200 | B21: เงินประจำตำแหน่งนายก/รองนายก | C21: 10000 | Y21: =SUM(C21:X21) -> 10000
A22: 210300 | B22: ค่าตอบแทนพิเศษนายก/รองนายก | C22: 10000 | Y22: =SUM(C22:X22) -> 10000
A23: 210400 | B23: ค่าตอบแทนเลขาฯ/ที่ปรึกษา | C23: 16560 | Y23: =SUM(C23:X23) -> 16560
A24: 210600 | B24: ค่าตอบแทนสมาชิก | C24: 124200 | Y24: =SUM(C24:X24) -> 124200
A25: รวมเดือนนี้ | C25: =SUM(C20:C24) -> 218720 | D25: =SUM(D19:D24) -> 0 | E25: =SUM(E19:E24) -> 0 | F25: =SUM(F19:F24) -> 0 | G25: =SUM(G19:G24) -> 0 | H25: =SUM(H19:H24) -> 0 | I25: =SUM(I19:I24) -> 0 | J25: =SUM(J19:J24) -> 0 | K25: =SUM(K19:K24) -> 0 | ... S25: =SUM(S19:S24) -> 0 | U25: =SUM(U19:U24) -> 0 | V25: =SUM(V19:V24) -> 0 | W25: =SUM(W19:W24) -> 0 | X25: =SUM(X19:X24) -> 0 | Y25: =SUM(C25:X25) -> 218720
A26: รวมตั้งแต่ต้นปี | C26: =+C25 -> 218720 | D26: =+D25 -> 0 | E26: =+E25 -> 0 | F26: =+F25 -> 0 | G26: =+G25 -> 0 | H26: =+H25 -> 0 | I26: =+I25 -> 0 | J26: =+J25 -> 0 | ... Y26: =+Y25 -> 218720
A27: 220000 เงินเดือนฝ่ายประจำ | Y27: =SUM(C27:X27) -> 0
A28: 220100 | B28: เงินเดือนพนักงานเทศบาล | C28: 160727 | D28: 75191.61 | E28: 21880 | G28: 23370 | L28: 50950 | P28: 18950 | Y28: =SUM(C28:X28) -> 351068.61
A29: 220200 | B29: เงินเพิ่มพนักงานเทศบาล | C29: 5600 | D29: 550 | Y29: =SUM(C29:X29) -> 6150
A30: 220300 | B30: เงินประจำตำแหน่ง | C30: 9100 | Y30: =SUM(C30:X30) -> 9100
A31: 220500 | B31: ค่าจ้างประจำ | D31: 32710 | Y31: =SUM(C31:X31) -> 32710
A32: 220600 | B32: เงินเพิ่มลูกจ้างประจำ | C32: 0 | D32: 0 | L32: 0 | Y32: =SUM(C32:X32) -> 0
A33: แผนงาน | C33: 00110 | E33: 00120 | G33: 00210 | I33: 00220 | K33: 00230 | L33: 00240 | P33: 00250 | R33: 00260 | U33: 00320 | W33: 00330 | X33: 00410 | Y33: รวม
A34: หมวด/ประเภทรายจ่าย | C34: 00111 | D34: 00113 | E34: 00121 | F34: 00123 | G34: 00211 | H34: 00212 | I34: 00221 | J34: 00223 | K34: 00232 | L34: 00241 | M34: 00242 | N34: 00244 | O34: 00245 | P34: 00251 | Q34: 00252 | R34: 00262 | S34: 00263 | T34: 00264 | U34: 00321 | V34: 00322 | W34: 00332 | X34: 00411
A35: 220700 | B35: ค่าจ้างพนักงานจ้าง | C35: 105280 | D35: 31550 | E35: 9400 | G35: 44100 | I35: 37410 | L35: 42870 | P35: 34021 | Y35: =SUM(C35:X35) -> 304631
A36: 220800 | B36: เงินเพิ่มพนักงานจ้าง | C36: 13000 | D36: 2000 | E36: 2000 | G36: 1000 | I36: 2000 | L36: 7000 | P36: 2000 | Y36: =SUM(C36:X36) -> 29000
A37: รวมเดือนนี้ | C37: =SUM(C27:C36) -> 293707 | D37: =SUM(D27:D36) -> 142001.61 | E37: =SUM(E27:E36) -> 33280 | F37: =SUM(F27:F36) -> 0 | G37: =SUM(G27:G36) -> 68470 | H37: =SUM(H27:H36) -> 0 | I37: =SUM(I27:I36) -> 39410 | J37: =SUM(J27:J36) -> 0 | ... Y37: =SUM(Y27:Y36) -> 732659.61
A38: รวมตั้งแต่ต้นปี | C38: =+C37 -> 293707 | D38: =+D37 -> 142001.61 | E38: =+E37 -> 33280 | F38: =+F37 -> 0 | G38: =+G37 -> 68470 | H38: =+H37 -> 0 | I38: =+I37 -> 39410 | J38: =+J37 -> 0 | ... Y38: =+Y37 -> 732659.61
A39: 310000 ค่าตอบแทน | Y39: =SUM(C39:X39) -> 0
A40: 310100 | B40: ค่าตอบแทนผู้ปฏิบัติฯ | Y40: =SUM(C40:X40) -> 0
...

Sheet กระดาษทำการเงินกู้
A1: เทศบาลตำบลเขาพระ อำเภอพิปูน จังหวัดนครศรีธรรมราช | P1: =+A1 -> เทศบาลตำบลเขาพระ อำเภอพิปูน จังหวัดนครศรีธรรมราช
